Workbook

Sheet Hướng dẫn
A1: HƯỚNG DẪN CHUNG CHO BỘ BIỂU MẪU TÍNH KHỐI LƯỢNG GIẢNG VIÊN
A2: I. YÊU CẦU BẮT BUỘC
A3: - Các dữ liệu của bộ biểu mẫu phải được ghép lại thành 1 file excel duy nhất, trong đó từng sheet là một mẫu tính khác nhau.
A4: - Trong các bảng tổng hợp mẫu A1,2 & các mẫu B: thứ tự tên GV giữa các bảng phải giống nhau.
A5: II. BỘ MẪU A
A6: + Mẫu A1: Bảng tính khối lượng công việc của Giảng viên trong năm học.
A7: Từ Bảng tính khối lượng công việc của Giảng viên trong năm học 2014-2015 Phòng TS-ĐT-GTVL đã gửi mẫu cho các khoa: Coppy dữ liệu khoa đã có sẳn dán vào các cột (2), (3), (4), (5), (6), (7), (8), (9), (11), (12), (14), (16), (17), (18) và cột (22) nếu có
A8: - Cột (8), (9): Hệ số = Hệ số thứ nhất x Hệ số thứ hai x Hệ số thứ ..., không kể hệ số quy đổi TH sang tiết chuẩn.
A9: - Không nhập số liệu ở Cột (10), (13), (15), (19), (20), (21) và Cột (23). Vì đây là cột công thức đã được cài sẵn.
A10: - Các cột được tô màu: Điền đầy đủ thông tin (bắt buộc). Phải ẩn (Hide) trước khi in.
A11: + Mẫu A2: Bảng tổng kết khối lượng công việc của Giảng viên trong năm học
A12: - Không nhập số liệu: Các cột đã được cài công thức chuyển dữ liệu từ mẫu A1 sang.
... A33: LƯU Ý: Trong quá trình thao tác trên các biểu mẫu, nếu có thắc mắc xin liên hệ qua địa chỉ egov hoặc Phòng TS-Đào tạo-GTVL (gặp Cô Thơ).

Sheet Mau A1
AB1: Mẫu A1
A2: UBND THÀNH PHỐ HỒ CHÍ MINH | V2: CỘNG HÒA XÃ HỘI CHỦ NGHĨA VIỆT NAM
A3: TRƯỜNG CAO ĐẲNG KỸ THUẬT LÝ TỰ TRỌNG TP. HỒ CHÍ MINH | V3: Độc lập - Tự do - Hạnh phúc
A4: BẢNG TÍNH KHỐI LƯỢNG CÔNG VIỆC CỦA GIẢNG VIÊN TRONG NĂM HỌC 2014 - 2015
A5: KHOA : CÔNG NGHỆ ĐIỆN - ĐIỆN TỬ
A7: TT | B7: Họ và Tên | D7: Môn dạy | E7: lớp dạy | F7: Học kỳ | G7: Thực hiện trong năm học | S7: Số tiết chuẩn giảng dạy cả năm | T7: Số tiết chuẩn giảng dạy cả năm còn lại | U7: Số giờ chuẩn NCKH cả năm | V7: Số giờ chuẩn NCKH còn lại | W7: Số giờ chuẩn "Hoạt động chuyên môn và khối lượng khác" | X7: Số giờ chuẩn "Hoạt động chuyên môn và khối lượng khác" còn lại | Y7: Số tiết thừa, thiếu giảng dạy | Z7: Số tiết thừa, thiếu NCKH | AA7: Số tiết thừa, thiếu "Hoạt động chuyên môn và khối lượng khác" | AB7: Số tiết thừa năm học 2013-2014 | AC7: Tổng số tiết thừa, thiếu năm học 2014-2015
G8: Chưa nhân hệ số | I8: Sĩ số | K8: Hệ số | M8: Số tiết quy đổi và đã nhân hệ số | N8: Kiêm nhiệm | O8: Khối lượng công tác cộng thêm | P8: Tổng tiết thực hiện | Q8: Số giờ NCKH | R8: Số giờ "Hoạt động chuyên môn và khối lượng khác"
G9: LT | H9: TH | I9: Chính thức | J9: Học lại | K9: LT | L9: TH
A10: (1) | B10: (2) | D10: (3) | E10: (4) | F10: (5) | G10: (6) | H10: (7) | K10: (8) | L10: (9) | M10: (10) | N10: (11) | O10: (12) | P10: (13) | Q10: (14) | R10: (15) | T10: (16) | V10: (17) | X10: (18) | Y10: (19) | Z10: (20) | AA10: (21) | AB10: (22) | AC10: (23)
A11: 1 | B11: ='[1]danh sach'!B11 -> Hồ Thị | C11: ='[1]danh sach'!C11 -> Anh | D11: ĐL&MĐ | E11: 14CĐ.Đ2 | F11: 1 | G11: 75 | I11: 56 | K11: =IF(G11=0,"",IF(AND(OR(LEFT(E11,4)="13CĐ",LEFT(E11,4)="14CĐ"),(I11+J11)>70),1.2*1.1,IF(AND(OR(LEFT(E11,4)="13CĐ",LEFT(E11,4)="14CĐ"),(I11+J11)>=60),1.1*1.1,IF(OR(LEFT(E11,4)="13CĐ",LEFT(E11,4)="14CĐ"),1.1,IF((I11+J11)>70,1.2,IF((I11+J11)>=60,1.1,1)))))) -> 1.1 | L11: =IF(H11=0,"",IF(AND(OR(LEFT(E11,4)="13CĐ",LEFT(E11,4)="14CĐ"),(I11+J11)>35),1.2*1.1,IF(AND(OR(LEFT(E11,4)="13CĐ",LEFT(E11,4)="14CĐ"),(I11+J11)>=30),1.1*1.1,IF(OR(LEFT(E11,4)="13CĐ",LEFT(E11,4)="14CĐ"),1.1,IF((I11+J11)>35,1.2,IF((I11+J11)>=30,1.1,1)))))) | M11: =ROUND(IF(G11>0,G11*K11,"0")+IF(H11>0,(H11/1.5)*L11,"0"),1) -> 82.5 | N11: ='[2]danh sach'!O11 -> 46.5 | P11: =SUM(M11:M30)+N11+O11 -> 376.1 | Q11: 680 | R11: ='Mau B2'!L11 -> 248 | S11: ='[2]danh sach'!J11 -> 310 | T11: ='[3]danh sach'!R10 -> 263.5 | U11: 500 | V11: =U11 -> 500 | W11: 360 | X11: =W11 -> 360 | Y11: =ROUND((P11-T11),1) -> 112.6 | Z11: =IF(OR(SUM(V11:V30)="",SUM(Q11:Q30)=""),0,ROUND(IF(SUM(U11:U30)=500,(SUM(Q11:Q30)-SUM(V11:V30))/3.2,IF(SUM(U11:U30)=600,(SUM(Q11:Q30)-SUM(V11:V30))/2.8,0)),1)) -> 56.3 | AA11: =IF(OR(SUM(X11:X30)="",SUM(R11:R30)=""),0,ROUND(IF(SUM(W11:W30)=360,(SUM(R11:R30)-SUM(X11:X30))/3.2,IF(SUM(W11:W30)=260,(SUM(R11:R30)-SUM(X11:X30))/2.8,0)),1)) -> -35 | AB11: 36.4 | AC11: =SUM(Y11:AA30) -> 133.9 | AD11: ĐCN
D12: ĐL&MĐ | E12: 14CĐ.ĐT1 | F12: 1 | G12: 75 | I12: 58 | K12: =IF(G12=0,"",IF(AND(OR(LEFT(E12,4)="13CĐ",LEFT(E12,4)="14CĐ"),(I12+J12)>70),1.2*1.1,IF(AND(OR(LEFT(E12,4)="13CĐ",LEFT(E12,4)="14CĐ"),(I12+J12)>=60),1.1*1.1,IF(OR(LEFT(E12,4)="13CĐ",LEFT(E12,4)="14CĐ"),1.1,IF((I12+J12)>70,1.2,IF((I12+J12)>=60,1.1,1)))))) -> 1.1 | L12: =IF(H12=0,"",IF(AND(OR(LEFT(E12,4)="13CĐ",LEFT(E12,4)="14CĐ"),(I12+J12)>35),1.2*1.1,IF(AND(OR(LEFT(E12,4)="13CĐ",LEFT(E12,4)="14CĐ"),(I12+J12)>=30),1.1*1.1,IF(OR(LEFT(E12,4)="13CĐ",LEFT(E12,4)="14CĐ"),1.1,IF((I12+J12)>35,1.2,IF((I12+J12)>=30,1.1,1)))))) | M12: =ROUND(IF(G12>0,G12*K12,"0")+IF(H12>0,(H12/1.5)*L12,"0"),1) -> 82.5
D13: An toàn điện | E13: 14CĐ.Đ1 | F13: 1 | G13: 30 | I13: 57 | K13: =IF(G13=0,"",IF(AND(OR(LEFT(E13,4)="13CĐ",LEFT(E13,4)="14CĐ"),(I13+J13)>70),1.2*1.1,IF(AND(OR(LEFT(E13,4)="13CĐ",LEFT(E13,4)="14CĐ"),(I13+J13)>=60),1.1*1.1,IF(OR(LEFT(E13,4)="13CĐ",LEFT(E13,4)="14CĐ"),1.1,IF((I13+J13)>70,1.2,IF((I13+J13)>=60,1.1,1)))))) -> 1.1 | L13: =IF(H13=0,"",IF(AND(OR(LEFT(E13,4)="13CĐ",LEFT(E13,4)="14CĐ"),(I13+J13)>35),1.2*1.1,IF(AND(OR(LEFT(E13,4)="13CĐ",LEFT(E13,4)="14CĐ"),(I13+J13)>=30),1.1*1.1,IF(OR(LEFT(E13,4)="13CĐ",LEFT(E13,4)="14CĐ"),1.1,IF((I13+J13)>35,1.2,IF((I13+J13)>=30,1.1,1)))))) | M13: =ROUND(IF(G13>0,G13*K13,"0")+IF(H13>0,(H13/1.5)*L13,"0"),1) -> 33
D14: An toàn điện | E14: 14CĐ.Đ2 | F14: 1 | G14: 30 | I14: 56 | K14: =IF(G14=0,"",IF(AND(OR(LEFT(E14,4)="13CĐ",LEFT(E14,4)="14CĐ"),(I14+J14)>70),1.2*1.1,IF(AND(OR(LEFT(E14,4)="13CĐ",LEFT(E14,4)="14CĐ"),(I14+J14)>=60),1.1*1.1,IF(OR(LEFT(E14,4)="13CĐ",LEFT(E14,4)="14CĐ"),1.1,IF((I14+J14)>70,1.2,IF((I14+J14)>=60,1.1,1)))))) -> 1.1 | L14: =IF(H14=0,"",IF(AND(OR(LEFT(E14,4)="13CĐ",LEFT(E14,4)="14CĐ"),(I14+J14)>35),1.2*1.1,IF(AND(OR(LEFT(E14,4)="13CĐ",LEFT(E14,4)="14CĐ"),(I14+J14)>=30),1.1*1.1,IF(OR(LEFT(E14,4)="13CĐ",LEFT(E14,4)="14CĐ"),1.1,IF((I14+J14)>35,1.2,IF((I14+J14)>=30,1.1,1)))))) | M14: =ROUND(IF(G14>0,G14*K14,"0")+IF(H14>0,(H14/1.5)*L14,"0"),1) -> 33
D15: An toàn điện | E15: 14CĐ.ĐT1 | F15: 1 | G15: 30 | I15: 59 | K15: =IF(G15=0,"",IF(AND(OR(LEFT(E15,4)="13CĐ",LEFT(E15,4)="14CĐ"),(I15+J15)>70),1.2*1.1,IF(AND(OR(LEFT(E15,4)="13CĐ",LEFT(E15,4)="14CĐ"),(I15+J15)>=60),1.1*1.1,IF(OR(LEFT(E15,4)="13CĐ",LEFT(E15,4)="14CĐ"),1.1,IF((I15+J15)>70,1.2,IF((I15+J15)>=60,1.1,1)))))) -> 1.1 | L15: =IF(H15=0,"",IF(AND(OR(LEFT(E15,4)="13CĐ",LEFT(E15,4)="14CĐ"),(I15+J15)>35),1.2*1.1,IF(AND(OR(LEFT(E15,4)="13CĐ",LEFT(E15,4)="14CĐ"),(I15+J15)>=30),1.1*1.1,IF(OR(LEFT(E15,4)="13CĐ",LEFT(E15,4)="14CĐ"),1.1,IF((I15+J15)>35,1.2,IF((I15+J15)>=30,1.1,1)))))) | M15: =ROUND(IF(G15>0,G15*K15,"0")+IF(H15>0,(H15/1.5)*L15,"0"),1) -> 33
D16: LT mạch điện | E16: 14TC.ĐT | F16: 1 | G16: 60 | I16: 18 | K16: =IF(G16=0,"",IF(AND(OR(LEFT(E16,4)="13CĐ",LEFT(E16,4)="14CĐ"),(I16+J16)>70),1.2*1.1,IF(AND(OR(LEFT(E16,4)="13CĐ",LEFT(E16,4)="14CĐ"),(I16+J16)>=60),1.1*1.1,IF(OR(LEFT(E16,4)="13CĐ",LEFT(E16,4)="14CĐ"),1.1,IF((I16+J16)>70,1.2,IF((I16+J16)>=60,1.1,1)))))) -> 1 | L16: =IF(H16=0,"",IF(AND(OR(LEFT(E16,4)="13CĐ",LEFT(E16,4)="14CĐ"),(I16+J16)>35),1.2*1.1,IF(AND(OR(LEFT(E16,4)="13CĐ",LEFT(E16,4)="14CĐ"),(I16+J16)>=30),1.1*1.1,IF(OR(LEFT(E16,4)="13CĐ",LEFT(E16,4)="14CĐ"),1.1,IF((I16+J16)>35,1.2,IF((I16+J16)>=30,1.1,1)))))) | M16: =ROUND(IF(G16>0,G16*K16,"0")+IF(H16>0,(H16/1.5)*L16,"0"),1) -> 60
D17: ĐLĐ & CB (dạy tuần 30) | E17: 14TC.ĐT | F17: 2 | G17: 2 | I17: 13 | K17: =IF(G17=0,"",IF(AND(OR(LEFT(E17,4)="13CĐ",LEFT(E17,4)="14CĐ"),(I17+J17)>70),1.2*1.1,IF(AND(OR(LEFT(E17,4)="13CĐ",LEFT(E17,4)="14CĐ"),(I17+J17)>=60),1.1*1.1,IF(OR(LEFT(E17,4)="13CĐ",LEFT(E17,4)="14CĐ"),1.1,IF((I17+J17)>70,1.2,IF((I17+J17)>=60,1.1,1)))))) -> 1 | L17: =IF(H17=0,"",IF(AND(OR(LEFT(E17,4)="13CĐ",LEFT(E17,4)="14CĐ"),(I17+J17)>35),1.2*1.1,IF(AND(OR(LEFT(E17,4)="13CĐ",LEFT(E17,4)="14CĐ"),(I17+J17)>=30),1.1*1.1,IF(OR(LEFT(E17,4)="13CĐ",LEFT(E17,4)="14CĐ"),1.1,IF((I17+J17)>35,1.2,IF((I17+J17)>=30,1.1,1)))))) | M17: =ROUND(IF(G17>0,G17*K17,"0")+IF(H17>0,(H17/1.5)*L17,"0"),1) -> 2
D18: ĐLĐ & CB (Thay cô Lệ 1b 3t) | E18: 14TC.Đ,ĐT | F18: 2 | G18: 3 | I18: 78 | K18: =IF(G18=0,"",IF(AND(OR(LEFT(E18,4)="13CĐ",LEFT(E18,4)="14CĐ"),(I18+J18)>70),1.2*1.1,IF(AND(OR(LEFT(E18,4)="13CĐ",LEFT(E18,4)="14CĐ"),(I18+J18)>=60),1.1*1.1,IF(OR(LEFT(E18,4)="13CĐ",LEFT(E18,4)="14CĐ"),1.1,IF((I18+J18)>70,1.2,IF((I18+J18)>=60,1.1,1)))))) -> 1.2 | L18: =IF(H18=0,"",IF(AND(OR(LEFT(E18,4)="13CĐ",LEFT(E18,4)="14CĐ"),(I18+J18)>35),1.2*1.1,IF(AND(OR(LEFT(E18,4)="13CĐ",LEFT(E18,4)="14CĐ"),(I18+J18)>=30),1.1*1.1,IF(OR(LEFT(E18,4)="13CĐ",LEFT(E18,4)="14CĐ"),1.1,IF((I18+J18)>35,1.2,IF((I18+J18)>=30,1.1,1)))))) | M18: =ROUND(IF(G18>0,G18*K18,"0")+IF(H18>0,(H18/1.5)*L18,"0"),1) -> 3.6
K19: =IF(G19=0,"",IF(AND(OR(LEFT(E19,4)="13CĐ",LEFT(E19,4)="14CĐ"),(I19+J19)>70),1.2*1.1,IF(AND(OR(LEFT(E19,4)="13CĐ",LEFT(E19,4)="14CĐ"),(I19+J19)>=60),1.1*1.1,IF(OR(LEFT(E19,4)="13CĐ",LEFT(E19,4)="14CĐ"),1.1,IF((I19+J19)>70,1.2,IF((I19+J19)>=60,1.1,1)))))) | L19: =IF(H19=0,"",IF(AND(OR(LEFT(E19,4)="13CĐ",LEFT(E19,4)="14CĐ"),(I19+J19)>35),1.2*1.1,IF(AND(OR(LEFT(E19,4)="13CĐ",LEFT(E19,4)="14CĐ"),(I19+J19)>=30),1.1*1.1,IF(OR(LEFT(E19,4)="13CĐ",LEFT(E19,4)="14CĐ"),1.1,IF((I19+J19)>35,1.2,IF((I19+J19)>=30,1.1,1)))))) | M19: =ROUND(IF(G19>0,G19*K19,"0")+IF(H19>0,(H19/1.5)*L19,"0"),1) -> 0
K20: =IF(G20=0,"",IF(AND(OR(LEFT(E20,4)="13CĐ",LEFT(E20,4)="14CĐ"),(I20+J20)>70),1.2*1.1,IF(AND(OR(LEFT(E20,4)="13CĐ",LEFT(E20,4)="14CĐ"),(I20+J20)>=60),1.1*1.1,IF(OR(LEFT(E20,4)="13CĐ",LEFT(E20,4)="14CĐ"),1.1,IF((I20+J20)>70,1.2,IF((I20+J20)>=60,1.1,1)))))) | L20: =IF(H20=0,"",IF(AND(OR(LEFT(E20,4)="13CĐ",LEFT(E20,4)="14CĐ"),(I20+J20)>35),1.2*1.1,IF(AND(OR(LEFT(E20,4)="13CĐ",LEFT(E20,4)="14CĐ"),(I20+J20)>=30),1.1*1.1,IF(OR(LEFT(E20,4)="13CĐ",LEFT(E20,4)="14CĐ"),1.1,IF((I20+J20)>35,1.2,IF((I20+J20)>=30,1.1,1)))))) | M20: =ROUND(IF(G20>0,G20*K20,"0")+IF(H20>0,(H20/1.5)*L20,"0"),1) -> 0
K21: =IF(G21=0,"",IF(AND(OR(LEFT(E21,4)="13CĐ",LEFT(E21,4)="14CĐ"),(I21+J21)>70),1.2*1.1,IF(AND(OR(LEFT(E21,4)="13CĐ",LEFT(E21,4)="14CĐ"),(I21+J21)>=60),1.1*1.1,IF(OR(LEFT(E21,4)="13CĐ",LEFT(E21,4)="14CĐ"),1.1,IF((I21+J21)>70,1.2,IF((I21+J21)>=60,1.1,1)))))) | L21: =IF(H21=0,"",IF(AND(OR(LEFT(E21,4)="13CĐ",LEFT(E21,4)="14CĐ"),(I21+J21)>35),1.2*1.1,IF(AND(OR(LEFT(E21,4)="13CĐ",LEFT(E21,4)="14CĐ"),(I21+J21)>=30),1.1*1.1,IF(OR(LEFT(E21,4)="13CĐ",LEFT(E21,4)="14CĐ"),1.1,IF((I21+J21)>35,1.2,IF((I21+J21)>=30,1.1,1)))))) | M21: =ROUND(IF(G21>0,G21*K21,"0")+IF(H21>0,(H21/1.5)*L21,"0"),1) -> 0
K22: =IF(G22=0,"",IF(AND(OR(LEFT(E22,4)="13CĐ",LEFT(E22,4)="14CĐ"),(I22+J22)>70),1.2*1.1,IF(AND(OR(LEFT(E22,4)="13CĐ",LEFT(E22,4)="14CĐ"),(I22+J22)>=60),1.1*1.1,IF(OR(LEFT(E22,4)="13CĐ",LEFT(E22,4)="14CĐ"),1.1,IF((I22+J22)>70,1.2,IF((I22+J22)>=60,1.1,1)))))) | L22: =IF(H22=0,"",IF(AND(OR(LEFT(E22,4)="13CĐ",LEFT(E22,4)="14CĐ"),(I22+J22)>35),1.2*1.1,IF(AND(OR(LEFT(E22,4)="13CĐ",LEFT(E22,4)="14CĐ"),(I22+J22)>=30),1.1*1.1,IF(OR(LEFT(E22,4)="13CĐ",LEFT(E22,4)="14CĐ"),1.1,IF((I22+J22)>35,1.2,IF((I22+J22)>=30,1.1,1)))))) | M22: =ROUND(IF(G22>0,G22*K22,"0")+IF(H22>0,(H22/1.5)*L22,"0"),1) -> 0
K23: =IF(G23=0,"",IF(AND(OR(LEFT(E23,4)="13CĐ",LEFT(E23,4)="14CĐ"),(I23+J23)>70),1.2*1.1,IF(AND(OR(LEFT(E23,4)="13CĐ",LEFT(E23,4)="14CĐ"),(I23+J23)>=60),1.1*1.1,IF(OR(LEFT(E23,4)="13CĐ",LEFT(E23,4)="14CĐ"),1.1,IF((I23+J23)>70,1.2,IF((I23+J23)>=60,1.1,1)))))) | L23: =IF(H23=0,"",IF(AND(OR(LEFT(E23,4)="13CĐ",LEFT(E23,4)="14CĐ"),(I23+J23)>35),1.2*1.1,IF(AND(OR(LEFT(E23,4)="13CĐ",LEFT(E23,4)="14CĐ"),(I23+J23)>=30),1.1*1.1,IF(OR(LEFT(E23,4)="13CĐ",LEFT(E23,4)="14CĐ"),1.1,IF((I23+J23)>35,1.2,IF((I23+J23)>=30,1.1,1)))))) | M23: =ROUND(IF(G23>0,G23*K23,"0")+IF(H23>0,(H23/1.5)*L23,"0"),1) -> 0
K24: =IF(G24=0,"",IF(AND(OR(LEFT(E24,4)="13CĐ",LEFT(E24,4)="14CĐ"),(I24+J24)>70),1.2*1.1,IF(AND(OR(LEFT(E24,4)="13CĐ",LEFT(E24,4)="14CĐ"),(I24+J24)>=60),1.1*1.1,IF(OR(LEFT(E24,4)="13CĐ",LEFT(E24,4)="14CĐ"),1.1,IF((I24+J24)>70,1.2,IF((I24+J24)>=60,1.1,1)))))) | L24: =IF(H24=0,"",IF(AND(OR(LEFT(E24,4)="13CĐ",LEFT(E24,4)="14CĐ"),(I24+J24)>35),1.2*1.1,IF(AND(OR(LEFT(E24,4)="13CĐ",LEFT(E24,4)="14CĐ"),(I24+J24)>=30),1.1*1.1,IF(OR(LEFT(E24,4)="13CĐ",LEFT(E24,4)="14CĐ"),1.1,IF((I24+J24)>35,1.2,IF((I24+J24)>=30,1.1,1)))))) | M24: =ROUND(IF(G24>0,G24*K24,"0")+IF(H24>0,(H24/1.5)*L24,"0"),1) -> 0
K25: =IF(G25=0,"",IF(AND(OR(LEFT(E25,4)="13CĐ",LEFT(E25,4)="14CĐ"),(I25+J25)>70),1.2*1.1,IF(AND(OR(LEFT(E25,4)="13CĐ",LEFT(E25,4)="14CĐ"),(I25+J25)>=60),1.1*1.1,IF(OR(LEFT(E25,4)="13CĐ",LEFT(E25,4)="14CĐ"),1.1,IF((I25+J25)>70,1.2,IF((I25+J25)>=60,1.1,1)))))) | L25: =IF(H25=0,"",IF(AND(OR(LEFT(E25,4)="13CĐ",LEFT(E25,4)="14CĐ"),(I25+J25)>35),1.2*1.1,IF(AND(OR(LEFT(E25,4)="13CĐ",LEFT(E25,4)="14CĐ"),(I25+J25)>=30),1.1*1.1,IF(OR(LEFT(E25,4)="13CĐ",LEFT(E25,4)="14CĐ"),1.1,IF((I25+J25)>35,1.2,IF((I25+J25)>=30,1.1,1)))))) | M25: =ROUND(IF(G25>0,G25*K25,"0")+IF(H25>0,(H25/1.5)*L25,"0"),1) -> 0
K26: =IF(G26=0,"",IF(AND(OR(LEFT(E26,4)="13CĐ",LEFT(E26,4)="14CĐ"),(I26+J26)>70),1.2*1.1,IF(AND(OR(LEFT(E26,4)="13CĐ",LEFT(E26,4)="14CĐ"),(I26+J26)>=60),1.1*1.1,IF(OR(LEFT(E26,4)="13CĐ",LEFT(E26,4)="14CĐ"),1.1,IF((I26+J26)>70,1.2,IF((I26+J26)>=60,1.1,1)))))) | L26: =IF(H26=0,"",IF(AND(OR(LEFT(E26,4)="13CĐ",LEFT(E26,4)="14CĐ"),(I26+J26)>35),1.2*1.1,IF(AND(OR(LEFT(E26,4)="13CĐ",LEFT(E26,4)="14CĐ"),(I26+J26)>=30),1.1*1.1,IF(OR(LEFT(E26,4)="13CĐ",LEFT(E26,4)="14CĐ"),1.1,IF((I26+J26)>35,1.2,IF((I26+J26)>=30,1.1,1)))))) | M26: =ROUND(IF(G26>0,G26*K26,"0")+IF(H26>0,(H26/1.5)*L26,"0"),1) -> 0
K27: =IF(G27=0,"",IF(AND(OR(LEFT(E27,4)="13CĐ",LEFT(E27,4)="14CĐ"),(I27+J27)>70),1.2*1.1,IF(AND(OR(LEFT(E27,4)="13CĐ",LEFT(E27,4)="14CĐ"),(I27+J27)>=60),1.1*1.1,IF(OR(LEFT(E27,4)="13CĐ",LEFT(E27,4)="14CĐ"),1.1,IF((I27+J27)>70,1.2,IF((I27+J27)>=60,1.1,1)))))) | L27: =IF(H27=0,"",IF(AND(OR(LEFT(E27,4)="13CĐ",LEFT(E27,4)="14CĐ"),(I27+J27)>35),1.2*1.1,IF(AND(OR(LEFT(E27,4)="13CĐ",LEFT(E27,4)="14CĐ"),(I27+J27)>=30),1.1*1.1,IF(OR(LEFT(E27,4)="13CĐ",LEFT(E27,4)="14CĐ"),1.1,IF((I27+J27)>35,1.2,IF((I27+J27)>=30,1.1,1)))))) | M27: =ROUND(IF(G27>0,G27*K27,"0")+IF(H27>0,(H27/1.5)*L27,"0"),1) -> 0
K28: =IF(G28=0,"",IF(AND(OR(LEFT(E28,4)="13CĐ",LEFT(E28,4)="14CĐ"),(I28+J28)>70),1.2*1.1,IF(AND(OR(LEFT(E28,4)="13CĐ",LEFT(E28,4)="14CĐ"),(I28+J28)>=60),1.1*1.1,IF(OR(LEFT(E28,4)="13CĐ",LEFT(E28,4)="14CĐ"),1.1,IF((I28+J28)>70,1.2,IF((I28+J28)>=60,1.1,1)))))) | L28: =IF(H28=0,"",IF(AND(OR(LEFT(E28,4)="13CĐ",LEFT(E28,4)="14CĐ"),(I28+J28)>35),1.2*1.1,IF(AND(OR(LEFT(E28,4)="13CĐ",LEFT(E28,4)="14CĐ"),(I28+J28)>=30),1.1*1.1,IF(OR(LEFT(E28,4)="13CĐ",LEFT(E28,4)="14CĐ"),1.1,IF((I28+J28)>35,1.2,IF((I28+J28)>=30,1.1,1)))))) | M28: =ROUND(IF(G28>0,G28*K28,"0")+IF(H28>0,(H28/1.5)*L28,"0"),1) -> 0
K29: =IF(G29=0,"",IF(AND(OR(LEFT(E29,4)="13CĐ",LEFT(E29,4)="14CĐ"),(I29+J29)>70),1.2*1.1,IF(AND(OR(LEFT(E29,4)="13CĐ",LEFT(E29,4)="14CĐ"),(I29+J29)>=60),1.1*1.1,IF(OR(LEFT(E29,4)="13CĐ",LEFT(E29,4)="14CĐ"),1.1,IF((I29+J29)>70,1.2,IF((I29+J29)>=60,1.1,1)))))) | L29: =IF(H29=0,"",IF(AND(OR(LEFT(E29,4)="13CĐ",LEFT(E29,4)="14CĐ"),(I29+J29)>35),1.2*1.1,IF(AND(OR(LEFT(E29,4)="13CĐ",LEFT(E29,4)="14CĐ"),(I29+J29)>=30),1.1*1.1,IF(OR(LEFT(E29,4)="13CĐ",LEFT(E29,4)="14CĐ"),1.1,IF((I29+J29)>35,1.2,IF((I29+J29)>=30,1.1,1)))))) | M29: =ROUND(IF(G29>0,G29*K29,"0")+IF(H29>0,(H29/1.5)*L29,"0"),1) -> 0
B30: =SUM(M11:M30) -> 329.6 | K30: =IF(G30=0,"",IF(AND(OR(LEFT(E30,4)="13CĐ",LEFT(E30,4)="14CĐ"),(I30+J30)>70),1.2*1.1,IF(AND(OR(LEFT(E30,4)="13CĐ",LEFT(E30,4)="14CĐ"),(I30+J30)>=60),1.1*1.1,IF(OR(LEFT(E30,4)="13CĐ",LEFT(E30,4)="14CĐ"),1.1,IF((I30+J30)>70,1.2,IF((I30+J30)>=60,1.1,1)))))) | L30: =IF(H30=0,"",IF(AND(OR(LEFT(E30,4)="13CĐ",LEFT(E30,4)="14CĐ"),(I30+J30)>35),1.2*1.1,IF(AND(OR(LEFT(E30,4)="13CĐ",LEFT(E30,4)="14CĐ"),(I30+J30)>=30),1.1*1.1,IF(OR(LEFT(E30,4)="13CĐ",LEFT(E30,4)="14CĐ"),1.1,IF((I30+J30)>35,1.2,IF((I30+J30)>=30,1.1,1)))))) | M30: =ROUND(IF(G30>0,G30*K30,"0")+IF(H30>0,(H30/1.5)*L30,"0"),1) -> 0
A31: 2 | B31: ='[1]danh sach'!B12 -> Ngô Hoàng | C31: ='[1]danh sach'!C12 -> Anh | D31: TT ĐL&MĐ | E31: 13CĐ.Đ4 | F31: 1 | H31: 60 | I31: 40 | K31: =IF(G31=0,"",IF(AND(OR(LEFT(E31,4)="13CĐ",LEFT(E31,4)="14CĐ"),(I31+J31)>70),1.2*1.1,IF(AND(OR(LEFT(E31,4)="13CĐ",LEFT(E31,4)="14CĐ"),(I31+J31)>=60),1.1*1.1,IF(OR(LEFT(E31,4)="13CĐ",LEFT(E31,4)="14CĐ"),1.1,IF((I31+J31)>70,1.2,IF((I31+J31)>=60,1.1,1)))))) | L31: =IF(H31=0,"",IF(AND(OR(LEFT(E31,4)="13CĐ",LEFT(E31,4)="14CĐ"),(I31+J31)>35),1.2*1.1,IF(AND(OR(LEFT(E31,4)="13CĐ",LEFT(E31,4)="14CĐ"),(I31+J31)>=30),1.1*1.1,IF(OR(LEFT(E31,4)="13CĐ",LEFT(E31,4)="14CĐ"),1.1,IF((I31+J31)>35,1.2,IF((I31+J31)>=30,1.1,1)))))) -> 1.32 | M31: =ROUND(IF(G31>0,G31*K31,"0")+IF(H31>0,(H31/1.5)*L31,"0"),1) -> 52.8 | N31: ='[2]danh sach'!O12 -> 58 | P31: =SUM(M31:M50)+N31+O31 -> 498.1 | Q31: 255 | R31: ='Mau B2'!L12 -> 258.4 | S31: ='[2]danh sach'!J12 -> 290 | T31: ='[3]danh sach'!R11 -> 232 | U31: 500 | V31: =U31 -> 500 | W31: 360 | X31: =W31 -> 360 | Y31: =ROUND((P31-T31),1) -> 266.1 | Z31: =IF(OR(SUM(V31:V50)="",SUM(Q31:Q50)=""),0,ROUND(IF(SUM(U31:U50)=500,(SUM(Q31:Q50)-SUM(V31:V50))/3.2,IF(SUM(U31:U50)=600,(SUM(Q31:Q50)-SUM(V31:V50))/2.8,0)),1)) -> -76.6 | AA31: =IF(OR(SUM(X31:X50)="",SUM(R31:R50)=""),0,ROUND(IF(SUM(W31:W50)=360,(SUM(R31:R50)-SUM(X31:X50))/3.2,IF(SUM(W31:W50)=260,(SUM(R31:R50)-SUM(X31:X50))/2.8,0)),1)) -> -31.8 | AB31: 41.8 | AC31: =SUM(Y31:AA50) -> 157.7 | AD31: ĐCN
D32: KCĐ&MĐ | E32: 13CĐ.ĐT1 | F32: 1 | G32: 45 | I32: 33 | K32: =IF(G32=0,"",IF(AND(OR(LEFT(E32,4)="13CĐ",LEFT(E32,4)="14CĐ"),(I32+J32)>70),1.2*1.1,IF(AND(OR(LEFT(E32,4)="13CĐ",LEFT(E32,4)="14CĐ"),(I32+J32)>=60),1.1*1.1,IF(OR(LEFT(E32,4)="13CĐ",LEFT(E32,4)="14CĐ"),1.1,IF((I32+J32)>70,1.2,IF((I32+J32)>=60,1.1,1)))))) -> 1.1 | L32: =IF(H32=0,"",IF(AND(OR(LEFT(E32,4)="13CĐ",LEFT(E32,4)="14CĐ"),(I32+J32)>35),1.2*1.1,IF(AND(OR(LEFT(E32,4)="13CĐ",LEFT(E32,4)="14CĐ"),(I32+J32)>=30),1.1*1.1,IF(OR(LEFT(E32,4)="13CĐ",LEFT(E32,4)="14CĐ"),1.1,IF((I32+J32)>35,1.2,IF((I32+J32)>=30,1.1,1)))))) | M32: =ROUND(IF(G32>0,G32*K32,"0")+IF(H32>0,(H32/1.5)*L32,"0"),1) -> 49.5
D33: KCĐ&MĐ | E33: 13CĐ.ĐT2 | F33: 1 | G33: 45 | I33: 35 | K33: =IF(G33=0,"",IF(AND(OR(LEFT(E33,4)="13CĐ",LEFT(E33,4)="14CĐ"),(I33+J33)>70),1.2*1.1,IF(AND(OR(LEFT(E33,4)="13CĐ",LEFT(E33,4)="14CĐ"),(I33+J33)>=60),1.1*1.1,IF(OR(LEFT(E33,4)="13CĐ",LEFT(E33,4)="14CĐ"),1.1,IF((I33+J33)>70,1.2,IF((I33+J33)>=60,1.1,1)))))) -> 1.1 | L33: =IF(H33=0,"",IF(AND(OR(LEFT(E33,4)="13CĐ",LEFT(E33,4)="14CĐ"),(I33+J33)>35),1.2*1.1,IF(AND(OR(LEFT(E33,4)="13CĐ",LEFT(E33,4)="14CĐ"),(I33+J33)>=30),1.1*1.1,IF(OR(LEFT(E33,4)="13CĐ",LEFT(E33,4)="14CĐ"),1.1,IF((I33+J33)>35,1.2,IF((I33+J33)>=30,1.1,1)))))) | M33: =ROUND(IF(G33>0,G33*K33,"0")+IF(H33>0,(H33/1.5)*L33,"0"),1) -> 49.5
D34: KCĐ&MĐ | E34: 13CĐ.ĐT3 | F34: 1 | G34: 45 | I34: 33 | K34: =IF(G34=0,"",IF(AND(OR(LEFT(E34,4)="13CĐ",LEFT(E34,4)="14CĐ"),(I34+J34)>70),1.2*1.1,IF(AND(OR(LEFT(E34,4)="13CĐ",LEFT(E34,4)="14CĐ"),(I34+J34)>=60),1.1*1.1,IF(OR(LEFT(E34,4)="13CĐ",LEFT(E34,4)="14CĐ"),1.1,IF((I34+J34)>70,1.2,IF((I34+J34)>=60,1.1,1)))))) -> 1.1 | L34: =IF(H34=0,"",IF(AND(OR(LEFT(E34,4)="13CĐ",LEFT(E34,4)="14CĐ"),(I34+J34)>35),1.2*1.1,IF(AND(OR(LEFT(E34,4)="13CĐ",LEFT(E34,4)="14CĐ"),(I34+J34)>=30),1.1*1.1,IF(OR(LEFT(E34,4)="13CĐ",LEFT(E34,4)="14CĐ"),1.1,IF((I34+J34)>35,1.2,IF((I34+J34)>=30,1.1,1)))))) | M34: =ROUND(IF(G34>0,G34*K34,"0")+IF(H34>0,(H34/1.5)*L34,"0"),1) -> 49.5
D35: KCĐ&MĐ | E35: 13CĐ.ĐT4 | F35: 1 | G35: 45 | I35: 27 | K35: =IF(G35=0,"",IF(AND(OR(LEFT(E35,4)="13CĐ",LEFT(E35,4)="14CĐ"),(I35+J35)>70),1.2*1.1,IF(AND(OR(LEFT(E35,4)="13CĐ",LEFT(E35,4)="14CĐ"),(I35+J35)>=60),1.1*1.1,IF(OR(LEFT(E35,4)="13CĐ",LEFT(E35,4)="14CĐ"),1.1,IF((I35+J35)>70,1.2,IF((I35+J35)>=60,1.1,1)))))) -> 1.1 | L35: =IF(H35=0,"",IF(AND(OR(LEFT(E35,4)="13CĐ",LEFT(E35,4)="14CĐ"),(I35+J35)>35),1.2*1.1,IF(AND(OR(LEFT(E35,4)="13CĐ",LEFT(E35,4)="14CĐ"),(I35+J35)>=30),1.1*1.1,IF(OR(LEFT(E35,4)="13CĐ",LEFT(E35,4)="14CĐ"),1.1,IF((I35+J35)>35,1.2,IF((I35+J35)>=30,1.1,1)))))) | M35: =ROUND(IF(G35>0,G35*K35,"0")+IF(H35>0,(H35/1.5)*L35,"0"),1) -> 49.5
D36: KCĐ&MĐ(Thay cô Lệ 1b 2t) | E36: 13CĐ.Đ3 | F36: 1 | G36: 2 | I36: 40 | K36: =IF(G36=0,"",IF(AND(OR(LEFT(E36,4)="13CĐ",LEFT(E36,4)="14CĐ"),(I36+J36)>70),1.2*1.1,IF(AND(OR(LEFT(E36,4)="13CĐ",LEFT(E36,4)="14CĐ"),(I36+J36)>=60),1.1*1.1,IF(OR(LEFT(E36,4)="13CĐ",LEFT(E36,4)="14CĐ"),1.1,IF((I36+J36)>70,1.2,IF((I36+J36)>=60,1.1,1)))))) -> 1.1 | L36: =IF(H36=0,"",IF(AND(OR(LEFT(E36,4)="13CĐ",LEFT(E36,4)="14CĐ"),(I36+J36)>35),1.2*1.1,IF(AND(OR(LEFT(E36,4)="13CĐ",LEFT(E36,4)="14CĐ"),(I36+J36)>=30),1.1*1.1,IF(OR(LEFT(E36,4)="13CĐ",LEFT(E36,4)="14CĐ"),1.1,IF((I36+J36)>35,1.2,IF((I36+J36)>=30,1.1,1)))))) | M36: =ROUND(IF(G36>0,G36*K36,"0")+IF(H36>0,(H36/1.5)*L36,"0"),1) -> 2.2
D37: Khí cụ điện (Thay cô Lệ 1b 2t) | E37: 14TC.ĐT | F37: 1 | G37: 2 | I37: 18 | K37: =IF(G37=0,"",IF(AND(OR(LEFT(E37,4)="13CĐ",LEFT(E37,4)="14CĐ"),(I37+J37)>70),1.2*1.1,IF(AND(OR(LEFT(E37,4)="13CĐ",LEFT(E37,4)="14CĐ"),(I37+J37)>=60),1.1*1.1,IF(OR(LEFT(E37,4)="13CĐ",LEFT(E37,4)="14CĐ"),1.1,IF((I37+J37)>70,1.2,IF((I37+J37)>=60,1.1,1)))))) -> 1 | L37: =IF(H37=0,"",IF(AND(OR(LEFT(E37,4)="13CĐ",LEFT(E37,4)="14CĐ"),(I37+J37)>35),1.2*1.1,IF(AND(OR(LEFT(E37,4)="13CĐ",LEFT(E37,4)="14CĐ"),(I37+J37)>=30),1.1*1.1,IF(OR(LEFT(E37,4)="13CĐ",LEFT(E37,4)="14CĐ"),1.1,IF((I37+J37)>35,1.2,IF((I37+J37)>=30,1.1,1)))))) | M37: =ROUND(IF(G37>0,G37*K37,"0")+IF(H37>0,(H37/1.5)*L37,"0"),1) -> 2
D38: Điện tử cơ bản | E38: 14CĐ.Đ1 | F38: 2 | G38: 30 | I38: 51 | J38: 21 | K38: =IF(G38=0,"",IF(AND(OR(LEFT(E38,4)="13CĐ",LEFT(E38,4)="14CĐ"),(I38+J38)>70),1.2*1.1,IF(AND(OR(LEFT(E38,4)="13CĐ",LEFT(E38,4)="14CĐ"),(I38+J38)>=60),1.1*1.1,IF(OR(LEFT(E38,4)="13CĐ",LEFT(E38,4)="14CĐ"),1.1,IF((I38+J38)>70,1.2,IF((I38+J38)>=60,1.1,1)))))) -> 1.32 | L38: =IF(H38=0,"",IF(AND(OR(LEFT(E38,4)="13CĐ",LEFT(E38,4)="14CĐ"),(I38+J38)>35),1.2*1.1,IF(AND(OR(LEFT(E38,4)="13CĐ",LEFT(E38,4)="14CĐ"),(I38+J38)>=30),1.1*1.1,IF(OR(LEFT(E38,4)="13CĐ",LEFT(E38,4)="14CĐ"),1.1,IF((I38+J38)>35,1.2,IF((I38+J38)>=30,1.1,1)))))) | M38: =ROUND(IF(G38>0,G38*K38,"0")+IF(H38>0,(H38/1.5)*L38,"0"),1) -> 39.6
D39: TT ĐL&MĐ(nghỉ 1b 4t cô Huê thay) | E39: 14CĐ.Đ1(N2) | F39: 2 | H39: =60-4 -> 56 | I39: 21 | K39: =IF(G39=0,"",IF(AND(OR(LEFT(E39,4)="13CĐ",LEFT(E39,4)="14CĐ"),(I39+J39)>70),1.2*1.1,IF(AND(OR(LEFT(E39,4)="13CĐ",LEFT(E39,4)="14CĐ"),(I39+J39)>=60),1.1*1.1,IF(OR(LEFT(E39,4)="13CĐ",LEFT(E39,4)="14CĐ"),1.1,IF((I39+J39)>70,1.2,IF((I39+J39)>=60,1.1,1)))))) | L39: =IF(H39=0,"",IF(AND(OR(LEFT(E39,4)="13CĐ",LEFT(E39,4)="14CĐ"),(I39+J39)>35),1.2*1.1,IF(AND(OR(LEFT(E39,4)="13CĐ",LEFT(E39,4)="14CĐ"),(I39+J39)>=30),1.1*1.1,IF(OR(LEFT(E39,4)="13CĐ",LEFT(E39,4)="14CĐ"),1.1,IF((I39+J39)>35,1.2,IF((I39+J39)>=30,1.1,1)))))) -> 1.1 | M39: =ROUND(IF(G39>0,G39*K39,"0")+IF(H39>0,(H39/1.5)*L39,"0"),1) -> 41.1
D40: ĐLĐ & CB (Thay cô Lệ 5b 16t) | E40: 14TC.Đ1, ĐT1 | F40: 2 | G40: 16 | I40: 78 | K40: =IF(G40=0,"",IF(AND(OR(LEFT(E40,4)="13CĐ",LEFT(E40,4)="14CĐ"),(I40+J40)>70),1.2*1.1,IF(AND(OR(LEFT(E40,4)="13CĐ",LEFT(E40,4)="14CĐ"),(I40+J40)>=60),1.1*1.1,IF(OR(LEFT(E40,4)="13CĐ",LEFT(E40,4)="14CĐ"),1.1,IF((I40+J40)>70,1.2,IF((I40+J40)>=60,1.1,1)))))) -> 1.2 | L40: =IF(H40=0,"",IF(AND(OR(LEFT(E40,4)="13CĐ",LEFT(E40,4)="14CĐ"),(I40+J40)>35),1.2*1.1,IF(AND(OR(LEFT(E40,4)="13CĐ",LEFT(E40,4)="14CĐ"),(I40+J40)>=30),1.1*1.1,IF(OR(LEFT(E40,4)="13CĐ",LEFT(E40,4)="14CĐ"),1.1,IF((I40+J40)>35,1.2,IF((I40+J40)>=30,1.1,1)))))) | M40: =ROUND(IF(G40>0,G40*K40,"0")+IF(H40>0,(H40/1.5)*L40,"0"),1) -> 19.2
D41: Điện tử cơ bản (ôn thi TN) | E41: 12CĐ.ĐT1 | F41: 2 | G41: 6 | I41: 53 | K41: =IF(G41=0,"",IF(AND(OR(LEFT(E41,4)="13CĐ",LEFT(E41,4)="14CĐ"),(I41+J41)>70),1.2*1.1,IF(AND(OR(LEFT(E41,4)="13CĐ",LEFT(E41,4)="14CĐ"),(I41+J41)>=60),1.1*1.1,IF(OR(LEFT(E41,4)="13CĐ",LEFT(E41,4)="14CĐ"),1.1,IF((I41+J41)>70,1.2,IF((I41+J41)>=60,1.1,1)))))) -> 1 | L41: =IF(H41=0,"",IF(AND(OR(LEFT(E41,4)="13CĐ",LEFT(E41,4)="14CĐ"),(I41+J41)>35),1.2*1.1,IF(AND(OR(LEFT(E41,4)="13CĐ",LEFT(E41,4)="14CĐ"),(I41+J41)>=30),1.1*1.1,IF(OR(LEFT(E41,4)="13CĐ",LEFT(E41,4)="14CĐ"),1.1,IF((I41+J41)>35,1.2,IF((I41+J41)>=30,1.1,1)))))) | M41: =ROUND(IF(G41>0,G41*K41,"0")+IF(H41>0,(H41/1.5)*L41,"0"),1) -> 6
D42: Điện tử cơ bản (ôn thi TN) | E42: 12CĐ.ĐT2 | F42: 2 | G42: 6 | I42: 50 | K42: =IF(G42=0,"",IF(AND(OR(LEFT(E42,4)="13CĐ",LEFT(E42,4)="14CĐ"),(I42+J42)>70),1.2*1.1,IF(AND(OR(LEFT(E42,4)="13CĐ",LEFT(E42,4)="14CĐ"),(I42+J42)>=60),1.1*1.1,IF(OR(LEFT(E42,4)="13CĐ",LEFT(E42,4)="14CĐ"),1.1,IF((I42+J42)>70,1.2,IF((I42+J42)>=60,1.1,1)))))) -> 1 | L42: =IF(H42=0,"",IF(AND(OR(LEFT(E42,4)="13CĐ",LEFT(E42,4)="14CĐ"),(I42+J42)>35),1.2*1.1,IF(AND(OR(LEFT(E42,4)="13CĐ",LEFT(E42,4)="14CĐ"),(I42+J42)>=30),1.1*1.1,IF(OR(LEFT(E42,4)="13CĐ",LEFT(E42,4)="14CĐ"),1.1,IF((I42+J42)>35,1.2,IF((I42+J42)>=30,1.1,1)))))) | M42: =ROUND(IF(G42>0,G42*K42,"0")+IF(H42>0,(H42/1.5)*L42,"0"),1) -> 6
D43: Điện tử cơ bản (ôn thi TN) | E43: 12CĐ.Đ1 | F43: 2 | G43: 6 | I43: 63 | K43: =IF(G43=0,"",IF(AND(OR(LEFT(E43,4)="13CĐ",LEFT(E43,4)="14CĐ"),(I43+J43)>70),1.2*1.1,IF(AND(OR(LEFT(E43,4)="13CĐ",LEFT(E43,4)="14CĐ"),(I43+J43)>=60),1.1*1.1,IF(OR(LEFT(E43,4)="13CĐ",LEFT(E43,4)="14CĐ"),1.1,IF((I43+J43)>70,1.2,IF((I43+J43)>=60,1.1,1)))))) -> 1.1 | L43: =IF(H43=0,"",IF(AND(OR(LEFT(E43,4)="13CĐ",LEFT(E43,4)="14CĐ"),(I43+J43)>35),1.2*1.1,IF(AND(OR(LEFT(E43,4)="13CĐ",LEFT(E43,4)="14CĐ"),(I43+J43)>=30),1.1*1.1,IF(OR(LEFT(E43,4)="13CĐ",LEFT(E43,4)="14CĐ"),1.1,IF((I43+J43)>35,1.2,IF((I43+J43)>=30,1.1,1)))))) | M43: =ROUND(IF(G43>0,G43*K43,"0")+IF(H43>0,(H43/1.5)*L43,"0"),1) -> 6.6
D44: Điện tử cơ bản (ôn thi TN) | E44: 12CĐ.Đ2 | F44: 2 | G44: 6 | I44: 61 | K44: =IF(G44=0,"",IF(AND(OR(LEFT(E44,4)="13CĐ",LEFT(E44,4)="14CĐ"),(I44+J44)>70),1.2*1.1,IF(AND(OR(LEFT(E44,4)="13CĐ",LEFT(E44,4)="14CĐ"),(I44+J44)>=60),1.1*1.1,IF(OR(LEFT(E44,4)="13CĐ",LEFT(E44,4)="14CĐ"),1.1,IF((I44+J44)>70,1.2,IF((I44+J44)>=60,1.1,1)))))) -> 1.1 | L44: =IF(H44=0,"",IF(AND(OR(LEFT(E44,4)="13CĐ",LEFT(E44,4)="14CĐ"),(I44+J44)>35),1.2*1.1,IF(AND(OR(LEFT(E44,4)="13CĐ",LEFT(E44,4)="14CĐ"),(I44+J44)>=30),1.1*1.1,IF(OR(LEFT(E44,4)="13CĐ",LEFT(E44,4)="14CĐ"),1.1,IF((I44+J44)>35,1.2,IF((I44+J44)>=30,1.1,1)))))) | M44: =ROUND(IF(G44>0,G44*K44,"0")+IF(H44>0,(H44/1.5)*L44,"0"),1) -> 6.6
D45: Điện tử cơ bản | E45: 12CĐ.Đ,ĐT(LỚP RIÊNG) | F45: 2 | G45: 60 | I45: 20 | K45: =IF(G45=0,"",IF(AND(OR(LEFT(E45,4)="13CĐ",LEFT(E45,4)="14CĐ"),(I45+J45)>70),1.2*1.1,IF(AND(OR(LEFT(E45,4)="13CĐ",LEFT(E45,4)="14CĐ"),(I45+J45)>=60),1.1*1.1,IF(OR(LEFT(E45,4)="13CĐ",LEFT(E45,4)="14CĐ"),1.1,IF((I45+J45)>70,1.2,IF((I45+J45)>=60,1.1,1)))))) -> 1 | L45: =IF(H45=0,"",IF(AND(OR(LEFT(E45,4)="13CĐ",LEFT(E45,4)="14CĐ"),(I45+J45)>35),1.2*1.1,IF(AND(OR(LEFT(E45,4)="13CĐ",LEFT(E45,4)="14CĐ"),(I45+J45)>=30),1.1*1.1,IF(OR(LEFT(E45,4)="13CĐ",LEFT(E45,4)="14CĐ"),1.1,IF((I45+J45)>35,1.2,IF((I45+J45)>=30,1.1,1)))))) | M45: =ROUND(IF(G45>0,G45*K45,"0")+IF(H45>0,(H45/1.5)*L45,"0"),1) -> 60
K46: =IF(G46=0,"",IF(AND(OR(LEFT(E46,4)="13CĐ",LEFT(E46,4)="14CĐ"),(I46+J46)>70),1.2*1.1,IF(AND(OR(LEFT(E46,4)="13CĐ",LEFT(E46,4)="14CĐ"),(I46+J46)>=60),1.1*1.1,IF(OR(LEFT(E46,4)="13CĐ",LEFT(E46,4)="14CĐ"),1.1,IF((I46+J46)>70,1.2,IF((I46+J46)>=60,1.1,1)))))) | L46: =IF(H46=0,"",IF(AND(OR(LEFT(E46,4)="13CĐ",LEFT(E46,4)="14CĐ"),(I46+J46)>35),1.2*1.1,IF(AND(OR(LEFT(E46,4)="13CĐ",LEFT(E46,4)="14CĐ"),(I46+J46)>=30),1.1*1.1,IF(OR(LEFT(E46,4)="13CĐ",LEFT(E46,4)="14CĐ"),1.1,IF((I46+J46)>35,1.2,IF((I46+J46)>=30,1.1,1)))))) | M46: =ROUND(IF(G46>0,G46*K46,"0")+IF(H46>0,(H46/1.5)*L46,"0"),1) -> 0
K47: =IF(G47=0,"",IF(AND(OR(LEFT(E47,4)="13CĐ",LEFT(E47,4)="14CĐ"),(I47+J47)>70),1.2*1.1,IF(AND(OR(LEFT(E47,4)="13CĐ",LEFT(E47,4)="14CĐ"),(I47+J47)>=60),1.1*1.1,IF(OR(LEFT(E47,4)="13CĐ",LEFT(E47,4)="14CĐ"),1.1,IF((I47+J47)>70,1.2,IF((I47+J47)>=60,1.1,1)))))) | L47: =IF(H47=0,"",IF(AND(OR(LEFT(E47,4)="13CĐ",LEFT(E47,4)="14CĐ"),(I47+J47)>35),1.2*1.1,IF(AND(OR(LEFT(E47,4)="13CĐ",LEFT(E47,4)="14CĐ"),(I47+J47)>=30),1.1*1.1,IF(OR(LEFT(E47,4)="13CĐ",LEFT(E47,4)="14CĐ"),1.1,IF((I47+J47)>35,1.2,IF((I47+J47)>=30,1.1,1)))))) | M47: =ROUND(IF(G47>0,G47*K47,"0")+IF(H47>0,(H47/1.5)*L47,"0"),1) -> 0
K48: =IF(G48=0,"",IF(AND(OR(LEFT(E48,4)="13CĐ",LEFT(E48,4)="14CĐ"),(I48+J48)>70),1.2*1.1,IF(AND(OR(LEFT(E48,4)="13CĐ",LEFT(E48,4)="14CĐ"),(I48+J48)>=60),1.1*1.1,IF(OR(LEFT(E48,4)="13CĐ",LEFT(E48,4)="14CĐ"),1.1,IF((I48+J48)>70,1.2,IF((I48+J48)>=60,1.1,1)))))) | L48: =IF(H48=0,"",IF(AND(OR(LEFT(E48,4)="13CĐ",LEFT(E48,4)="14CĐ"),(I48+J48)>35),1.2*1.1,IF(AND(OR(LEFT(E48,4)="13CĐ",LEFT(E48,4)="14CĐ"),(I48+J48)>=30),1.1*1.1,IF(OR(LEFT(E48,4)="13CĐ",LEFT(E48,4)="14CĐ"),1.1,IF((I48+J48)>35,1.2,IF((I48+J48)>=30,1.1,1)))))) | M48: =ROUND(IF(G48>0,G48*K48,"0")+IF(H48>0,(H48/1.5)*L48,"0"),1) -> 0
K49: =IF(G49=0,"",IF(AND(OR(LEFT(E49,4)="13CĐ",LEFT(E49,4)="14CĐ"),(I49+J49)>70),1.2*1.1,IF(AND(OR(LEFT(E49,4)="13CĐ",LEFT(E49,4)="14CĐ"),(I49+J49)>=60),1.1*1.1,IF(OR(LEFT(E49,4)="13CĐ",LEFT(E49,4)="14CĐ"),1.1,IF((I49+J49)>70,1.2,IF((I49+J49)>=60,1.1,1)))))) | L49: =IF(H49=0,"",IF(AND(OR(LEFT(E49,4)="13CĐ",LEFT(E49,4)="14CĐ"),(I49+J49)>35),1.2*1.1,IF(AND(OR(LEFT(E49,4)="13CĐ",LEFT(E49,4)="14CĐ"),(I49+J49)>=30),1.1*1.1,IF(OR(LEFT(E49,4)="13CĐ",LEFT(E49,4)="14CĐ"),1.1,IF((I49+J49)>35,1.2,IF((I49+J49)>=30,1.1,1)))))) | M49: =ROUND(IF(G49>0,G49*K49,"0")+IF(H49>0,(H49/1.5)*L49,"0"),1) -> 0
B50: =SUM(M31:M50) -> 440.1 | K50: =IF(G50=0,"",IF(AND(OR(LEFT(E50,4)="13CĐ",LEFT(E50,4)="14CĐ"),(I50+J50)>70),1.2*1.1,IF(AND(OR(LEFT(E50,4)="13CĐ",LEFT(E50,4)="14CĐ"),(I50+J50)>=60),1.1*1.1,IF(OR(LEFT(E50,4)="13CĐ",LEFT(E50,4)="14CĐ"),1.1,IF((I50+J50)>70,1.2,IF((I50+J50)>=60,1.1,1)))))) | L50: =IF(H50=0,"",IF(AND(OR(LEFT(E50,4)="13CĐ",LEFT(E50,4)="14CĐ"),(I50+J50)>35),1.2*1.1,IF(AND(OR(LEFT(E50,4)="13CĐ",LEFT(E50,4)="14CĐ"),(I50+J50)>=30),1.1*1.1,IF(OR(LEFT(E50,4)="13CĐ",LEFT(E50,4)="14CĐ"),1.1,IF((I50+J50)>35,1.2,IF((I50+J50)>=30,1.1,1)))))) | M50: =ROUND(IF(G50>0,G50*K50,"0")+IF(H50>0,(H50/1.5)*L50,"0"),1) -> 0
A51: 3 | B51: ='[1]danh sach'!B13 -> Châu Văn | C51: ='[1]danh sach'!C13 -> Bảo | D51: Dạy ở ĐHCN TPHCM | F51: 1 | G51: 180 | K51: =IF(G51=0,"",IF(AND(OR(LEFT(E51,4)="13CĐ",LEFT(E51,4)="14CĐ"),(I51+J51)>70),1.2*1.1,IF(AND(OR(LEFT(E51,4)="13CĐ",LEFT(E51,4)="14CĐ"),(I51+J51)>=60),1.1*1.1,IF(OR(LEFT(E51,4)="13CĐ",LEFT(E51,4)="14CĐ"),1.1,IF((I51+J51)>70,1.2,IF((I51+J51)>=60,1.1,1)))))) -> 1 | L51: =IF(H51=0,"",IF(AND(OR(LEFT(E51,4)="13CĐ",LEFT(E51,4)="14CĐ"),(I51+J51)>35),1.2*1.1,IF(AND(OR(LEFT(E51,4)="13CĐ",LEFT(E51,4)="14CĐ"),(I51+J51)>=30),1.1*1.1,IF(OR(LEFT(E51,4)="13CĐ",LEFT(E51,4)="14CĐ"),1.1,IF((I51+J51)>35,1.2,IF((I51+J51)>=30,1.1,1)))))) | M51: =ROUND(IF(G51>0,G51*K51,"0")+IF(H51>0,(H51/1.5)*L51,"0"),1) -> 180 | N51: 75.8 | P51: =SUM(M51:M70)+N51+O51 -> 319.8 | Q51: 847 | R51: ='Mau B2'!L13 -> 100 | S51: ='[2]danh sach'!J13 -> 290 | T51: ='[3]danh sach'!R12 -> 214.2 | U51: 500 | V51: 306.8 | W51: 360 | X51: =W51 -> 360 | Y51: =ROUND((P51-T51),1) -> 105.6 | Z51: =IF(OR(SUM(V51:V70)="",SUM(Q51:Q70)=""),0,ROUND(IF(SUM(U51:U70)=500,(SUM(Q51:Q70)-SUM(V51:V70))/3.2,IF(SUM(U51:U70)=600,(SUM(Q51:Q70)-SUM(V51:V70))/2.8,0)),1)) -> 168.8 | AA51: =IF(OR(SUM(X51:X70)="",SUM(R51:R70)=""),0,ROUND(IF(SUM(W51:W70)=360,(SUM(R51:R70)-SUM(X51:X70))/3.2,IF(SUM(W51:W70)=260,(SUM(R51:R70)-SUM(X51:X70))/2.8,0)),1)) -> -81.3 | AC51: =SUM(Y51:AA70) -> 193.1 | AD51: TĐH
F52: 1 | G52: 0 | H52: 30 | K52: =IF(G52=0,"",IF(AND(OR(LEFT(E52,4)="13CĐ",LEFT(E52,4)="14CĐ"),(I52+J52)>70),1.2*1.1,IF(AND(OR(LEFT(E52,4)="13CĐ",LEFT(E52,4)="14CĐ"),(I52+J52)>=60),1.1*1.1,IF(OR(LEFT(E52,4)="13CĐ",LEFT(E52,4)="14CĐ"),1.1,IF((I52+J52)>70,1.2,IF((I52+J52)>=60,1.1,1)))))) | L52: =IF(H52=0,"",IF(AND(OR(LEFT(E52,4)="13CĐ",LEFT(E52,4)="14CĐ"),(I52+J52)>35),1.2*1.1,IF(AND(OR(LEFT(E52,4)="13CĐ",LEFT(E52,4)="14CĐ"),(I52+J52)>=30),1.1*1.1,IF(OR(LEFT(E52,4)="13CĐ",LEFT(E52,4)="14CĐ"),1.1,IF((I52+J52)>35,1.2,IF((I52+J52)>=30,1.1,1)))))) -> 1 | M52: =ROUND(IF(G52>0,G52*K52,"0")+IF(H52>0,(H52/1.5)*L52,"0"),1) -> 20
D53: TTKTS | E53: 13CĐ.Đ3(N1) | F53: 2 | H53: 60 | I53: 25 | K53: =IF(G53=0,"",IF(AND(OR(LEFT(E53,4)="13CĐ",LEFT(E53,4)="14CĐ"),(I53+J53)>70),1.2*1.1,IF(AND(OR(LEFT(E53,4)="13CĐ",LEFT(E53,4)="14CĐ"),(I53+J53)>=60),1.1*1.1,IF(OR(LEFT(E53,4)="13CĐ",LEFT(E53,4)="14CĐ"),1.1,IF((I53+J53)>70,1.2,IF((I53+J53)>=60,1.1,1)))))) | L53: =IF(H53=0,"",IF(AND(OR(LEFT(E53,4)="13CĐ",LEFT(E53,4)="14CĐ"),(I53+J53)>35),1.2*1.1,IF(AND(OR(LEFT(E53,4)="13CĐ",LEFT(E53,4)="14CĐ"),(I53+J53)>=30),1.1*1.1,IF(OR(LEFT(E53,4)="13CĐ",LEFT(E53,4)="14CĐ"),1.1,IF((I53+J53)>35,1.2,IF((I53+J53)>=30,1.1,1)))))) -> 1.1 | M53: =ROUND(IF(G53>0,G53*K53,"0")+IF(H53>0,(H53/1.5)*L53,"0"),1) -> 44
K54: =IF(G54=0,"",IF(AND(OR(LEFT(E54,4)="13CĐ",LEFT(E54,4)="14CĐ"),(I54+J54)>70),1.2*1.1,IF(AND(OR(LEFT(E54,4)="13CĐ",LEFT(E54,4)="14CĐ"),(I54+J54)>=60),1.1*1.1,IF(OR(LEFT(E54,4)="13CĐ",LEFT(E54,4)="14CĐ"),1.1,IF((I54+J54)>70,1.2,IF((I54+J54)>=60,1.1,1)))))) | L54: =IF(H54=0,"",IF(AND(OR(LEFT(E54,4)="13CĐ",LEFT(E54,4)="14CĐ"),(I54+J54)>35),1.2*1.1,IF(AND(OR(LEFT(E54,4)="13CĐ",LEFT(E54,4)="14CĐ"),(I54+J54)>=30),1.1*1.1,IF(OR(LEFT(E54,4)="13CĐ",LEFT(E54,4)="14CĐ"),1.1,IF((I54+J54)>35,1.2,IF((I54+J54)>=30,1.1,1)))))) | M54: =ROUND(IF(G54>0,G54*K54,"0")+IF(H54>0,(H54/1.5)*L54,"0"),1) -> 0
K55: =IF(G55=0,"",IF(AND(OR(LEFT(E55,4)="13CĐ",LEFT(E55,4)="14CĐ"),(I55+J55)>70),1.2*1.1,IF(AND(OR(LEFT(E55,4)="13CĐ",LEFT(E55,4)="14CĐ"),(I55+J55)>=60),1.1*1.1,IF(OR(LEFT(E55,4)="13CĐ",LEFT(E55,4)="14CĐ"),1.1,IF((I55+J55)>70,1.2,IF((I55+J55)>=60,1.1,1)))))) | L55: =IF(H55=0,"",IF(AND(OR(LEFT(E55,4)="13CĐ",LEFT(E55,4)="14CĐ"),(I55+J55)>35),1.2*1.1,IF(AND(OR(LEFT(E55,4)="13CĐ",LEFT(E55,4)="14CĐ"),(I55+J55)>=30),1.1*1.1,IF(OR(LEFT(E55,4)="13CĐ",LEFT(E55,4)="14CĐ"),1.1,IF((I55+J55)>35,1.2,IF((I55+J55)>=30,1.1,1)))))) | M55: =ROUND(IF(G55>0,G55*K55,"0")+IF(H55>0,(H55/1.5)*L55,"0"),1) -> 0
K56: =IF(G56=0,"",IF(AND(OR(LEFT(E56,4)="13CĐ",LEFT(E56,4)="14CĐ"),(I56+J56)>70),1.2*1.1,IF(AND(OR(LEFT(E56,4)="13CĐ",LEFT(E56,4)="14CĐ"),(I56+J56)>=60),1.1*1.1,IF(OR(LEFT(E56,4)="13CĐ",LEFT(E56,4)="14CĐ"),1.1,IF((I56+J56)>70,1.2,IF((I56+J56)>=60,1.1,1)))))) | L56: =IF(H56=0,"",IF(AND(OR(LEFT(E56,4)="13CĐ",LEFT(E56,4)="14CĐ"),(I56+J56)>35),1.2*1.1,IF(AND(OR(LEFT(E56,4)="13CĐ",LEFT(E56,4)="14CĐ"),(I56+J56)>=30),1.1*1.1,IF(OR(LEFT(E56,4)="13CĐ",LEFT(E56,4)="14CĐ"),1.1,IF((I56+J56)>35,1.2,IF((I56+J56)>=30,1.1,1)))))) | M56: =ROUND(IF(G56>0,G56*K56,"0")+IF(H56>0,(H56/1.5)*L56,"0"),1) -> 0
K57: =IF(G57=0,"",IF(AND(OR(LEFT(E57,4)="13CĐ",LEFT(E57,4)="14CĐ"),(I57+J57)>70),1.2*1.1,IF(AND(OR(LEFT(E57,4)="13CĐ",LEFT(E57,4)="14CĐ"),(I57+J57)>=60),1.1*1.1,IF(OR(LEFT(E57,4)="13CĐ",LEFT(E57,4)="14CĐ"),1.1,IF((I57+J57)>70,1.2,IF((I57+J57)>=60,1.1,1)))))) | L57: =IF(H57=0,"",IF(AND(OR(LEFT(E57,4)="13CĐ",LEFT(E57,4)="14CĐ"),(I57+J57)>35),1.2*1.1,IF(AND(OR(LEFT(E57,4)="13CĐ",LEFT(E57,4)="14CĐ"),(I57+J57)>=30),1.1*1.1,IF(OR(LEFT(E57,4)="13CĐ",LEFT(E57,4)="14CĐ"),1.1,IF((I57+J57)>35,1.2,IF((I57+J57)>=30,1.1,1)))))) | M57: =ROUND(IF(G57>0,G57*K57,"0")+IF(H57>0,(H57/1.5)*L57,"0"),1) -> 0
K58: =IF(G58=0,"",IF(AND(OR(LEFT(E58,4)="13CĐ",LEFT(E58,4)="14CĐ"),(I58+J58)>70),1.2*1.1,IF(AND(OR(LEFT(E58,4)="13CĐ",LEFT(E58,4)="14CĐ"),(I58+J58)>=60),1.1*1.1,IF(OR(LEFT(E58,4)="13CĐ",LEFT(E58,4)="14CĐ"),1.1,IF((I58+J58)>70,1.2,IF((I58+J58)>=60,1.1,1)))))) | L58: =IF(H58=0,"",IF(AND(OR(LEFT(E58,4)="13CĐ",LEFT(E58,4)="14CĐ"),(I58+J58)>35),1.2*1.1,IF(AND(OR(LEFT(E58,4)="13CĐ",LEFT(E58,4)="14CĐ"),(I58+J58)>=30),1.1*1.1,IF(OR(LEFT(E58,4)="13CĐ",LEFT(E58,4)="14CĐ"),1.1,IF((I58+J58)>35,1.2,IF((I58+J58)>=30,1.1,1)))))) | M58: =ROUND(IF(G58>0,G58*K58,"0")+IF(H58>0,(H58/1.5)*L58,"0"),1) -> 0
K59: =IF(G59=0,"",IF(AND(OR(LEFT(E59,4)="13CĐ",LEFT(E59,4)="14CĐ"),(I59+J59)>70),1.2*1.1,IF(AND(OR(LEFT(E59,4)="13CĐ",LEFT(E59,4)="14CĐ"),(I59+J59)>=60),1.1*1.1,IF(OR(LEFT(E59,4)="13CĐ",LEFT(E59,4)="14CĐ"),1.1,IF((I59+J59)>70,1.2,IF((I59+J59)>=60,1.1,1)))))) | L59: =IF(H59=0,"",IF(AND(OR(LEFT(E59,4)="13CĐ",LEFT(E59,4)="14CĐ"),(I59+J59)>35),1.2*1.1,IF(AND(OR(LEFT(E59,4)="13CĐ",LEFT(E59,4)="14CĐ"),(I59+J59)>=30),1.1*1.1,IF(OR(LEFT(E59,4)="13CĐ",LEFT(E59,4)="14CĐ"),1.1,IF((I59+J59)>35,1.2,IF((I59+J59)>=30,1.1,1)))))) | M59: =ROUND(IF(G59>0,G59*K59,"0")+IF(H59>0,(H59/1.5)*L59,"0"),1) -> 0
K60: =IF(G60=0,"",IF(AND(OR(LEFT(E60,4)="13CĐ",LEFT(E60,4)="14CĐ"),(I60+J60)>70),1.2*1.1,IF(AND(OR(LEFT(E60,4)="13CĐ",LEFT(E60,4)="14CĐ"),(I60+J60)>=60),1.1*1.1,IF(OR(LEFT(E60,4)="13CĐ",LEFT(E60,4)="14CĐ"),1.1,IF((I60+J60)>70,1.2,IF((I60+J60)>=60,1.1,1)))))) | L60: =IF(H60=0,"",IF(AND(OR(LEFT(E60,4)="13CĐ",LEFT(E60,4)="14CĐ"),(I60+J60)>35),1.2*1.1,IF(AND(OR(LEFT(E60,4)="13CĐ",LEFT(E60,4)="14CĐ"),(I60+J60)>=30),1.1*1.1,IF(OR(LEFT(E60,4)="13CĐ",LEFT(E60,4)="14CĐ"),1.1,IF((I60+J60)>35,1.2,IF((I60+J60)>=30,1.1,1)))))) | M60: =ROUND(IF(G60>0,G60*K60,"0")+IF(H60>0,(H60/1.5)*L60,"0"),1) -> 0
K61: =IF(G61=0,"",IF(AND(OR(LEFT(E61,4)="13CĐ",LEFT(E61,4)="14CĐ"),(I61+J61)>70),1.2*1.1,IF(AND(OR(LEFT(E61,4)="13CĐ",LEFT(E61,4)="14CĐ"),(I61+J61)>=60),1.1*1.1,IF(OR(LEFT(E61,4)="13CĐ",LEFT(E61,4)="14CĐ"),1.1,IF((I61+J61)>70,1.2,IF((I61+J61)>=60,1.1,1)))))) | L61: =IF(H61=0,"",IF(AND(OR(LEFT(E61,4)="13CĐ",LEFT(E61,4)="14CĐ"),(I61+J61)>35),1.2*1.1,IF(AND(OR(LEFT(E61,4)="13CĐ",LEFT(E61,4)="14CĐ"),(I61+J61)>=30),1.1*1.1,IF(OR(LEFT(E61,4)="13CĐ",LEFT(E61,4)="14CĐ"),1.1,IF((I61+J61)>35,1.2,IF((I61+J61)>=30,1.1,1)))))) | M61: =ROUND(IF(G61>0,G61*K61,"0")+IF(H61>0,(H61/1.5)*L61,"0"),1) -> 0
K62: =IF(G62=0,"",IF(AND(OR(LEFT(E62,4)="13CĐ",LEFT(E62,4)="14CĐ"),(I62+J62)>70),1.2*1.1,IF(AND(OR(LEFT(E62,4)="13CĐ",LEFT(E62,4)="14CĐ"),(I62+J62)>=60),1.1*1.1,IF(OR(LEFT(E62,4)="13CĐ",LEFT(E62,4)="14CĐ"),1.1,IF((I62+J62)>70,1.2,IF((I62+J62)>=60,1.1,1)))))) | L62: =IF(H62=0,"",IF(AND(OR(LEFT(E62,4)="13CĐ",LEFT(E62,4)="14CĐ"),(I62+J62)>35),1.2*1.1,IF(AND(OR(LEFT(E62,4)="13CĐ",LEFT(E62,4)="14CĐ"),(I62+J62)>=30),1.1*1.1,IF(OR(LEFT(E62,4)="13CĐ",LEFT(E62,4)="14CĐ"),1.1,IF((I62+J62)>35,1.2,IF((I62+J62)>=30,1.1,1)))))) | M62: =ROUND(IF(G62>0,G62*K62,"0")+IF(H62>0,(H62/1.5)*L62,"0"),1) -> 0
K63: =IF(G63=0,"",IF(AND(OR(LEFT(E63,4)="13CĐ",LEFT(E63,4)="14CĐ"),(I63+J63)>70),1.2*1.1,IF(AND(OR(LEFT(E63,4)="13CĐ",LEFT(E63,4)="14CĐ"),(I63+J63)>=60),1.1*1.1,IF(OR(LEFT(E63,4)="13CĐ",LEFT(E63,4)="14CĐ"),1.1,IF((I63+J63)>70,1.2,IF((I63+J63)>=60,1.1,1)))))) | L63: =IF(H63=0,"",IF(AND(OR(LEFT(E63,4)="13CĐ",LEFT(E63,4)="14CĐ"),(I63+J63)>35),1.2*1.1,IF(AND(OR(LEFT(E63,4)="13CĐ",LEFT(E63,4)="14CĐ"),(I63+J63)>=30),1.1*1.1,IF(OR(LEFT(E63,4)="13CĐ",LEFT(E63,4)="14CĐ"),1.1,IF((I63+J63)>35,1.2,IF((I63+J63)>=30,1.1,1)))))) | M63: =ROUND(IF(G63>0,G63*K63,"0")+IF(H63>0,(H63/1.5)*L63,"0"),1) -> 0
K64: =IF(G64=0,"",IF(AND(OR(LEFT(E64,4)="13CĐ",LEFT(E64,4)="14CĐ"),(I64+J64)>70),1.2*1.1,IF(AND(OR(LEFT(E64,4)="13CĐ",LEFT(E64,4)="14CĐ"),(I64+J64)>=60),1.1*1.1,IF(OR(LEFT(E64,4)="13CĐ",LEFT(E64,4)="14CĐ"),1.1,IF((I64+J64)>70,1.2,IF((I64+J64)>=60,1.1,1)))))) | L64: =IF(H64=0,"",IF(AND(OR(LEFT(E64,4)="13CĐ",LEFT(E64,4)="14CĐ"),(I64+J64)>35),1.2*1.1,IF(AND(OR(LEFT(E64,4)="13CĐ",LEFT(E64,4)="14CĐ"),(I64+J64)>=30),1.1*1.1,IF(OR(LEFT(E64,4)="13CĐ",LEFT(E64,4)="14CĐ"),1.1,IF((I64+J64)>35,1.2,IF((I64+J64)>=30,1.1,1)))))) | M64: =ROUND(IF(G64>0,G64*K64,"0")+IF(H64>0,(H64/1.5)*L64,"0"),1) -> 0
K65: =IF(G65=0,"",IF(AND(OR(LEFT(E65,4)="13CĐ",LEFT(E65,4)="14CĐ"),(I65+J65)>70),1.2*1.1,IF(AND(OR(LEFT(E65,4)="13CĐ",LEFT(E65,4)="14CĐ"),(I65+J65)>=60),1.1*1.1,IF(OR(LEFT(E65,4)="13CĐ",LEFT(E65,4)="14CĐ"),1.1,IF((I65+J65)>70,1.2,IF((I65+J65)>=60,1.1,1)))))) | L65: =IF(H65=0,"",IF(AND(OR(LEFT(E65,4)="13CĐ",LEFT(E65,4)="14CĐ"),(I65+J65)>35),1.2*1.1,IF(AND(OR(LEFT(E65,4)="13CĐ",LEFT(E65,4)="14CĐ"),(I65+J65)>=30),1.1*1.1,IF(OR(LEFT(E65,4)="13CĐ",LEFT(E65,4)="14CĐ"),1.1,IF((I65+J65)>35,1.2,IF((I65+J65)>=30,1.1,1)))))) | M65: =ROUND(IF(G65>0,G65*K65,"0")+IF(H65>0,(H65/1.5)*L65,"0"),1) -> 0
... K69: =IF(G69=0,"",IF(AND(OR(LEFT(E69,4)="13CĐ",LEFT(E69,4)="14CĐ"),(I69+J69)>70),1.2*1.1,IF(AND(OR(LEFT(E69,4)="13CĐ",LEFT(E69,4)="14CĐ"),(I69+J69)>=60),1.1*1.1,IF(OR(LEFT(E69,4)="13CĐ",LEFT(E69,4)="14CĐ"),1.1,IF((I69+J69)>70,1.2,IF((I69+J69)>=60,1.1,1)))))) | L69: =IF(H69=0,"",IF(AND(OR(LEFT(E69,4)="13CĐ",LEFT(E69,4)="14CĐ"),(I69+J69)>35),1.2*1.1,IF(AND(OR(LEFT(E69,4)="13CĐ",LEFT(E69,4)="14CĐ"),(I69+J69)>=30),1.1*1.1,IF(OR(LEFT(E69,4)="13CĐ",LEFT(E69,4)="14CĐ"),1.1,IF((I69+J69)>35,1.2,IF((I69+J69)>=30,1.1,1)))))) | M69: =ROUND(IF(G69>0,G69*K69,"0")+IF(H69>0,(H69/1.5)*L69,"0"),1) -> 0
B70: =SUM(M51:M70) -> 244 | K70: =IF(G70=0,"",IF(AND(OR(LEFT(E70,4)="13CĐ",LEFT(E70,4)="14CĐ"),(I70+J70)>70),1.2*1.1,IF(AND(OR(LEFT(E70,4)="13CĐ",LEFT(E70,4)="14CĐ"),(I70+J70)>=60),1.1*1.1,IF(OR(LEFT(E70,4)="13CĐ",LEFT(E70,4)="14CĐ"),1.1,IF((I70+J70)>70,1.2,IF((I70+J70)>=60,1.1,1)))))) | L70: =IF(H70=0,"",IF(AND(OR(LEFT(E70,4)="13CĐ",LEFT(E70,4)="14CĐ"),(I70+J70)>35),1.2*1.1,IF(AND(OR(LEFT(E70,4)="13CĐ",LEFT(E70,4)="14CĐ"),(I70+J70)>=30),1.1*1.1,IF(OR(LEFT(E70,4)="13CĐ",LEFT(E70,4)="14CĐ"),1.1,IF((I70+J70)>35,1.2,IF((I70+J70)>=30,1.1,1)))))) | M70: =ROUND(IF(G70>0,G70*K70,"0")+IF(H70>0,(H70/1.5)*L70,"0"),1) -> 0
A71: 4 | B71: ='[1]danh sach'!B14 -> Vũ Hạnh | C71: ='[1]danh sach'!C14 -> Chiêu | D71: TT ĐL&MĐ | E71: 13CĐ.Đ1(N1) | F71: 1 | H71: 60 | I71: 19 | K71: =IF(G71=0,"",IF(AND(OR(LEFT(E71,4)="13CĐ",LEFT(E71,4)="14CĐ"),(I71+J71)>70),1.2*1.1,IF(AND(OR(LEFT(E71,4)="13CĐ",LEFT(E71,4)="14CĐ"),(I71+J71)>=60),1.1*1.1,IF(OR(LEFT(E71,4)="13CĐ",LEFT(E71,4)="14CĐ"),1.1,IF((I71+J71)>70,1.2,IF((I71+J71)>=60,1.1,1)))))) | L71: =IF(H71=0,"",IF(AND(OR(LEFT(E71,4)="13CĐ",LEFT(E71,4)="14CĐ"),(I71+J71)>35),1.2*1.1,IF(AND(OR(LEFT(E71,4)="13CĐ",LEFT(E71,4)="14CĐ"),(I71+J71)>=30),1.1*1.1,IF(OR(LEFT(E71,4)="13CĐ",LEFT(E71,4)="14CĐ"),1.1,IF((I71+J71)>35,1.2,IF((I71+J71)>=30,1.1,1)))))) -> 1.1 | M71: =ROUND(IF(G71>0,G71*K71,"0")+IF(H71>0,(H71/1.5)*L71,"0"),1) -> 44 | N71: ='[2]danh sach'!O14 -> 39 | P71: =SUM(M71:M90)+N71+O71 -> 453.6 | Q71: 36 | R71: ='Mau B2'!L14 -> 186.2 | S71: ='[2]danh sach'!J14 -> 260 | T71: ='[3]danh sach'!R13 -> 221 | U71: 500 | V71: =U71 -> 500 | W71: 360 | X71: =W71 -> 360 | Y71: =ROUND((P71-T71),1) -> 232.6 | Z71: =IF(OR(SUM(V71:V90)="",SUM(Q71:Q90)=""),0,ROUND(IF(SUM(U71:U90)=500,(SUM(Q71:Q90)-SUM(V71:V90))/3.2,IF(SUM(U71:U90)=600,(SUM(Q71:Q90)-SUM(V71:V90))/2.8,0)),1)) -> -145 | AA71: =IF(OR(SUM(X71:X90)="",SUM(R71:R90)=""),0,ROUND(IF(SUM(W71:W90)=360,(SUM(R71:R90)-SUM(X71:X90))/3.2,IF(SUM(W71:W90)=260,(SUM(R71:R90)-SUM(X71:X90))/2.8,0)),1)) -> -54.3 | AC71: =SUM(Y71:AA90) -> 33.3 | AD71: ĐCN
D72: TT ĐL&MĐ | E72: 13CĐ.Đ1(N2) | F72: 1 | H72: 60 | I72: 20 | K72: =IF(G72=0,"",IF(AND(OR(LEFT(E72,4)="13CĐ",LEFT(E72,4)="14CĐ"),(I72+J72)>70),1.2*1.1,IF(AND(OR(LEFT(E72,4)="13CĐ",LEFT(E72,4)="14CĐ"),(I72+J72)>=60),1.1*1.1,IF(OR(LEFT(E72,4)="13CĐ",LEFT(E72,4)="14CĐ"),1.1,IF((I72+J72)>70,1.2,IF((I72+J72)>=60,1.1,1)))))) | L72: =IF(H72=0,"",IF(AND(OR(LEFT(E72,4)="13CĐ",LEFT(E72,4)="14CĐ"),(I72+J72)>35),1.2*1.1,IF(AND(OR(LEFT(E72,4)="13CĐ",LEFT(E72,4)="14CĐ"),(I72+J72)>=30),1.1*1.1,IF(OR(LEFT(E72,4)="13CĐ",LEFT(E72,4)="14CĐ"),1.1,IF((I72+J72)>35,1.2,IF((I72+J72)>=30,1.1,1)))))) -> 1.1 | M72: =ROUND(IF(G72>0,G72*K72,"0")+IF(H72>0,(H72/1.5)*L72,"0"),1) -> 44
D73: TT ĐL&MĐ | E73: 13CĐ.Đ2(N1) | F73: 1 | H73: 60 | I73: 18 | K73: =IF(G73=0,"",IF(AND(OR(LEFT(E73,4)="13CĐ",LEFT(E73,4)="14CĐ"),(I73+J73)>70),1.2*1.1,IF(AND(OR(LEFT(E73,4)="13CĐ",LEFT(E73,4)="14CĐ"),(I73+J73)>=60),1.1*1.1,IF(OR(LEFT(E73,4)="13CĐ",LEFT(E73,4)="14CĐ"),1.1,IF((I73+J73)>70,1.2,IF((I73+J73)>=60,1.1,1)))))) | L73: =IF(H73=0,"",IF(AND(OR(LEFT(E73,4)="13CĐ",LEFT(E73,4)="14CĐ"),(I73+J73)>35),1.2*1.1,IF(AND(OR(LEFT(E73,4)="13CĐ",LEFT(E73,4)="14CĐ"),(I73+J73)>=30),1.1*1.1,IF(OR(LEFT(E73,4)="13CĐ",LEFT(E73,4)="14CĐ"),1.1,IF((I73+J73)>35,1.2,IF((I73+J73)>=30,1.1,1)))))) -> 1.1 | M73: =ROUND(IF(G73>0,G73*K73,"0")+IF(H73>0,(H73/1.5)*L73,"0"),1) -> 44
D74: TT ĐL&MĐ | E74: 13CĐ.Đ2(N2) | F74: 1 | H74: 60 | I74: 18 | K74: =IF(G74=0,"",IF(AND(OR(LEFT(E74,4)="13CĐ",LEFT(E74,4)="14CĐ"),(I74+J74)>70),1.2*1.1,IF(AND(OR(LEFT(E74,4)="13CĐ",LEFT(E74,4)="14CĐ"),(I74+J74)>=60),1.1*1.1,IF(OR(LEFT(E74,4)="13CĐ",LEFT(E74,4)="14CĐ"),1.1,IF((I74+J74)>70,1.2,IF((I74+J74)>=60,1.1,1)))))) | L74: =IF(H74=0,"",IF(AND(OR(LEFT(E74,4)="13CĐ",LEFT(E74,4)="14CĐ"),(I74+J74)>35),1.2*1.1,IF(AND(OR(LEFT(E74,4)="13CĐ",LEFT(E74,4)="14CĐ"),(I74+J74)>=30),1.1*1.1,IF(OR(LEFT(E74,4)="13CĐ",LEFT(E74,4)="14CĐ"),1.1,IF((I74+J74)>35,1.2,IF((I74+J74)>=30,1.1,1)))))) -> 1.1 | M74: =ROUND(IF(G74>0,G74*K74,"0")+IF(H74>0,(H74/1.5)*L74,"0"),1) -> 44
D75: TT ĐL&MĐ | E75: 13CĐ.Đ3 | F75: 1 | H75: 60 | I75: 40 | K75: =IF(G75=0,"",IF(AND(OR(LEFT(E75,4)="13CĐ",LEFT(E75,4)="14CĐ"),(I75+J75)>70),1.2*1.1,IF(AND(OR(LEFT(E75,4)="13CĐ",LEFT(E75,4)="14CĐ"),(I75+J75)>=60),1.1*1.1,IF(OR(LEFT(E75,4)="13CĐ",LEFT(E75,4)="14CĐ"),1.1,IF((I75+J75)>70,1.2,IF((I75+J75)>=60,1.1,1)))))) | L75: =IF(H75=0,"",IF(AND(OR(LEFT(E75,4)="13CĐ",LEFT(E75,4)="14CĐ"),(I75+J75)>35),1.2*1.1,IF(AND(OR(LEFT(E75,4)="13CĐ",LEFT(E75,4)="14CĐ"),(I75+J75)>=30),1.1*1.1,IF(OR(LEFT(E75,4)="13CĐ",LEFT(E75,4)="14CĐ"),1.1,IF((I75+J75)>35,1.2,IF((I75+J75)>=30,1.1,1)))))) -> 1.32 | M75: =ROUND(IF(G75>0,G75*K75,"0")+IF(H75>0,(H75/1.5)*L75,"0"),1) -> 52.8
D76: KTĐ | E76: 13TC-CKT | F76: 1 | G76: 45 | I76: 27 | K76: =IF(G76=0,"",IF(AND(OR(LEFT(E76,4)="13CĐ",LEFT(E76,4)="14CĐ"),(I76+J76)>70),1.2*1.1,IF(AND(OR(LEFT(E76,4)="13CĐ",LEFT(E76,4)="14CĐ"),(I76+J76)>=60),1.1*1.1,IF(OR(LEFT(E76,4)="13CĐ",LEFT(E76,4)="14CĐ"),1.1,IF((I76+J76)>70,1.2,IF((I76+J76)>=60,1.1,1)))))) -> 1 | L76: =IF(H76=0,"",IF(AND(OR(LEFT(E76,4)="13CĐ",LEFT(E76,4)="14CĐ"),(I76+J76)>35),1.2*1.1,IF(AND(OR(LEFT(E76,4)="13CĐ",LEFT(E76,4)="14CĐ"),(I76+J76)>=30),1.1*1.1,IF(OR(LEFT(E76,4)="13CĐ",LEFT(E76,4)="14CĐ"),1.1,IF((I76+J76)>35,1.2,IF((I76+J76)>=30,1.1,1)))))) | M76: =ROUND(IF(G76>0,G76*K76,"0")+IF(H76>0,(H76/1.5)*L76,"0"),1) -> 45
D77: TT ĐL&MĐ | E77: 14CĐ.Đ1(N1) | F77: 2 | H77: 60 | I77: 30 | K77: =IF(G77=0,"",IF(AND(OR(LEFT(E77,4)="13CĐ",LEFT(E77,4)="14CĐ"),(I77+J77)>70),1.2*1.1,IF(AND(OR(LEFT(E77,4)="13CĐ",LEFT(E77,4)="14CĐ"),(I77+J77)>=60),1.1*1.1,IF(OR(LEFT(E77,4)="13CĐ",LEFT(E77,4)="14CĐ"),1.1,IF((I77+J77)>70,1.2,IF((I77+J77)>=60,1.1,1)))))) | L77: =IF(H77=0,"",IF(AND(OR(LEFT(E77,4)="13CĐ",LEFT(E77,4)="14CĐ"),(I77+J77)>35),1.2*1.1,IF(AND(OR(LEFT(E77,4)="13CĐ",LEFT(E77,4)="14CĐ"),(I77+J77)>=30),1.1*1.1,IF(OR(LEFT(E77,4)="13CĐ",LEFT(E77,4)="14CĐ"),1.1,IF((I77+J77)>35,1.2,IF((I77+J77)>=30,1.1,1)))))) -> 1.21 | M77: =ROUND(IF(G77>0,G77*K77,"0")+IF(H77>0,(H77/1.5)*L77,"0"),1) -> 48.4
D78: TT ĐL&MĐ | E78: 14CĐ.ĐT2(N1) | F78: 2 | H78: 60 | I78: 30 | J78: 1 | K78: =IF(G78=0,"",IF(AND(OR(LEFT(E78,4)="13CĐ",LEFT(E78,4)="14CĐ"),(I78+J78)>70),1.2*1.1,IF(AND(OR(LEFT(E78,4)="13CĐ",LEFT(E78,4)="14CĐ"),(I78+J78)>=60),1.1*1.1,IF(OR(LEFT(E78,4)="13CĐ",LEFT(E78,4)="14CĐ"),1.1,IF((I78+J78)>70,1.2,IF((I78+J78)>=60,1.1,1)))))) | L78: =IF(H78=0,"",IF(AND(OR(LEFT(E78,4)="13CĐ",LEFT(E78,4)="14CĐ"),(I78+J78)>35),1.2*1.1,IF(AND(OR(LEFT(E78,4)="13CĐ",LEFT(E78,4)="14CĐ"),(I78+J78)>=30),1.1*1.1,IF(OR(LEFT(E78,4)="13CĐ",LEFT(E78,4)="14CĐ"),1.1,IF((I78+J78)>35,1.2,IF((I78+J78)>=30,1.1,1)))))) -> 1.21 | M78: =ROUND(IF(G78>0,G78*K78,"0")+IF(H78>0,(H78/1.5)*L78,"0"),1) -> 48.4
D79: TT ĐL&MĐ | E79: 14CĐ.ĐT2(N2) | F79: 2 | H79: 60 | I79: 25 | K79: =IF(G79=0,"",IF(AND(OR(LEFT(E79,4)="13CĐ",LEFT(E79,4)="14CĐ"),(I79+J79)>70),1.2*1.1,IF(AND(OR(LEFT(E79,4)="13CĐ",LEFT(E79,4)="14CĐ"),(I79+J79)>=60),1.1*1.1,IF(OR(LEFT(E79,4)="13CĐ",LEFT(E79,4)="14CĐ"),1.1,IF((I79+J79)>70,1.2,IF((I79+J79)>=60,1.1,1)))))) | L79: =IF(H79=0,"",IF(AND(OR(LEFT(E79,4)="13CĐ",LEFT(E79,4)="14CĐ"),(I79+J79)>35),1.2*1.1,IF(AND(OR(LEFT(E79,4)="13CĐ",LEFT(E79,4)="14CĐ"),(I79+J79)>=30),1.1*1.1,IF(OR(LEFT(E79,4)="13CĐ",LEFT(E79,4)="14CĐ"),1.1,IF((I79+J79)>35,1.2,IF((I79+J79)>=30,1.1,1)))))) -> 1.1 | M79: =ROUND(IF(G79>0,G79*K79,"0")+IF(H79>0,(H79/1.5)*L79,"0"),1) -> 44
K80: =IF(G80=0,"",IF(AND(OR(LEFT(E80,4)="13CĐ",LEFT(E80,4)="14CĐ"),(I80+J80)>70),1.2*1.1,IF(AND(OR(LEFT(E80,4)="13CĐ",LEFT(E80,4)="14CĐ"),(I80+J80)>=60),1.1*1.1,IF(OR(LEFT(E80,4)="13CĐ",LEFT(E80,4)="14CĐ"),1.1,IF((I80+J80)>70,1.2,IF((I80+J80)>=60,1.1,1)))))) | L80: =IF(H80=0,"",IF(AND(OR(LEFT(E80,4)="13CĐ",LEFT(E80,4)="14CĐ"),(I80+J80)>35),1.2*1.1,IF(AND(OR(LEFT(E80,4)="13CĐ",LEFT(E80,4)="14CĐ"),(I80+J80)>=30),1.1*1.1,IF(OR(LEFT(E80,4)="13CĐ",LEFT(E80,4)="14CĐ"),1.1,IF((I80+J80)>35,1.2,IF((I80+J80)>=30,1.1,1)))))) | M80: =ROUND(IF(G80>0,G80*K80,"0")+IF(H80>0,(H80/1.5)*L80,"0"),1) -> 0
K81: =IF(G81=0,"",IF(AND(OR(LEFT(E81,4)="13CĐ",LEFT(E81,4)="14CĐ"),(I81+J81)>70),1.2*1.1,IF(AND(OR(LEFT(E81,4)="13CĐ",LEFT(E81,4)="14CĐ"),(I81+J81)>=60),1.1*1.1,IF(OR(LEFT(E81,4)="13CĐ",LEFT(E81,4)="14CĐ"),1.1,IF((I81+J81)>70,1.2,IF((I81+J81)>=60,1.1,1)))))) | L81: =IF(H81=0,"",IF(AND(OR(LEFT(E81,4)="13CĐ",LEFT(E81,4)="14CĐ"),(I81+J81)>35),1.2*1.1,IF(AND(OR(LEFT(E81,4)="13CĐ",LEFT(E81,4)="14CĐ"),(I81+J81)>=30),1.1*1.1,IF(OR(LEFT(E81,4)="13CĐ",LEFT(E81,4)="14CĐ"),1.1,IF((I81+J81)>35,1.2,IF((I81+J81)>=30,1.1,1)))))) | M81: =ROUND(IF(G81>0,G81*K81,"0")+IF(H81>0,(H81/1.5)*L81,"0"),1) -> 0
K82: =IF(G82=0,"",IF(AND(OR(LEFT(E82,4)="13CĐ",LEFT(E82,4)="14CĐ"),(I82+J82)>70),1.2*1.1,IF(AND(OR(LEFT(E82,4)="13CĐ",LEFT(E82,4)="14CĐ"),(I82+J82)>=60),1.1*1.1,IF(OR(LEFT(E82,4)="13CĐ",LEFT(E82,4)="14CĐ"),1.1,IF((I82+J82)>70,1.2,IF((I82+J82)>=60,1.1,1)))))) | L82: =IF(H82=0,"",IF(AND(OR(LEFT(E82,4)="13CĐ",LEFT(E82,4)="14CĐ"),(I82+J82)>35),1.2*1.1,IF(AND(OR(LEFT(E82,4)="13CĐ",LEFT(E82,4)="14CĐ"),(I82+J82)>=30),1.1*1.1,IF(OR(LEFT(E82,4)="13CĐ",LEFT(E82,4)="14CĐ"),1.1,IF((I82+J82)>35,1.2,IF((I82+J82)>=30,1.1,1)))))) | M82: =ROUND(IF(G82>0,G82*K82,"0")+IF(H82>0,(H82/1.5)*L82,"0"),1) -> 0
K83: =IF(G83=0,"",IF(AND(OR(LEFT(E83,4)="13CĐ",LEFT(E83,4)="14CĐ"),(I83+J83)>70),1.2*1.1,IF(AND(OR(LEFT(E83,4)="13CĐ",LEFT(E83,4)="14CĐ"),(I83+J83)>=60),1.1*1.1,IF(OR(LEFT(E83,4)="13CĐ",LEFT(E83,4)="14CĐ"),1.1,IF((I83+J83)>70,1.2,IF((I83+J83)>=60,1.1,1)))))) | L83: =IF(H83=0,"",IF(AND(OR(LEFT(E83,4)="13CĐ",LEFT(E83,4)="14CĐ"),(I83+J83)>35),1.2*1.1,IF(AND(OR(LEFT(E83,4)="13CĐ",LEFT(E83,4)="14CĐ"),(I83+J83)>=30),1.1*1.1,IF(OR(LEFT(E83,4)="13CĐ",LEFT(E83,4)="14CĐ"),1.1,IF((I83+J83)>35,1.2,IF((I83+J83)>=30,1.1,1)))))) | M83: =ROUND(IF(G83>0,G83*K83,"0")+IF(H83>0,(H83/1.5)*L83,"0"),1) -> 0
K84: =IF(G84=0,"",IF(AND(OR(LEFT(E84,4)="13CĐ",LEFT(E84,4)="14CĐ"),(I84+J84)>70),1.2*1.1,IF(AND(OR(LEFT(E84,4)="13CĐ",LEFT(E84,4)="14CĐ"),(I84+J84)>=60),1.1*1.1,IF(OR(LEFT(E84,4)="13CĐ",LEFT(E84,4)="14CĐ"),1.1,IF((I84+J84)>70,1.2,IF((I84+J84)>=60,1.1,1)))))) | L84: =IF(H84=0,"",IF(AND(OR(LEFT(E84,4)="13CĐ",LEFT(E84,4)="14CĐ"),(I84+J84)>35),1.2*1.1,IF(AND(OR(LEFT(E84,4)="13CĐ",LEFT(E84,4)="14CĐ"),(I84+J84)>=30),1.1*1.1,IF(OR(LEFT(E84,4)="13CĐ",LEFT(E84,4)="14CĐ"),1.1,IF((I84+J84)>35,1.2,IF((I84+J84)>=30,1.1,1)))))) | M84: =ROUND(IF(G84>0,G84*K84,"0")+IF(H84>0,(H84/1.5)*L84,"0"),1) -> 0
K85: =IF(G85=0,"",IF(AND(OR(LEFT(E85,4)="13CĐ",LEFT(E85,4)="14CĐ"),(I85+J85)>70),1.2*1.1,IF(AND(OR(LEFT(E85,4)="13CĐ",LEFT(E85,4)="14CĐ"),(I85+J85)>=60),1.1*1.1,IF(OR(LEFT(E85,4)="13CĐ",LEFT(E85,4)="14CĐ"),1.1,IF((I85+J85)>70,1.2,IF((I85+J85)>=60,1.1,1)))))) | L85: =IF(H85=0,"",IF(AND(OR(LEFT(E85,4)="13CĐ",LEFT(E85,4)="14CĐ"),(I85+J85)>35),1.2*1.1,IF(AND(OR(LEFT(E85,4)="13CĐ",LEFT(E85,4)="14CĐ"),(I85+J85)>=30),1.1*1.1,IF(OR(LEFT(E85,4)="13CĐ",LEFT(E85,4)="14CĐ"),1.1,IF((I85+J85)>35,1.2,IF((I85+J85)>=30,1.1,1)))))) | M85: =ROUND(IF(G85>0,G85*K85,"0")+IF(H85>0,(H85/1.5)*L85,"0"),1) -> 0
K86: =IF(G86=0,"",IF(AND(OR(LEFT(E86,4)="13CĐ",LEFT(E86,4)="14CĐ"),(I86+J86)>70),1.2*1.1,IF(AND(OR(LEFT(E86,4)="13CĐ",LEFT(E86,4)="14CĐ"),(I86+J86)>=60),1.1*1.1,IF(OR(LEFT(E86,4)="13CĐ",LEFT(E86,4)="14CĐ"),1.1,IF((I86+J86)>70,1.2,IF((I86+J86)>=60,1.1,1)))))) | L86: =IF(H86=0,"",IF(AND(OR(LEFT(E86,4)="13CĐ",LEFT(E86,4)="14CĐ"),(I86+J86)>35),1.2*1.1,IF(AND(OR(LEFT(E86,4)="13CĐ",LEFT(E86,4)="14CĐ"),(I86+J86)>=30),1.1*1.1,IF(OR(LEFT(E86,4)="13CĐ",LEFT(E86,4)="14CĐ"),1.1,IF((I86+J86)>35,1.2,IF((I86+J86)>=30,1.1,1)))))) | M86: =ROUND(IF(G86>0,G86*K86,"0")+IF(H86>0,(H86/1.5)*L86,"0"),1) -> 0
K87: =IF(G87=0,"",IF(AND(OR(LEFT(E87,4)="13CĐ",LEFT(E87,4)="14CĐ"),(I87+J87)>70),1.2*1.1,IF(AND(OR(LEFT(E87,4)="13CĐ",LEFT(E87,4)="14CĐ"),(I87+J87)>=60),1.1*1.1,IF(OR(LEFT(E87,4)="13CĐ",LEFT(E87,4)="14CĐ"),1.1,IF((I87+J87)>70,1.2,IF((I87+J87)>=60,1.1,1)))))) | L87: =IF(H87=0,"",IF(AND(OR(LEFT(E87,4)="13CĐ",LEFT(E87,4)="14CĐ"),(I87+J87)>35),1.2*1.1,IF(AND(OR(LEFT(E87,4)="13CĐ",LEFT(E87,4)="14CĐ"),(I87+J87)>=30),1.1*1.1,IF(OR(LEFT(E87,4)="13CĐ",LEFT(E87,4)="14CĐ"),1.1,IF((I87+J87)>35,1.2,IF((I87+J87)>=30,1.1,1)))))) | M87: =ROUND(IF(G87>0,G87*K87,"0")+IF(H87>0,(H87/1.5)*L87,"0"),1) -> 0
K88: =IF(G88=0,"",IF(AND(OR(LEFT(E88,4)="13CĐ",LEFT(E88,4)="14CĐ"),(I88+J88)>70),1.2*1.1,IF(AND(OR(LEFT(E88,4)="13CĐ",LEFT(E88,4)="14CĐ"),(I88+J88)>=60),1.1*1.1,IF(OR(LEFT(E88,4)="13CĐ",LEFT(E88,4)="14CĐ"),1.1,IF((I88+J88)>70,1.2,IF((I88+J88)>=60,1.1,1)))))) | L88: =IF(H88=0,"",IF(AND(OR(LEFT(E88,4)="13CĐ",LEFT(E88,4)="14CĐ"),(I88+J88)>35),1.2*1.1,IF(AND(OR(LEFT(E88,4)="13CĐ",LEFT(E88,4)="14CĐ"),(I88+J88)>=30),1.1*1.1,IF(OR(LEFT(E88,4)="13CĐ",LEFT(E88,4)="14CĐ"),1.1,IF((I88+J88)>35,1.2,IF((I88+J88)>=30,1.1,1)))))) | M88: =ROUND(IF(G88>0,G88*K88,"0")+IF(H88>0,(H88/1.5)*L88,"0"),1) -> 0
K89: =IF(G89=0,"",IF(AND(OR(LEFT(E89,4)="13CĐ",LEFT(E89,4)="14CĐ"),(I89+J89)>70),1.2*1.1,IF(AND(OR(LEFT(E89,4)="13CĐ",LEFT(E89,4)="14CĐ"),(I89+J89)>=60),1.1*1.1,IF(OR(LEFT(E89,4)="13CĐ",LEFT(E89,4)="14CĐ"),1.1,IF((I89+J89)>70,1.2,IF((I89+J89)>=60,1.1,1)))))) | L89: =IF(H89=0,"",IF(AND(OR(LEFT(E89,4)="13CĐ",LEFT(E89,4)="14CĐ"),(I89+J89)>35),1.2*1.1,IF(AND(OR(LEFT(E89,4)="13CĐ",LEFT(E89,4)="14CĐ"),(I89+J89)>=30),1.1*1.1,IF(OR(LEFT(E89,4)="13CĐ",LEFT(E89,4)="14CĐ"),1.1,IF((I89+J89)>35,1.2,IF((I89+J89)>=30,1.1,1)))))) | M89: =ROUND(IF(G89>0,G89*K89,"0")+IF(H89>0,(H89/1.5)*L89,"0"),1) -> 0
B90: =SUM(M71:M90) -> 414.6 | K90: =IF(G90=0,"",IF(AND(OR(LEFT(E90,4)="13CĐ",LEFT(E90,4)="14CĐ"),(I90+J90)>70),1.2*1.1,IF(AND(OR(LEFT(E90,4)="13CĐ",LEFT(E90,4)="14CĐ"),(I90+J90)>=60),1.1*1.1,IF(OR(LEFT(E90,4)="13CĐ",LEFT(E90,4)="14CĐ"),1.1,IF((I90+J90)>70,1.2,IF((I90+J90)>=60,1.1,1)))))) | L90: =IF(H90=0,"",IF(AND(OR(LEFT(E90,4)="13CĐ",LEFT(E90,4)="14CĐ"),(I90+J90)>35),1.2*1.1,IF(AND(OR(LEFT(E90,4)="13CĐ",LEFT(E90,4)="14CĐ"),(I90+J90)>=30),1.1*1.1,IF(OR(LEFT(E90,4)="13CĐ",LEFT(E90,4)="14CĐ"),1.1,IF((I90+J90)>35,1.2,IF((I90+J90)>=30,1.1,1)))))) | M90: =ROUND(IF(G90>0,G90*K90,"0")+IF(H90>0,(H90/1.5)*L90,"0"),1) -> 0
A91: 5 | B91: ='[1]danh sach'!B15 -> Ngô Phong | C91: ='[1]danh sach'!C15 -> Cường | D91: Vẽ điện – điện tử | E91: 12CĐ.ĐT1 | F91: 1 | G91: 30 | I91: 36 | K91: =IF(G91=0,"",IF(AND(OR(LEFT(E91,4)="13CĐ",LEFT(E91,4)="14CĐ"),(I91+J91)>70),1.2*1.1,IF(AND(OR(LEFT(E91,4)="13CĐ",LEFT(E91,4)="14CĐ"),(I91+J91)>=60),1.1*1.1,IF(OR(LEFT(E91,4)="13CĐ",LEFT(E91,4)="14CĐ"),1.1,IF((I91+J91)>70,1.2,IF((I91+J91)>=60,1.1,1)))))) -> 1 | L91: =IF(H91=0,"",IF(AND(OR(LEFT(E91,4)="13CĐ",LEFT(E91,4)="14CĐ"),(I91+J91)>35),1.2*1.1,IF(AND(OR(LEFT(E91,4)="13CĐ",LEFT(E91,4)="14CĐ"),(I91+J91)>=30),1.1*1.1,IF(OR(LEFT(E91,4)="13CĐ",LEFT(E91,4)="14CĐ"),1.1,IF((I91+J91)>35,1.2,IF((I91+J91)>=30,1.1,1)))))) | M91: =ROUND(IF(G91>0,G91*K91,"0")+IF(H91>0,(H91/1.5)*L91,"0"),1) -> 30 | N91: ='[2]danh sach'!O15 -> 19.5 | P91: =SUM(M91:M110)+N91+O91 -> 305.7 | Q91: 198 | R91: ='Mau B2'!L15 -> 271.8 | S91: ='[2]danh sach'!J15 -> 260 | T91: ='[3]danh sach'!R14 -> 240.5 | U91: 500 | V91: =U91 -> 500 | W91: 360 | X91: =W91 -> 360 | Y91: =ROUND((P91-T91),1) -> 65.2 | Z91: =IF(OR(SUM(V91:V110)="",SUM(Q91:Q110)=""),0,ROUND(IF(SUM(U91:U110)=500,(SUM(Q91:Q110)-SUM(V91:V110))/3.2,IF(SUM(U91:U110)=600,(SUM(Q91:Q110)-SUM(V91:V110))/2.8,0)),1)) -> -94.4 | AA91: =IF(OR(SUM(X91:X110)="",SUM(R91:R110)=""),0,ROUND(IF(SUM(W91:W110)=360,(SUM(R91:R110)-SUM(X91:X110))/3.2,IF(SUM(W91:W110)=260,(SUM(R91:R110)-SUM(X91:X110))/2.8,0)),1)) -> -27.6 | AB91: 186.7 | AC91: =SUM(Y91:AA110) -> -56.8 | AD91: TĐH
D92: Vẽ điện – điện tử | E92: 12CĐ.ĐT2 | F92: 1 | G92: 30 | I92: 40 | K92: =IF(G92=0,"",IF(AND(OR(LEFT(E92,4)="13CĐ",LEFT(E92,4)="14CĐ"),(I92+J92)>70),1.2*1.1,IF(AND(OR(LEFT(E92,4)="13CĐ",LEFT(E92,4)="14CĐ"),(I92+J92)>=60),1.1*1.1,IF(OR(LEFT(E92,4)="13CĐ",LEFT(E92,4)="14CĐ"),1.1,IF((I92+J92)>70,1.2,IF((I92+J92)>=60,1.1,1)))))) -> 1 | L92: =IF(H92=0,"",IF(AND(OR(LEFT(E92,4)="13CĐ",LEFT(E92,4)="14CĐ"),(I92+J92)>35),1.2*1.1,IF(AND(OR(LEFT(E92,4)="13CĐ",LEFT(E92,4)="14CĐ"),(I92+J92)>=30),1.1*1.1,IF(OR(LEFT(E92,4)="13CĐ",LEFT(E92,4)="14CĐ"),1.1,IF((I92+J92)>35,1.2,IF((I92+J92)>=30,1.1,1)))))) | M92: =ROUND(IF(G92>0,G92*K92,"0")+IF(H92>0,(H92/1.5)*L92,"0"),1) -> 30
D93: Vẽ điện – điện tử | E93: 12CĐ.ĐT3 | F93: 1 | G93: 30 | I93: 28 | K93: =IF(G93=0,"",IF(AND(OR(LEFT(E93,4)="13CĐ",LEFT(E93,4)="14CĐ"),(I93+J93)>70),1.2*1.1,IF(AND(OR(LEFT(E93,4)="13CĐ",LEFT(E93,4)="14CĐ"),(I93+J93)>=60),1.1*1.1,IF(OR(LEFT(E93,4)="13CĐ",LEFT(E93,4)="14CĐ"),1.1,IF((I93+J93)>70,1.2,IF((I93+J93)>=60,1.1,1)))))) -> 1 | L93: =IF(H93=0,"",IF(AND(OR(LEFT(E93,4)="13CĐ",LEFT(E93,4)="14CĐ"),(I93+J93)>35),1.2*1.1,IF(AND(OR(LEFT(E93,4)="13CĐ",LEFT(E93,4)="14CĐ"),(I93+J93)>=30),1.1*1.1,IF(OR(LEFT(E93,4)="13CĐ",LEFT(E93,4)="14CĐ"),1.1,IF((I93+J93)>35,1.2,IF((I93+J93)>=30,1.1,1)))))) | M93: =ROUND(IF(G93>0,G93*K93,"0")+IF(H93>0,(H93/1.5)*L93,"0"),1) -> 30
D94: KT Audio và Video (số) | E94: 12CĐ.ĐT1 | F94: 1 | G94: 30 | I94: 36 | K94: =IF(G94=0,"",IF(AND(OR(LEFT(E94,4)="13CĐ",LEFT(E94,4)="14CĐ"),(I94+J94)>70),1.2*1.1,IF(AND(OR(LEFT(E94,4)="13CĐ",LEFT(E94,4)="14CĐ"),(I94+J94)>=60),1.1*1.1,IF(OR(LEFT(E94,4)="13CĐ",LEFT(E94,4)="14CĐ"),1.1,IF((I94+J94)>70,1.2,IF((I94+J94)>=60,1.1,1)))))) -> 1 | L94: =IF(H94=0,"",IF(AND(OR(LEFT(E94,4)="13CĐ",LEFT(E94,4)="14CĐ"),(I94+J94)>35),1.2*1.1,IF(AND(OR(LEFT(E94,4)="13CĐ",LEFT(E94,4)="14CĐ"),(I94+J94)>=30),1.1*1.1,IF(OR(LEFT(E94,4)="13CĐ",LEFT(E94,4)="14CĐ"),1.1,IF((I94+J94)>35,1.2,IF((I94+J94)>=30,1.1,1)))))) | M94: =ROUND(IF(G94>0,G94*K94,"0")+IF(H94>0,(H94/1.5)*L94,"0"),1) -> 30
D95: KT Audio và Video (số) | E95: 12CĐ.ĐT2 | F95: 1 | G95: 30 | I95: 40 | K95: =IF(G95=0,"",IF(AND(OR(LEFT(E95,4)="13CĐ",LEFT(E95,4)="14CĐ"),(I95+J95)>70),1.2*1.1,IF(AND(OR(LEFT(E95,4)="13CĐ",LEFT(E95,4)="14CĐ"),(I95+J95)>=60),1.1*1.1,IF(OR(LEFT(E95,4)="13CĐ",LEFT(E95,4)="14CĐ"),1.1,IF((I95+J95)>70,1.2,IF((I95+J95)>=60,1.1,1)))))) -> 1 | L95: =IF(H95=0,"",IF(AND(OR(LEFT(E95,4)="13CĐ",LEFT(E95,4)="14CĐ"),(I95+J95)>35),1.2*1.1,IF(AND(OR(LEFT(E95,4)="13CĐ",LEFT(E95,4)="14CĐ"),(I95+J95)>=30),1.1*1.1,IF(OR(LEFT(E95,4)="13CĐ",LEFT(E95,4)="14CĐ"),1.1,IF((I95+J95)>35,1.2,IF((I95+J95)>=30,1.1,1)))))) | M95: =ROUND(IF(G95>0,G95*K95,"0")+IF(H95>0,(H95/1.5)*L95,"0"),1) -> 30
D96: KT Audio và Video (số) | E96: 12CĐ.ĐT3 | F96: 1 | G96: 30 | I96: 28 | K96: =IF(G96=0,"",IF(AND(OR(LEFT(E96,4)="13CĐ",LEFT(E96,4)="14CĐ"),(I96+J96)>70),1.2*1.1,IF(AND(OR(LEFT(E96,4)="13CĐ",LEFT(E96,4)="14CĐ"),(I96+J96)>=60),1.1*1.1,IF(OR(LEFT(E96,4)="13CĐ",LEFT(E96,4)="14CĐ"),1.1,IF((I96+J96)>70,1.2,IF((I96+J96)>=60,1.1,1)))))) -> 1 | L96: =IF(H96=0,"",IF(AND(OR(LEFT(E96,4)="13CĐ",LEFT(E96,4)="14CĐ"),(I96+J96)>35),1.2*1.1,IF(AND(OR(LEFT(E96,4)="13CĐ",LEFT(E96,4)="14CĐ"),(I96+J96)>=30),1.1*1.1,IF(OR(LEFT(E96,4)="13CĐ",LEFT(E96,4)="14CĐ"),1.1,IF((I96+J96)>35,1.2,IF((I96+J96)>=30,1.1,1)))))) | M96: =ROUND(IF(G96>0,G96*K96,"0")+IF(H96>0,(H96/1.5)*L96,"0"),1) -> 30
D97: Vẽ thiết kế điện (nghỉ 1b 2t T. V Cường thay) | E97: 14TC.Đ | F97: 1 | G97: =30-2 -> 28 | I97: 77 | K97: =IF(G97=0,"",IF(AND(OR(LEFT(E97,4)="13CĐ",LEFT(E97,4)="14CĐ"),(I97+J97)>70),1.2*1.1,IF(AND(OR(LEFT(E97,4)="13CĐ",LEFT(E97,4)="14CĐ"),(I97+J97)>=60),1.1*1.1,IF(OR(LEFT(E97,4)="13CĐ",LEFT(E97,4)="14CĐ"),1.1,IF((I97+J97)>70,1.2,IF((I97+J97)>=60,1.1,1)))))) -> 1.2 | L97: =IF(H97=0,"",IF(AND(OR(LEFT(E97,4)="13CĐ",LEFT(E97,4)="14CĐ"),(I97+J97)>35),1.2*1.1,IF(AND(OR(LEFT(E97,4)="13CĐ",LEFT(E97,4)="14CĐ"),(I97+J97)>=30),1.1*1.1,IF(OR(LEFT(E97,4)="13CĐ",LEFT(E97,4)="14CĐ"),1.1,IF((I97+J97)>35,1.2,IF((I97+J97)>=30,1.1,1)))))) | M97: =ROUND(IF(G97>0,G97*K97,"0")+IF(H97>0,(H97/1.5)*L97,"0"),1) -> 33.6
D98: KT audio và video | E98: 13CĐ.ĐT1 | F98: 2 | G98: 30 | I98: 62 | J98: 2 | K98: =IF(G98=0,"",IF(AND(OR(LEFT(E98,4)="13CĐ",LEFT(E98,4)="14CĐ"),(I98+J98)>70),1.2*1.1,IF(AND(OR(LEFT(E98,4)="13CĐ",LEFT(E98,4)="14CĐ"),(I98+J98)>=60),1.1*1.1,IF(OR(LEFT(E98,4)="13CĐ",LEFT(E98,4)="14CĐ"),1.1,IF((I98+J98)>70,1.2,IF((I98+J98)>=60,1.1,1)))))) -> 1.21 | L98: =IF(H98=0,"",IF(AND(OR(LEFT(E98,4)="13CĐ",LEFT(E98,4)="14CĐ"),(I98+J98)>35),1.2*1.1,IF(AND(OR(LEFT(E98,4)="13CĐ",LEFT(E98,4)="14CĐ"),(I98+J98)>=30),1.1*1.1,IF(OR(LEFT(E98,4)="13CĐ",LEFT(E98,4)="14CĐ"),1.1,IF((I98+J98)>35,1.2,IF((I98+J98)>=30,1.1,1)))))) | M98: =ROUND(IF(G98>0,G98*K98,"0")+IF(H98>0,(H98/1.5)*L98,"0"),1) -> 36.3
D99: KT audio và video | E99: 13CĐ.ĐT2 | F99: 2 | G99: 30 | I99: 60 | J99: 4 | K99: =IF(G99=0,"",IF(AND(OR(LEFT(E99,4)="13CĐ",LEFT(E99,4)="14CĐ"),(I99+J99)>70),1.2*1.1,IF(AND(OR(LEFT(E99,4)="13CĐ",LEFT(E99,4)="14CĐ"),(I99+J99)>=60),1.1*1.1,IF(OR(LEFT(E99,4)="13CĐ",LEFT(E99,4)="14CĐ"),1.1,IF((I99+J99)>70,1.2,IF((I99+J99)>=60,1.1,1)))))) -> 1.21 | L99: =IF(H99=0,"",IF(AND(OR(LEFT(E99,4)="13CĐ",LEFT(E99,4)="14CĐ"),(I99+J99)>35),1.2*1.1,IF(AND(OR(LEFT(E99,4)="13CĐ",LEFT(E99,4)="14CĐ"),(I99+J99)>=30),1.1*1.1,IF(OR(LEFT(E99,4)="13CĐ",LEFT(E99,4)="14CĐ"),1.1,IF((I99+J99)>35,1.2,IF((I99+J99)>=30,1.1,1)))))) | M99: =ROUND(IF(G99>0,G99*K99,"0")+IF(H99>0,(H99/1.5)*L99,"0"),1) -> 36.3
K100: =IF(G100=0,"",IF(AND(OR(LEFT(E100,4)="13CĐ",LEFT(E100,4)="14CĐ"),(I100+J100)>70),1.2*1.1,IF(AND(OR(LEFT(E100,4)="13CĐ",LEFT(E100,4)="14CĐ"),(I100+J100)>=60),1.1*1.1,IF(OR(LEFT(E100,4)="13CĐ",LEFT(E100,4)="14CĐ"),1.1,IF((I100+J100)>70,1.2,IF((I100+J100)>=60,1.1,1)))))) | L100: =IF(H100=0,"",IF(AND(OR(LEFT(E100,4)="13CĐ",LEFT(E100,4)="14CĐ"),(I100+J100)>35),1.2*1.1,IF(AND(OR(LEFT(E100,4)="13CĐ",LEFT(E100,4)="14CĐ"),(I100+J100)>=30),1.1*1.1,IF(OR(LEFT(E100,4)="13CĐ",LEFT(E100,4)="14CĐ"),1.1,IF((I100+J100)>35,1.2,IF((I100+J100)>=30,1.1,1)))))) | M100: =ROUND(IF(G100>0,G100*K100,"0")+IF(H100>0,(H100/1.5)*L100,"0"),1) -> 0
K101: =IF(G101=0,"",IF(AND(OR(LEFT(E101,4)="13CĐ",LEFT(E101,4)="14CĐ"),(I101+J101)>70),1.2*1.1,IF(AND(OR(LEFT(E101,4)="13CĐ",LEFT(E101,4)="14CĐ"),(I101+J101)>=60),1.1*1.1,IF(OR(LEFT(E101,4)="13CĐ",LEFT(E101,4)="14CĐ"),1.1,IF((I101+J101)>70,1.2,IF((I101+J101)>=60,1.1,1)))))) | L101: =IF(H101=0,"",IF(AND(OR(LEFT(E101,4)="13CĐ",LEFT(E101,4)="14CĐ"),(I101+J101)>35),1.2*1.1,IF(AND(OR(LEFT(E101,4)="13CĐ",LEFT(E101,4)="14CĐ"),(I101+J101)>=30),1.1*1.1,IF(OR(LEFT(E101,4)="13CĐ",LEFT(E101,4)="14CĐ"),1.1,IF((I101+J101)>35,1.2,IF((I101+J101)>=30,1.1,1)))))) | M101: =ROUND(IF(G101>0,G101*K101,"0")+IF(H101>0,(H101/1.5)*L101,"0"),1) -> 0
K102: =IF(G102=0,"",IF(AND(OR(LEFT(E102,4)="13CĐ",LEFT(E102,4)="14CĐ"),(I102+J102)>70),1.2*1.1,IF(AND(OR(LEFT(E102,4)="13CĐ",LEFT(E102,4)="14CĐ"),(I102+J102)>=60),1.1*1.1,IF(OR(LEFT(E102,4)="13CĐ",LEFT(E102,4)="14CĐ"),1.1,IF((I102+J102)>70,1.2,IF((I102+J102)>=60,1.1,1)))))) | L102: =IF(H102=0,"",IF(AND(OR(LEFT(E102,4)="13CĐ",LEFT(E102,4)="14CĐ"),(I102+J102)>35),1.2*1.1,IF(AND(OR(LEFT(E102,4)="13CĐ",LEFT(E102,4)="14CĐ"),(I102+J102)>=30),1.1*1.1,IF(OR(LEFT(E102,4)="13CĐ",LEFT(E102,4)="14CĐ"),1.1,IF((I102+J102)>35,1.2,IF((I102+J102)>=30,1.1,1)))))) | M102: =ROUND(IF(G102>0,G102*K102,"0")+IF(H102>0,(H102/1.5)*L102,"0"),1) -> 0
K103: =IF(G103=0,"",IF(AND(OR(LEFT(E103,4)="13CĐ",LEFT(E103,4)="14CĐ"),(I103+J103)>70),1.2*1.1,IF(AND(OR(LEFT(E103,4)="13CĐ",LEFT(E103,4)="14CĐ"),(I103+J103)>=60),1.1*1.1,IF(OR(LEFT(E103,4)="13CĐ",LEFT(E103,4)="14CĐ"),1.1,IF((I103+J103)>70,1.2,IF((I103+J103)>=60,1.1,1)))))) | L103: =IF(H103=0,"",IF(AND(OR(LEFT(E103,4)="13CĐ",LEFT(E103,4)="14CĐ"),(I103+J103)>35),1.2*1.1,IF(AND(OR(LEFT(E103,4)="13CĐ",LEFT(E103,4)="14CĐ"),(I103+J103)>=30),1.1*1.1,IF(OR(LEFT(E103,4)="13CĐ",LEFT(E103,4)="14CĐ"),1.1,IF((I103+J103)>35,1.2,IF((I103+J103)>=30,1.1,1)))))) | M103: =ROUND(IF(G103>0,G103*K103,"0")+IF(H103>0,(H103/1.5)*L103,"0"),1) -> 0
K104: =IF(G104=0,"",IF(AND(OR(LEFT(E104,4)="13CĐ",LEFT(E104,4)="14CĐ"),(I104+J104)>70),1.2*1.1,IF(AND(OR(LEFT(E104,4)="13CĐ",LEFT(E104,4)="14CĐ"),(I104+J104)>=60),1.1*1.1,IF(OR(LEFT(E104,4)="13CĐ",LEFT(E104,4)="14CĐ"),1.1,IF((I104+J104)>70,1.2,IF((I104+J104)>=60,1.1,1)))))) | L104: =IF(H104=0,"",IF(AND(OR(LEFT(E104,4)="13CĐ",LEFT(E104,4)="14CĐ"),(I104+J104)>35),1.2*1.1,IF(AND(OR(LEFT(E104,4)="13CĐ",LEFT(E104,4)="14CĐ"),(I104+J104)>=30),1.1*1.1,IF(OR(LEFT(E104,4)="13CĐ",LEFT(E104,4)="14CĐ"),1.1,IF((I104+J104)>35,1.2,IF((I104+J104)>=30,1.1,1)))))) | M104: =ROUND(IF(G104>0,G104*K104,"0")+IF(H104>0,(H104/1.5)*L104,"0"),1) -> 0
...

Sheet Mau A2
Q1: Mẫu A2
A2: UBND THÀNH PHỐ HỒ CHÍ MINH | K2: CỘNG HÒA XÃ HỘI CHỦ NGHĨA VIỆT NAM
A3: TRƯỜNG CAO ĐẲNG KỸ THUẬT LÝ TỰ TRỌNG TP. HỒ CHÍ MINH | K3: Độc lập - Tự do - Hạnh phúc
A4: BẢNG TỔNG KẾT KHỐI LƯỢNG CÔNG VIỆC CỦA GIẢNG VIÊN TRONG NĂM HỌC 2014 - 2015
A5: KHOA : CÔNG NGHỆ ĐIỆN - ĐIỆN TỬ
A7: TT | B7: Họ và Tên | D7: Thực hiện trong năm học | J7: Số tiết chuẩn giảng dạy cả năm | K7: Số giờ chuẩn NCKH | L7: Số giờ chuẩn "Hoạt động chuyên môn và khối lượng khác" | M7: Số tiết thừa, thiếu giảng dạy | N7: Số tiết thừa, thiếu NCKH | O7: Số tiết thừa, thiếu "Hoạt động chuyên môn và khối lượng khác" | P7: Tổng số tiết thừa, thiếu năm học 2014-2015 | Q7: Số tiết thừa năm học 2013-2014 | R7: Tổng số tiết thừa, thiếu (sau khi cộng số tiết thừa năm học 2013-2014)
D8: Số tiết quy đổi và đã nhân hệ số | E8: Kiêm nhiệm | F8: Khối lượng công tác cộng thêm | G8: Tổng tiết thực hiện | H8: Số giờ NCKH | I8: Số giờ "Hoạt động chuyên môn và khối lượng khác"
A10: (1) | B10: (2) | D10: (3) | E10: (4) | F10: (5) | G10: (6) | H10: (7) | I10: (8) | J10: (9) | K10: (10) | L10: (11) | M10: (12) | N10: (13) | O10: (14) | P10: (15) | Q10: (16) | R10: (17)
A11: 1 | B11: =IF('Mau A1'!B11="","",'Mau A1'!B11) -> Hồ Thị | C11: =IF('Mau A1'!C11="","",'Mau A1'!C11) -> Anh | D11: =SUM('Mau A1'!M11:M30) -> 329.6 | E11: =SUM('Mau A1'!N11:N30) -> 46.5 | F11: =SUM('Mau A1'!O11:O30) -> 0 | G11: =SUM('Mau A1'!P11:P30) -> 376.1 | H11: =SUM('Mau A1'!Q11:Q30) -> 680 | I11: =SUM('Mau A1'!R11:R30) -> 248 | J11: =SUM('Mau A1'!T11:T30) -> 263.5 | K11: =SUM('Mau A1'!V11:V30) -> 500 | L11: =SUM('Mau A1'!X11:X30) -> 360 | M11: =SUM('Mau A1'!Y11:Y30) -> 112.6 | N11: =SUM('Mau A1'!Z11:Z30) -> 56.3 | O11: =SUM('Mau A1'!AA11:AA30) -> -35 | P11: =SUM('Mau A1'!AC11:AC30) -> 133.9 | Q11: =SUM('Mau A1'!AB11:AB30) -> 36.4 | R11: =P11+Q11 -> 170.3
A12: 2 | B12: =IF('Mau A1'!B31="","",'Mau A1'!B31) -> Ngô Hoàng | C12: =IF('Mau A1'!C31="","",'Mau A1'!C31) -> Anh | D12: =SUM('Mau A1'!M31:M50) -> 440.1 | E12: =SUM('Mau A1'!N31:N50) -> 58 | F12: =SUM('Mau A1'!O31:O50) -> 0 | G12: =SUM('Mau A1'!P31:P50) -> 498.1 | H12: =SUM('Mau A1'!Q31:Q50) -> 255 | I12: =SUM('Mau A1'!R31:R50) -> 258.4 | J12: =SUM('Mau A1'!T31:T50) -> 232 | K12: =SUM('Mau A1'!V31:V50) -> 500 | L12: =SUM('Mau A1'!X31:X50) -> 360 | M12: =SUM('Mau A1'!Y31:Y50) -> 266.1 | N12: =SUM('Mau A1'!Z31:Z50) -> -76.6 | O12: =SUM('Mau A1'!AA31:AA50) -> -31.8 | P12: =SUM('Mau A1'!AC31:AC50) -> 157.7 | Q12: =SUM('Mau A1'!AB31:AB50) -> 41.8 | R12: =P12+Q12 -> 199.5
A13: 3 | B13: =IF('Mau A1'!B51="","",'Mau A1'!B51) -> Châu Văn | C13: =IF('Mau A1'!C51="","",'Mau A1'!C51) -> Bảo | D13: =SUM('Mau A1'!M51:M70) -> 244 | E13: =SUM('Mau A1'!N51:N70) -> 75.8 | F13: =SUM('Mau A1'!O51:O70) -> 0 | G13: =SUM('Mau A1'!P51:P70) -> 319.8 | H13: =SUM('Mau A1'!Q51:Q70) -> 847 | I13: =SUM('Mau A1'!R51:R70) -> 100 | J13: =SUM('Mau A1'!T51:T70) -> 214.2 | K13: =SUM('Mau A1'!V51:V70) -> 306.8 | L13: =SUM('Mau A1'!X51:X70) -> 360 | M13: =SUM('Mau A1'!Y51:Y70) -> 105.6 | N13: =SUM('Mau A1'!Z51:Z70) -> 168.8 | O13: =SUM('Mau A1'!AA51:AA70) -> -81.3 | P13: =SUM('Mau A1'!AC51:AC70) -> 193.1 | Q13: =SUM('Mau A1'!AB51:AB70) -> 0 | R13: =P13+Q13 -> 193.1
A14: 4 | B14: =IF('Mau A1'!B71="","",'Mau A1'!B71) -> Vũ Hạnh | C14: =IF('Mau A1'!C71="","",'Mau A1'!C71) -> Chiêu | D14: =SUM('Mau A1'!M71:M90) -> 414.6 | E14: =SUM('Mau A1'!N71:N90) -> 39 | F14: =SUM('Mau A1'!O71:O90) -> 0 | G14: =SUM('Mau A1'!P71:P90) -> 453.6 | H14: =SUM('Mau A1'!Q71:Q90) -> 36 | I14: =SUM('Mau A1'!R71:R90) -> 186.2 | J14: =SUM('Mau A1'!T71:T90) -> 221 | K14: =SUM('Mau A1'!V71:V90) -> 500 | L14: =SUM('Mau A1'!X71:X90) -> 360 | M14: =SUM('Mau A1'!Y71:Y90) -> 232.6 | N14: =SUM('Mau A1'!Z71:Z90) -> -145 | O14: =SUM('Mau A1'!AA71:AA90) -> -54.3 | P14: =SUM('Mau A1'!AC71:AC90) -> 33.3 | Q14: =SUM('Mau A1'!AB71:AB90) -> 0 | R14: =P14+Q14 -> 33.3
A15: 5 | B15: =IF('Mau A1'!B91="","",'Mau A1'!B91) -> Ngô Phong | C15: =IF('Mau A1'!C91="","",'Mau A1'!C91) -> Cường | D15: =SUM('Mau A1'!M91:M110) -> 286.2 | E15: =SUM('Mau A1'!N91:N110) -> 19.5 | F15: =SUM('Mau A1'!O91:O110) -> 0 | G15: =SUM('Mau A1'!P91:P110) -> 305.7 | H15: =SUM('Mau A1'!Q91:Q110) -> 198 | I15: =SUM('Mau A1'!R91:R110) -> 271.8 | J15: =SUM('Mau A1'!T91:T110) -> 240.5 | K15: =SUM('Mau A1'!V91:V110) -> 500 | L15: =SUM('Mau A1'!X91:X110) -> 360 | M15: =SUM('Mau A1'!Y91:Y110) -> 65.2 | N15: =SUM('Mau A1'!Z91:Z110) -> -94.4 | O15: =SUM('Mau A1'!AA91:AA110) -> -27.6 | P15: =SUM('Mau A1'!AC91:AC110) -> -56.8 | Q15: =SUM('Mau A1'!AB91:AB110) -> 186.7 | R15: =P15+Q15 -> 129.9
A16: 6 | B16: =IF('Mau A1'!B111="","",'Mau A1'!B111) -> Nguyễn Minh Đức | C16: =IF('Mau A1'!C111="","",'Mau A1'!C111) -> Cường | D16: =SUM('Mau A1'!M111:M130) -> 371 | E16: =SUM('Mau A1'!N111:N130) -> 39 | F16: =SUM('Mau A1'!O111:O130) -> 0 | G16: =SUM('Mau A1'!P111:P130) -> 410 | H16: =SUM('Mau A1'!Q111:Q130) -> 254 | I16: =SUM('Mau A1'!R111:R130) -> 268.3 | J16: =SUM('Mau A1'!T111:T130) -> 221 | K16: =SUM('Mau A1'!V111:V130) -> 500 | L16: =SUM('Mau A1'!X111:X130) -> 360 | M16: =SUM('Mau A1'!Y111:Y130) -> 189 | N16: =SUM('Mau A1'!Z111:Z130) -> -76.9 | O16: =SUM('Mau A1'!AA111:AA130) -> -28.7 | P16: =SUM('Mau A1'!AC111:AC130) -> 83.4 | Q16: =SUM('Mau A1'!AB111:AB130) -> 70.4 | R16: =P16+Q16 -> 153.8
A17: 7 | B17: =IF('Mau A1'!B131="","",'Mau A1'!B131) -> Tạ Minh | C17: =IF('Mau A1'!C131="","",'Mau A1'!C131) -> Cường | D17: =SUM('Mau A1'!M131:M150) -> 358.6 | E17: =SUM('Mau A1'!N131:N150) -> 72.5 | F17: =SUM('Mau A1'!O131:O150) -> 0 | G17: =SUM('Mau A1'!P131:P150) -> 431.1 | H17: =SUM('Mau A1'!Q131:Q150) -> 411 | I17: =SUM('Mau A1'!R131:R150) -> 209.1 | J17: =SUM('Mau A1'!T131:T150) -> 217.5 | K17: =SUM('Mau A1'!V131:V150) -> 500 | L17: =SUM('Mau A1'!X131:X150) -> 360 | M17: =SUM('Mau A1'!Y131:Y150) -> 213.6 | N17: =SUM('Mau A1'!Z131:Z150) -> -27.8 | O17: =SUM('Mau A1'!AA131:AA150) -> -47.2 | P17: =SUM('Mau A1'!AC131:AC150) -> 138.6 | Q17: =SUM('Mau A1'!AB131:AB150) -> 0 | R17: =P17+Q17 -> 138.6
A18: 8 | B18: =IF('Mau A1'!B151="","",'Mau A1'!B151) -> Võ | C18: =IF('Mau A1'!C151="","",'Mau A1'!C151) -> Cường | D18: =SUM('Mau A1'!M151:M170) -> 310.1 | E18: =SUM('Mau A1'!N151:N170) -> 58 | F18: =SUM('Mau A1'!O151:O170) -> 0 | G18: =SUM('Mau A1'!P151:P170) -> 368.1 | H18: =SUM('Mau A1'!Q151:Q170) -> 278 | I18: =SUM('Mau A1'!R151:R170) -> 323.4 | J18: =SUM('Mau A1'!T151:T170) -> 232 | K18: =SUM('Mau A1'!V151:V170) -> 500 | L18: =SUM('Mau A1'!X151:X170) -> 360 | M18: =SUM('Mau A1'!Y151:Y170) -> 136.1 | N18: =SUM('Mau A1'!Z151:Z170) -> -69.4 | O18: =SUM('Mau A1'!AA151:AA170) -> -11.4 | P18: =SUM('Mau A1'!AC151:AC170) -> 55.3 | Q18: =SUM('Mau A1'!AB151:AB170) -> 231.5 | R18: =P18+Q18 -> 286.8
A19: 9 | B19: =IF('Mau A1'!B171="","",'Mau A1'!B171) -> Nguyễn Thùy | C19: =IF('Mau A1'!C171="","",'Mau A1'!C171) -> Dương | D19: =SUM('Mau A1'!M171:M190) -> 298.4 | E19: =SUM('Mau A1'!N171:N190) -> 17.8 | F19: =SUM('Mau A1'!O171:O190) -> 0 | G19: =SUM('Mau A1'!P171:P190) -> 316.2 | H19: =SUM('Mau A1'!Q171:Q190) -> 33 | I19: =SUM('Mau A1'!R171:R190) -> 250.9 | J19: =SUM('Mau A1'!T171:T190) -> 256.4 | K19: =SUM('Mau A1'!V171:V190) -> 409.1 | L19: =SUM('Mau A1'!X171:X190) -> 295 | M19: =SUM('Mau A1'!Y171:Y190) -> 59.8 | N19: =SUM('Mau A1'!Z171:Z190) -> -117.5 | O19: =SUM('Mau A1'!AA171:AA190) -> -13.8 | P19: =SUM('Mau A1'!AC171:AC190) -> -71.5 | Q19: =SUM('Mau A1'!AB171:AB190) -> 0 | R19: =P19+Q19 -> -71.5
A20: 10 | B20: =IF('Mau A1'!B191="","",'Mau A1'!B191) -> Lê Tiến | C20: =IF('Mau A1'!C191="","",'Mau A1'!C191) -> Đạt | D20: =SUM('Mau A1'!M191:M210) -> 406.3 | E20: =SUM('Mau A1'!N191:N210) -> 21.75 | F20: =SUM('Mau A1'!O191:O210) -> 0 | G20: =SUM('Mau A1'!P191:P210) -> 428.05 | H20: =SUM('Mau A1'!Q191:Q210) -> 161 | I20: =SUM('Mau A1'!R191:R210) -> 225.9 | J20: =SUM('Mau A1'!T191:T210) -> 268.2 | K20: =SUM('Mau A1'!V191:V210) -> 500 | L20: =SUM('Mau A1'!X191:X210) -> 360 | M20: =SUM('Mau A1'!Y191:Y210) -> 159.9 | N20: =SUM('Mau A1'!Z191:Z210) -> -105.9 | O20: =SUM('Mau A1'!AA191:AA210) -> -41.9 | P20: =SUM('Mau A1'!AC191:AC210) -> 12.1 | Q20: =SUM('Mau A1'!AB191:AB210) -> 0 | R20: =P20+Q20 -> 12.1
A21: 11 | B21: =IF('Mau A1'!B211="","",'Mau A1'!B211) -> Nguyễn Hồng | C21: =IF('Mau A1'!C211="","",'Mau A1'!C211) -> Đức | D21: =SUM('Mau A1'!M211:M230) -> 442.1 | E21: =SUM('Mau A1'!N211:N230) -> 0 | F21: =SUM('Mau A1'!O211:O230) -> 0 | G21: =SUM('Mau A1'!P211:P230) -> 442.1 | H21: =SUM('Mau A1'!Q211:Q230) -> 39 | I21: =SUM('Mau A1'!R211:R230) -> 188.5 | J21: =SUM('Mau A1'!T211:T230) -> 310 | K21: =SUM('Mau A1'!V211:V230) -> 500 | L21: =SUM('Mau A1'!X211:X230) -> 360 | M21: =SUM('Mau A1'!Y211:Y230) -> 132.1 | N21: =SUM('Mau A1'!Z211:Z230) -> -144.1 | O21: =SUM('Mau A1'!AA211:AA230) -> -53.6 | P21: =SUM('Mau A1'!AC211:AC230) -> -65.6 | Q21: =SUM('Mau A1'!AB211:AB230) -> 0 | R21: =P21+Q21 -> -65.6
A22: 12 | B22: =IF('Mau A1'!B231="","",'Mau A1'!B231) -> Nguyễn Minh | C22: =IF('Mau A1'!C231="","",'Mau A1'!C231) -> Đức (A) | D22: =SUM('Mau A1'!M231:M250) -> 399.6 | E22: =SUM('Mau A1'!N231:N250) -> 62 | F22: =SUM('Mau A1'!O231:O250) -> 28.2 | G22: =SUM('Mau A1'!P231:P250) -> 489.8 | H22: =SUM('Mau A1'!Q231:Q250) -> 745 | I22: =SUM('Mau A1'!R231:R250) -> 260.3 | J22: =SUM('Mau A1'!T231:T250) -> 214.6 | K22: =SUM('Mau A1'!V231:V250) -> 483 | L22: =SUM('Mau A1'!X231:X250) -> 348 | M22: =SUM('Mau A1'!Y231:Y250) -> 275.2 | N22: =SUM('Mau A1'!Z231:Z250) -> 81.9 | O22: =SUM('Mau A1'!AA231:AA250) -> -27.4 | P22: =SUM('Mau A1'!AC231:AC250) -> 329.7 | Q22: =SUM('Mau A1'!AB231:AB250) -> 0 | R22: =P22+Q22 -> 329.7
A23: 13 | B23: =IF('Mau A1'!B251="","",'Mau A1'!B251) -> Nguyễn Minh | C23: =IF('Mau A1'!C251="","",'Mau A1'!C251) -> Đức (B) | D23: =SUM('Mau A1'!M251:M270) -> 406.6 | E23: =SUM('Mau A1'!N251:N270) -> 21.75 | F23: =SUM('Mau A1'!O251:O270) -> 0 | G23: =SUM('Mau A1'!P251:P270) -> 428.35 | H23: =SUM('Mau A1'!Q251:Q270) -> 30 | I23: =SUM('Mau A1'!R251:R270) -> 218.1 | J23: =SUM('Mau A1'!T251:T270) -> 268.2 | K23: =SUM('Mau A1'!V251:V270) -> 500 | L23: =SUM('Mau A1'!X251:X270) -> 360 | M23: =SUM('Mau A1'!Y251:Y270) -> 160.2 | N23: =SUM('Mau A1'!Z251:Z270) -> -146.9 | O23: =SUM('Mau A1'!AA251:AA270) -> -44.3 | P23: =SUM('Mau A1'!AC251:AC270) -> -31 | Q23: =SUM('Mau A1'!AB251:AB270) -> 0 | R23: =P23+Q23 -> -31
A24: 14 | B24: =IF('Mau A1'!B271="","",'Mau A1'!B271) -> Nguyễn Thị Ngọc | C24: =IF('Mau A1'!C271="","",'Mau A1'!C271) -> Hiền | D24: =SUM('Mau A1'!M271:M290) -> 364.8 | E24: =SUM('Mau A1'!N271:N290) -> 43.5 | F24: =SUM('Mau A1'!O271:O290) -> 0 | G24: =SUM('Mau A1'!P271:P290) -> 408.3 | H24: =SUM('Mau A1'!Q271:Q290) -> 152 | I24: =SUM('Mau A1'!R271:R290) -> 152.2 | J24: =SUM('Mau A1'!T271:T290) -> 246.5 | K24: =SUM('Mau A1'!V271:V290) -> 500 | L24: =SUM('Mau A1'!X271:X290) -> 360 | M24: =SUM('Mau A1'!Y271:Y290) -> 161.8 | N24: =SUM('Mau A1'!Z271:Z290) -> -108.8 | O24: =SUM('Mau A1'!AA271:AA290) -> -64.9 | P24: =SUM('Mau A1'!AC271:AC290) -> -11.9 | Q24: =SUM('Mau A1'!AB271:AB290) -> 0 | R24: =P24+Q24 -> -11.9
A25: 15 | B25: =IF('Mau A1'!B291="","",'Mau A1'!B291) -> Trần Trung | C25: =IF('Mau A1'!C291="","",'Mau A1'!C291) -> Hiếu | D25: =SUM('Mau A1'!M291:M310) -> 488.4 | E25: =SUM('Mau A1'!N291:N310) -> 43.5 | F25: =SUM('Mau A1'!O291:O310) -> 0 | G25: =SUM('Mau A1'!P291:P310) -> 531.9 | H25: =SUM('Mau A1'!Q291:Q310) -> 33 | I25: =SUM('Mau A1'!R291:R310) -> 213.9 | J25: =SUM('Mau A1'!T291:T310) -> 246.5 | K25: =SUM('Mau A1'!V291:V310) -> 500 | L25: =SUM('Mau A1'!X291:X310) -> 360 | M25: =SUM('Mau A1'!Y291:Y310) -> 285.4 | N25: =SUM('Mau A1'!Z291:Z310) -> -145.9 | O25: =SUM('Mau A1'!AA291:AA310) -> -45.7 | P25: =SUM('Mau A1'!AC291:AC310) -> 93.8 | Q25: =SUM('Mau A1'!AB291:AB310) -> 0 | R25: =P25+Q25 -> 93.8
A26: 16 | B26: =IF('Mau A1'!B311="","",'Mau A1'!B311) -> Mạnh Lê | C26: =IF('Mau A1'!C311="","",'Mau A1'!C311) -> Hoàn | D26: =SUM('Mau A1'!M311:M330) -> 379 | E26: =SUM('Mau A1'!N311:N330) -> 43.5 | F26: =SUM('Mau A1'!O311:O330) -> 0 | G26: =SUM('Mau A1'!P311:P330) -> 422.5 | H26: =SUM('Mau A1'!Q311:Q330) -> 90 | I26: =SUM('Mau A1'!R311:R330) -> 203.2 | J26: =SUM('Mau A1'!T311:T330) -> 246.5 | K26: =SUM('Mau A1'!V311:V330) -> 500 | L26: =SUM('Mau A1'!X311:X330) -> 360 | M26: =SUM('Mau A1'!Y311:Y330) -> 176 | N26: =SUM('Mau A1'!Z311:Z330) -> -128.1 | O26: =SUM('Mau A1'!AA311:AA330) -> -49 | P26: =SUM('Mau A1'!AC311:AC330) -> -1.1 | Q26: =SUM('Mau A1'!AB311:AB330) -> 0 | R26: =P26+Q26 -> -1.1
A27: 17 | B27: =IF('Mau A1'!B331="","",'Mau A1'!B331) -> Lê Thế | C27: =IF('Mau A1'!C331="","",'Mau A1'!C331) -> Huân | D27: =SUM('Mau A1'!M331:M350) -> 499.4 | E27: =SUM('Mau A1'!N331:N350) -> 21.75 | F27: =SUM('Mau A1'!O331:O350) -> 0 | G27: =SUM('Mau A1'!P331:P350) -> 521.15 | H27: =SUM('Mau A1'!Q331:Q350) -> 36 | I27: =SUM('Mau A1'!R331:R350) -> 261.8 | J27: =SUM('Mau A1'!T331:T350) -> 268.2 | K27: =SUM('Mau A1'!V331:V350) -> 500 | L27: =SUM('Mau A1'!X331:X350) -> 360 | M27: =SUM('Mau A1'!Y331:Y350) -> 253 | N27: =SUM('Mau A1'!Z331:Z350) -> -145 | O27: =SUM('Mau A1'!AA331:AA350) -> -30.7 | P27: =SUM('Mau A1'!AC331:AC350) -> 77.3 | Q27: =SUM('Mau A1'!AB331:AB350) -> 0 | R27: =P27+Q27 -> 77.3
A28: 18 | B28: =IF('Mau A1'!B351="","",'Mau A1'!B351) -> Nguyễn Trọng | C28: =IF('Mau A1'!C351="","",'Mau A1'!C351) -> Huân | D28: =SUM('Mau A1'!M351:M370) -> 359.3 | E28: =SUM('Mau A1'!N351:N370) -> 39 | F28: =SUM('Mau A1'!O351:O370) -> 0 | G28: =SUM('Mau A1'!P351:P370) -> 398.3 | H28: =SUM('Mau A1'!Q351:Q370) -> 30 | I28: =SUM('Mau A1'!R351:R370) -> 251.7 | J28: =SUM('Mau A1'!T351:T370) -> 221 | K28: =SUM('Mau A1'!V351:V370) -> 500 | L28: =SUM('Mau A1'!X351:X370) -> 360 | M28: =SUM('Mau A1'!Y351:Y370) -> 177.3 | N28: =SUM('Mau A1'!Z351:Z370) -> -146.9 | O28: =SUM('Mau A1'!AA351:AA370) -> -33.8 | P28: =SUM('Mau A1'!AC351:AC370) -> -3.4 | Q28: =SUM('Mau A1'!AB351:AB370) -> 0 | R28: =P28+Q28 -> -3.4
A29: 19 | B29: =IF('Mau A1'!B371="","",'Mau A1'!B371) -> Tăng Cẩm | C29: =IF('Mau A1'!C371="","",'Mau A1'!C371) -> Huê | D29: =SUM('Mau A1'!M371:M390) -> 382.4 | E29: =SUM('Mau A1'!N371:N390) -> 43.5 | F29: =SUM('Mau A1'!O371:O390) -> 0 | G29: =SUM('Mau A1'!P371:P390) -> 425.9 | H29: =SUM('Mau A1'!Q371:Q390) -> 391 | I29: =SUM('Mau A1'!R371:R390) -> 232 | J29: =SUM('Mau A1'!T371:T390) -> 246.5 | K29: =SUM('Mau A1'!V371:V390) -> 500 | L29: =SUM('Mau A1'!X371:X390) -> 360 | M29: =SUM('Mau A1'!Y371:Y390) -> 179.4 | N29: =SUM('Mau A1'!Z371:Z390) -> -34.1 | O29: =SUM('Mau A1'!AA371:AA390) -> -40 | P29: =SUM('Mau A1'!AC371:AC390) -> 105.3 | Q29: =SUM('Mau A1'!AB371:AB390) -> 73.4 | R29: =P29+Q29 -> 178.7
A30: 20 | B30: =IF('Mau A1'!B391="","",'Mau A1'!B391) -> Trần Thị | C30: =IF('Mau A1'!C391="","",'Mau A1'!C391) -> Lệ | D30: =SUM('Mau A1'!M391:M410) -> 331.8 | E30: =SUM('Mau A1'!N391:N410) -> 0 | F30: =SUM('Mau A1'!O391:O410) -> 9 | G30: =SUM('Mau A1'!P391:P410) -> 340.8 | H30: =SUM('Mau A1'!Q391:Q410) -> 351 | I30: =SUM('Mau A1'!R391:R410) -> 196.8 | J30: =SUM('Mau A1'!T391:T410) -> 218.9 | K30: =SUM('Mau A1'!V391:V410) -> 403.4 | L30: =SUM('Mau A1'!X391:X410) -> 291 | M30: =SUM('Mau A1'!Y391:Y410) -> 121.9 | N30: =SUM('Mau A1'!Z391:Z410) -> -16.4 | O30: =SUM('Mau A1'!AA391:AA410) -> -29.4 | P30: =SUM('Mau A1'!AC391:AC410) -> 76.1 | Q30: =SUM('Mau A1'!AB391:AB410) -> 60.5 | R30: =P30+Q30 -> 136.6
A31: 21 | B31: =IF('Mau A1'!B411="","",'Mau A1'!B411) -> Nguyễn Huỳnh | C31: =IF('Mau A1'!C411="","",'Mau A1'!C411) -> Liên | D31: =SUM('Mau A1'!M411:M430) -> 289.8 | E31: =SUM('Mau A1'!N411:N430) -> 83.84 | F31: =SUM('Mau A1'!O411:O430) -> 0 | G31: =SUM('Mau A1'!P411:P430) -> 373.64 | H31: =SUM('Mau A1'!Q411:Q430) -> 611 | I31: =SUM('Mau A1'!R411:R430) -> 349.3 | J31: =SUM('Mau A1'!T411:T430) -> 226.2 | K31: =SUM('Mau A1'!V411:V430) -> 500 | L31: =SUM('Mau A1'!X411:X430) -> 360 | M31: =SUM('Mau A1'!Y411:Y430) -> 147.4 | N31: =SUM('Mau A1'!Z411:Z430) -> 34.7 | O31: =SUM('Mau A1'!AA411:AA430) -> -3.3 | P31: =SUM('Mau A1'!AC411:AC430) -> 178.8 | Q31: =SUM('Mau A1'!AB411:AB430) -> 173.6 | R31: =P31+Q31 -> 352.4
A32: 22 | B32: =IF('Mau A1'!B431="","",'Mau A1'!B431) -> Nguyễn Thùy | C32: =IF('Mau A1'!C431="","",'Mau A1'!C431) -> Linh | D32: =SUM('Mau A1'!M431:M450) -> 454.1 | E32: =SUM('Mau A1'!N431:N450) -> 0 | F32: =SUM('Mau A1'!O431:O450) -> 0 | G32: =SUM('Mau A1'!P431:P450) -> 454.1 | H32: =SUM('Mau A1'!Q431:Q450) -> 196 | I32: =SUM('Mau A1'!R431:R450) -> 283 | J32: =SUM('Mau A1'!T431:T450) -> 260 | K32: =SUM('Mau A1'!V431:V450) -> 500 | L32: =SUM('Mau A1'!X431:X450) -> 360 | M32: =SUM('Mau A1'!Y431:Y450) -> 194.1 | N32: =SUM('Mau A1'!Z431:Z450) -> -95 | O32: =SUM('Mau A1'!AA431:AA450) -> -24.1 | P32: =SUM('Mau A1'!AC431:AC450) -> 75 | Q32: =SUM('Mau A1'!AB431:AB450) -> 0 | R32: =P32+Q32 -> 75
A33: 23 | B33: =IF('Mau A1'!B451="","",'Mau A1'!B451) -> Huỳnh Ngọc | C33: =IF('Mau A1'!C451="","",'Mau A1'!C451) -> Mai | D33: =SUM('Mau A1'!M451:M470) -> 372 | E33: =SUM('Mau A1'!N451:N470) -> 124 | F33: =SUM('Mau A1'!O451:O470) -> 0 | G33: =SUM('Mau A1'!P451:P470) -> 496 | H33: =SUM('Mau A1'!Q451:Q470) -> 260 | I33: =SUM('Mau A1'!R451:R470) -> 251 | J33: =SUM('Mau A1'!T451:T470) -> 186 | K33: =SUM('Mau A1'!V451:V470) -> 500 | L33: =SUM('Mau A1'!X451:X470) -> 360 | M33: =SUM('Mau A1'!Y451:Y470) -> 310 | N33: =SUM('Mau A1'!Z451:Z470) -> -75 | O33: =SUM('Mau A1'!AA451:AA470) -> -34.1 | P33: =SUM('Mau A1'!AC451:AC470) -> 200.9 | Q33: =SUM('Mau A1'!AB451:AB470) -> 79.7 | R33: =P33+Q33 -> 280.6
A34: 24 | B34: =IF('Mau A1'!B471="","",'Mau A1'!B471) -> Đặng Đức | C34: =IF('Mau A1'!C471="","",'Mau A1'!C471) -> Minh | D34: =SUM('Mau A1'!M471:M490) -> 370 | E34: =SUM('Mau A1'!N471:N490) -> 43.5 | F34: =SUM('Mau A1'!O471:O490) -> 0 | G34: =SUM('Mau A1'!P471:P490) -> 413.5 | H34: =SUM('Mau A1'!Q471:Q490) -> 458 | I34: =SUM('Mau A1'!R471:R490) -> 287.5 | J34: =SUM('Mau A1'!T471:T490) -> 246.5 | K34: =SUM('Mau A1'!V471:V490) -> 500 | L34: =SUM('Mau A1'!X471:X490) -> 360 | M34: =SUM('Mau A1'!Y471:Y490) -> 167 | N34: =SUM('Mau A1'!Z471:Z490) -> -13.1 | O34: =SUM('Mau A1'!AA471:AA490) -> -22.7 | P34: =SUM('Mau A1'!AC471:AC490) -> 131.2 | Q34: =SUM('Mau A1'!AB471:AB490) -> 15.2 | R34: =P34+Q34 -> 146.4
A35: 25 | B35: =IF('Mau A1'!B491="","",'Mau A1'!B491) -> Nguyễn Thị Tố | C35: =IF('Mau A1'!C491="","",'Mau A1'!C491) -> Nga | D35: =SUM('Mau A1'!M491:M510) -> 371.7 | E35: =SUM('Mau A1'!N491:N510) -> 21.75 | F35: =SUM('Mau A1'!O491:O510) -> 0 | G35: =SUM('Mau A1'!P491:P510) -> 393.45 | H35: =SUM('Mau A1'!Q491:Q510) -> 341 | I35: =SUM('Mau A1'!R491:R510) -> 275 | J35: =SUM('Mau A1'!T491:T510) -> 268.2 | K35: =SUM('Mau A1'!V491:V510) -> 500 | L35: =SUM('Mau A1'!X491:X510) -> 360 | M35: =SUM('Mau A1'!Y491:Y510) -> 125.3 | N35: =SUM('Mau A1'!Z491:Z510) -> -49.7 | O35: =SUM('Mau A1'!AA491:AA510) -> -26.6 | P35: =SUM('Mau A1'!AC491:AC510) -> 49 | Q35: =SUM('Mau A1'!AB491:AB510) -> 6.3 | R35: =P35+Q35 -> 55.3
A36: 26 | B36: =IF('Mau A1'!B511="","",'Mau A1'!B511) -> Nguyễn Trần Thanh | C36: =IF('Mau A1'!C511="","",'Mau A1'!C511) -> Nhàn | D36: =SUM('Mau A1'!M511:M530) -> 432.2 | E36: =SUM('Mau A1'!N511:N530) -> 0 | F36: =SUM('Mau A1'!O511:O530) -> 0 | G36: =SUM('Mau A1'!P511:P530) -> 432.2 | H36: =SUM('Mau A1'!Q511:Q530) -> 99 | I36: =SUM('Mau A1'!R511:R530) -> 310.1 | J36: =SUM('Mau A1'!T511:T530) -> 290 | K36: =SUM('Mau A1'!V511:V530) -> 500 | L36: =SUM('Mau A1'!X511:X530) -> 360 | M36: =SUM('Mau A1'!Y511:Y530) -> 142.2 | N36: =SUM('Mau A1'!Z511:Z530) -> -125.3 | O36: =SUM('Mau A1'!AA511:AA530) -> -15.6 | P36: =SUM('Mau A1'!AC511:AC530) -> 1.3 | Q36: =SUM('Mau A1'!AB511:AB530) -> 0 | R36: =P36+Q36 -> 1.3
A37: 27 | B37: =IF('Mau A1'!B531="","",'Mau A1'!B531) -> Đỗ Huỳnh Thanh | C37: =IF('Mau A1'!C531="","",'Mau A1'!C531) -> Phong | D37: =SUM('Mau A1'!M531:M550) -> 470.3 | E37: =SUM('Mau A1'!N531:N550) -> 39 | F37: =SUM('Mau A1'!O531:O550) -> 0 | G37: =SUM('Mau A1'!P531:P550) -> 509.3 | H37: =SUM('Mau A1'!Q531:Q550) -> 150 | I37: =SUM('Mau A1'!R531:R550) -> 267.5 | J37: =SUM('Mau A1'!T531:T550) -> 0 | K37: =SUM('Mau A1'!V531:V550) -> 500 | L37: =SUM('Mau A1'!X531:X550) -> 360 | M37: =SUM('Mau A1'!Y531:Y550) -> 509.3 | N37: =SUM('Mau A1'!Z531:Z550) -> -109.4 | O37: =SUM('Mau A1'!AA531:AA550) -> -28.9 | P37: =SUM('Mau A1'!AC531:AC550) -> 371 | Q37: =SUM('Mau A1'!AB531:AB550) -> 0 | R37: =P37+Q37 -> 371
A38: 28 | B38: =IF('Mau A1'!B551="","",'Mau A1'!B551) -> Nguyễn Anh | C38: =IF('Mau A1'!C551="","",'Mau A1'!C551) -> Tăng | D38: =SUM('Mau A1'!M551:M570) -> 483.7 | E38: =SUM('Mau A1'!N551:N570) -> 58 | F38: =SUM('Mau A1'!O551:O570) -> 0 | G38: =SUM('Mau A1'!P551:P570) -> 541.7 | H38: =SUM('Mau A1'!Q551:Q570) -> 238 | I38: =SUM('Mau A1'!R551:R570) -> 340.5 | J38: =SUM('Mau A1'!T551:T570) -> 232 | K38: =SUM('Mau A1'!V551:V570) -> 500 | L38: =SUM('Mau A1'!X551:X570) -> 360 | M38: =SUM('Mau A1'!Y551:Y570) -> 309.7 | N38: =SUM('Mau A1'!Z551:Z570) -> -81.9 | O38: =SUM('Mau A1'!AA551:AA570) -> -6.1 | P38: =SUM('Mau A1'!AC551:AC570) -> 221.7 | Q38: =SUM('Mau A1'!AB551:AB570) -> 19.8 | R38: =P38+Q38 -> 241.5
A39: 29 | B39: =IF('Mau A1'!B571="","",'Mau A1'!B571) -> Quách Minh | C39: =IF('Mau A1'!C571="","",'Mau A1'!C571) -> Thử | D39: =SUM('Mau A1'!M571:M590) -> 449.1 | E39: =SUM('Mau A1'!N571:N590) -> 52 | F39: =SUM('Mau A1'!O571:O590) -> 0 | G39: =SUM('Mau A1'!P571:P590) -> 501.1 | H39: =SUM('Mau A1'!Q571:Q590) -> 73 | I39: =SUM('Mau A1'!R571:R590) -> 372 | J39: =SUM('Mau A1'!T571:T590) -> 208 | K39: =SUM('Mau A1'!V571:V590) -> 500 | L39: =SUM('Mau A1'!X571:X590) -> 360 | M39: =SUM('Mau A1'!Y571:Y590) -> 293.1 | N39: =SUM('Mau A1'!Z571:Z590) -> -133.4 | O39: =SUM('Mau A1'!AA571:AA590) -> 3.8 | P39: =SUM('Mau A1'!AC571:AC590) -> 163.5 | Q39: =SUM('Mau A1'!AB571:AB590) -> 44.8 | R39: =P39+Q39 -> 208.3
A40: 30 | B40: =IF('Mau A1'!B591="","",'Mau A1'!B591) -> Trần Công | C40: =IF('Mau A1'!C591="","",'Mau A1'!C591) -> Tiến | D40: =SUM('Mau A1'!M591:M610) -> 417.6 | E40: =SUM('Mau A1'!N591:N610) -> 46.5 | F40: =SUM('Mau A1'!O591:O610) -> 0 | G40: =SUM('Mau A1'!P591:P610) -> 464.1 | H40: =SUM('Mau A1'!Q591:Q610) -> 354 | I40: =SUM('Mau A1'!R591:R610) -> 338.7 | J40: =SUM('Mau A1'!T591:T610) -> 263.5 | K40: =SUM('Mau A1'!V591:V610) -> 500 | L40: =SUM('Mau A1'!X591:X610) -> 360 | M40: =SUM('Mau A1'!Y591:Y610) -> 200.6 | N40: =SUM('Mau A1'!Z591:Z610) -> -45.6 | O40: =SUM('Mau A1'!AA591:AA610) -> -6.7 | P40: =SUM('Mau A1'!AC591:AC610) -> 148.3 | Q40: =SUM('Mau A1'!AB591:AB610) -> 39.8 | R40: =P40+Q40 -> 188.1
A41: 31 | B41: =IF('Mau A1'!B611="","",'Mau A1'!B611) -> Bốc Minh | C41: =IF('Mau A1'!C611="","",'Mau A1'!C611) -> Trí | D41: =SUM('Mau A1'!M611:M630) -> 370 | E41: =SUM('Mau A1'!N611:N630) -> 39 | F41: =SUM('Mau A1'!O611:O630) -> 0 | G41: =SUM('Mau A1'!P611:P630) -> 409 | H41: =SUM('Mau A1'!Q611:Q630) -> 52 | I41: =SUM('Mau A1'!R611:R630) -> 312.8 | J41: =SUM('Mau A1'!T611:T630) -> 221 | K41: =SUM('Mau A1'!V611:V630) -> 500 | L41: =SUM('Mau A1'!X611:X630) -> 360 | M41: =SUM('Mau A1'!Y611:Y630) -> 188 | N41: =SUM('Mau A1'!Z611:Z630) -> -140 | O41: =SUM('Mau A1'!AA611:AA630) -> -14.8 | P41: =SUM('Mau A1'!AC611:AC630) -> 33.2 | Q41: =SUM('Mau A1'!AB611:AB630) -> 100.2 | R41: =P41+Q41 -> 133.4
A42: 32 | B42: =IF('Mau A1'!B631="","",'Mau A1'!B631) -> Nguyễn Trọng | C42: =IF('Mau A1'!C631="","",'Mau A1'!C631) -> Trí | D42: =SUM('Mau A1'!M631:M650) -> 423.2 | E42: =SUM('Mau A1'!N631:N650) -> 43.5 | F42: =SUM('Mau A1'!O631:O650) -> 0 | G42: =SUM('Mau A1'!P631:P650) -> 466.7 | H42: =SUM('Mau A1'!Q631:Q650) -> 36 | I42: =SUM('Mau A1'!R631:R650) -> 357.9 | J42: =SUM('Mau A1'!T631:T650) -> 246.5 | K42: =SUM('Mau A1'!V631:V650) -> 500 | L42: =SUM('Mau A1'!X631:X650) -> 360 | M42: =SUM('Mau A1'!Y631:Y650) -> 220.2 | N42: =SUM('Mau A1'!Z631:Z650) -> -145 | O42: =SUM('Mau A1'!AA631:AA650) -> -0.7 | P42: =SUM('Mau A1'!AC631:AC650) -> 74.5 | Q42: =SUM('Mau A1'!AB631:AB650) -> 44.8 | R42: =P42+Q42 -> 119.3
A43: 33 | B43: =IF('Mau A1'!B651="","",'Mau A1'!B651) -> Trần Hiếu | C43: =IF('Mau A1'!C651="","",'Mau A1'!C651) -> Trinh | D43: =SUM('Mau A1'!M651:M670) -> 443.6 | E43: =SUM('Mau A1'!N651:N670) -> 21.75 | F43: =SUM('Mau A1'!O651:O670) -> 0 | G43: =SUM('Mau A1'!P651:P670) -> 465.35 | H43: =SUM('Mau A1'!Q651:Q670) -> 9 | I43: =SUM('Mau A1'!R651:R670) -> 263.2 | J43: =SUM('Mau A1'!T651:T670) -> 263.3 | K43: =SUM('Mau A1'!V651:V670) -> 491.5 | L43: =SUM('Mau A1'!X651:X670) -> 360 | M43: =SUM('Mau A1'!Y651:Y670) -> 202.1 | N43: =SUM('Mau A1'!Z651:Z670) -> -150.8 | O43: =SUM('Mau A1'!AA651:AA670) -> -30.3 | P43: =SUM('Mau A1'!AC651:AC670) -> 21 | Q43: =SUM('Mau A1'!AB651:AB670) -> 0 | R43: =P43+Q43 -> 21
A44: 34 | B44: =IF('Mau A1'!B671="","",'Mau A1'!B671) -> Nguyễn Văn | C44: =IF('Mau A1'!C671="","",'Mau A1'!C671) -> Yên | D44: =SUM('Mau A1'!M671:M690) -> 487.4 | E44: =SUM('Mau A1'!N671:N690) -> 0 | F44: =SUM('Mau A1'!O671:O690) -> 0 | G44: =SUM('Mau A1'!P671:P690) -> 487.4 | H44: =SUM('Mau A1'!Q671:Q690) -> 0 | I44: =SUM('Mau A1'!R671:R690) -> 230.6 | J44: =SUM('Mau A1'!T671:T690) -> 310 | K44: =SUM('Mau A1'!V671:V690) -> 500 | L44: =SUM('Mau A1'!X671:X690) -> 360 | M44: =SUM('Mau A1'!Y671:Y690) -> 177.4 | N44: =SUM('Mau A1'!Z671:Z690) -> -156.3 | O44: =SUM('Mau A1'!AA671:AA690) -> -40.4 | P44: =SUM('Mau A1'!AC671:AC690) -> -19.3 | Q44: =SUM('Mau A1'!AB671:AB690) -> 0 | R44: =P44+Q44 -> -19.3
A45: 35 | B45: =IF('Mau A1'!B691="","",'Mau A1'!B691) -> Lương Xuân | C45: =IF('Mau A1'!C691="","",'Mau A1'!C691) -> Chỉnh | D45: =SUM('Mau A1'!M691:M710) -> 30 | E45: =SUM('Mau A1'!N691:N710) -> 0 | F45: =SUM('Mau A1'!O691:O710) -> 0 | G45: =SUM('Mau A1'!P691:P710) -> 30 | H45: =SUM('Mau A1'!Q691:Q710) -> 0 | I45: =SUM('Mau A1'!R691:R710) -> 11.8 | J45: =SUM('Mau A1'!T691:T710) -> 62 | K45: =SUM('Mau A1'!V691:V710) -> 0 | L45: =SUM('Mau A1'!X691:X710) -> 0 | M45: =SUM('Mau A1'!Y691:Y710) -> -32 | N45: =SUM('Mau A1'!Z691:Z710) -> 0 | O45: =SUM('Mau A1'!AA691:AA710) -> 0 | P45: =SUM('Mau A1'!AC691:AC710) -> -32 | Q45: =SUM('Mau A1'!AB691:AB710) -> 0 | R45: =P45+Q45 -> -32
A46: 36 | B46: =IF('Mau A1'!B711="","",'Mau A1'!B711) -> Phạm Minh | C46: =IF('Mau A1'!C711="","",'Mau A1'!C711) -> Nghĩa | D46: =SUM('Mau A1'!M711:M730) -> 69.3 | E46: =SUM('Mau A1'!N711:N730) -> 0 | F46: =SUM('Mau A1'!O711:O730) -> 0 | G46: =SUM('Mau A1'!P711:P730) -> 69.3 | H46: =SUM('Mau A1'!Q711:Q730) -> 0 | I46: =SUM('Mau A1'!R711:R730) -> 108.8 | J46: =SUM('Mau A1'!T711:T730) -> 77.5 | K46: =SUM('Mau A1'!V711:V730) -> 0 | L46: =SUM('Mau A1'!X711:X730) -> 0 | M46: =SUM('Mau A1'!Y711:Y730) -> -8.2 | N46: =SUM('Mau A1'!Z711:Z730) -> 0 | O46: =SUM('Mau A1'!AA711:AA730) -> 0 | P46: =SUM('Mau A1'!AC711:AC730) -> -8.2 | Q46: =SUM('Mau A1'!AB711:AB730) -> 0 | R46: =P46+Q46 -> -8.2
A47: 37 | B47: =IF('Mau A1'!B731="","",'Mau A1'!B731) -> Lê Hồng | C47: =IF('Mau A1'!C731="","",'Mau A1'!C731) -> Vân | D47: =SUM('Mau A1'!M731:M750) -> 105 | E47: =SUM('Mau A1'!N731:N750) -> 0 | F47: =SUM('Mau A1'!O731:O750) -> 0 | G47: =SUM('Mau A1'!P731:P750) -> 105 | H47: =SUM('Mau A1'!Q731:Q750) -> 0 | I47: =SUM('Mau A1'!R731:R750) -> 35.2 | J47: =SUM('Mau A1'!T731:T750) -> 93 | K47: =SUM('Mau A1'!V731:V750) -> 0 | L47: =SUM('Mau A1'!X731:X750) -> 0 | M47: =SUM('Mau A1'!Y731:Y750) -> 12 | N47: =SUM('Mau A1'!Z731:Z750) -> 0 | O47: =SUM('Mau A1'!AA731:AA750) -> 0 | P47: =SUM('Mau A1'!AC731:AC750) -> 12 | Q47: =SUM('Mau A1'!AB731:AB750) -> 0 | R47: =P47+Q47 -> 12
A48: 38 | B48: =IF('Mau A1'!B751="","",'Mau A1'!B751) -> Phan Đức | C48: =IF('Mau A1'!C751="","",'Mau A1'!C751) -> Long | D48: =SUM('Mau A1'!M751:M770) -> 72 | E48: =SUM('Mau A1'!N751:N770) -> 0 | F48: =SUM('Mau A1'!O751:O770) -> 0 | G48: =SUM('Mau A1'!P751:P770) -> 72 | H48: =SUM('Mau A1'!Q751:Q770) -> 0 | I48: =SUM('Mau A1'!R751:R770) -> 53.8 | J48: =SUM('Mau A1'!T751:T770) -> 87 | K48: =SUM('Mau A1'!V751:V770) -> 0 | L48: =SUM('Mau A1'!X751:X770) -> 0 | M48: =SUM('Mau A1'!Y751:Y770) -> -15 | N48: =SUM('Mau A1'!Z751:Z770) -> 0 | O48: =SUM('Mau A1'!AA751:AA770) -> 0 | P48: =SUM('Mau A1'!AC751:AC770) -> -15 | Q48: =SUM('Mau A1'!AB751:AB770) -> 0 | R48: =P48+Q48 -> -15
A49: 39 | B49: =IF('Mau A1'!B771="","",'Mau A1'!B771) | C49: =IF('Mau A1'!C771="","",'Mau A1'!C771) | D49: =SUM('Mau A1'!M771:M790) -> 0 | E49: =SUM('Mau A1'!N771:N790) -> 0 | F49: =SUM('Mau A1'!O771:O790) -> 0 | G49: =SUM('Mau A1'!P771:P790) -> 0 | H49: =SUM('Mau A1'!Q771:Q790) -> 0 | I49: =SUM('Mau A1'!R771:R790) -> 0 | J49: =SUM('Mau A1'!T771:T790) -> 0 | K49: =SUM('Mau A1'!V771:V790) -> 0 | L49: =SUM('Mau A1'!X771:X790) -> 0 | M49: =SUM('Mau A1'!Y771:Y790) -> 0 | N49: =SUM('Mau A1'!Z771:Z790) -> 0 | O49: =SUM('Mau A1'!AA771:AA790) -> 0 | P49: =SUM('Mau A1'!AC771:AC790) -> 0 | Q49: =SUM('Mau A1'!AB771:AB790) -> 0 | R49: =P49+Q49 -> 0
A50: 40 | B50: =IF('Mau A1'!B791="","",'Mau A1'!B791) | C50: =IF('Mau A1'!C791="","",'Mau A1'!C791) | D50: =SUM('Mau A1'!M791:M810) -> 0 | E50: =SUM('Mau A1'!N791:N810) -> 0 | F50: =SUM('Mau A1'!O791:O810) -> 0 | G50: =SUM('Mau A1'!P791:P810) -> 0 | H50: =SUM('Mau A1'!Q791:Q810) -> 0 | I50: =SUM('Mau A1'!R791:R810) -> 0 | J50: =SUM('Mau A1'!T791:T810) -> 0 | K50: =SUM('Mau A1'!V791:V810) -> 0 | L50: =SUM('Mau A1'!X791:X810) -> 0 | M50: =SUM('Mau A1'!Y791:Y810) -> 0 | N50: =SUM('Mau A1'!Z791:Z810) -> 0 | O50: =SUM('Mau A1'!AA791:AA810) -> 0 | P50: =SUM('Mau A1'!AC791:AC810) -> 0 | Q50: =SUM('Mau A1'!AB791:AB810) -> 0 | R50: =P50+Q50 -> 0
A51: 41 | B51: =IF('Mau A1'!B811="","",'Mau A1'!B811) | C51: =IF('Mau A1'!C811="","",'Mau A1'!C811) | D51: =SUM('Mau A1'!M811:M830) -> 0 | E51: =SUM('Mau A1'!N811:N830) -> 0 | F51: =SUM('Mau A1'!O811:O830) -> 0 | G51: =SUM('Mau A1'!P811:P830) -> 0 | H51: =SUM('Mau A1'!Q811:Q830) -> 0 | I51: =SUM('Mau A1'!R811:R830) -> 0 | J51: =SUM('Mau A1'!T811:T830) -> 0 | K51: =SUM('Mau A1'!V811:V830) -> 0 | L51: =SUM('Mau A1'!X811:X830) -> 0 | M51: =SUM('Mau A1'!Y811:Y830) -> 0 | N51: =SUM('Mau A1'!Z811:Z830) -> 0 | O51: =SUM('Mau A1'!AA811:AA830) -> 0 | P51: =SUM('Mau A1'!AC811:AC830) -> 0 | Q51: =SUM('Mau A1'!AB811:AB830) -> 0 | R51: =P51+Q51 -> 0
A52: TỔNG CỘNG | D52: =SUM(D11:D51) -> 13623.3 | E52: =SUM(E11:E51) -> 1339.19 | F52: =SUM(F11:F51) -> 37.2 | G52: =SUM(G11:G51) -> 14999.69 | H52: =SUM(H11:H51) -> 7927 | I52: =SUM(I11:I51) -> 8969.2 | J52: =SUM(J11:J51) -> 8393.9 | K52: =SUM(K11:K51) -> 16593.8 | ... R52: =SUM(R11:R51) -> 4080.1
B54: Lưu ý: Không cần nhập số liệu, vì tất cả các số liệu được cài sẵn công thức chuyển từ mẫu A1 sang
P55: Thành phố Hồ Chí Minh, ngày tháng năm 2015
A56: HIỆU TRƯỞNG | E56: TRƯỞNG P. TS-ĐT-GTVL | I56: TRƯỞNG P. QLKH-HTQT | M56: TRƯỞNG P. TC-HC-TH | P56: TRƯỞNG KHOA

Sheet Mau B1.1
J1: Mẫu B1. 1
A2: UBND THÀNH PHỐ HỒ CHÍ MINH | E2: CỘNG HÒA XÃ HỘI CHỦ NGHĨA VIỆT NAM
A3: TRƯỜNG CAO ĐẲNG KỸ THUẬT LÝ TỰ TRỌNG TP. HỒ CHÍ MINH | E3: Độc lập - Tự do - Hạnh phúc
A5: BẢNG TỔNG HỢP NGHE THỜI SỰ HỌC TẬP CHÍNH TRỊ VÀ AN NINH QUỐC PHÒNG
A6: NĂM HỌC 2014 - 2015
A7: KHOA: CÔNG NGHỆ ĐIỆN - ĐIỆN TỬ
A9: TT | B9: HỌ VÀ TÊN GIẢNG VIÊN | D9: THỜI GIAN THAM DỰ | I9: TỔNG SỐ GIỜ ĐƯỢC TÍNH | J9: GHI CHÚ
D10: 30/10/2014 | E10: 42106 | F10: 20/1/2015 | G10: 15/6/2015 | H10: 26/6/2015
A11: 1 | B11: =IF('Mau A1'!B11="","",'Mau A1'!B11) -> Hồ Thị | C11: =IF('Mau A1'!C11="","",'Mau A1'!C11) -> Anh | D11: X | F11: X | G11: X | H11: X | I11: =COUNTIF(D11:H11,"X")*4 -> 16
A12: 2 | B12: =IF('Mau A1'!B31="","",'Mau A1'!B31) -> Ngô Hoàng | C12: =IF('Mau A1'!C31="","",'Mau A1'!C31) -> Anh | D12: X | E12: X | F12: X | H12: X | I12: =COUNTIF(D12:H12,"X")*4 -> 16
A13: 3 | B13: =IF('Mau A1'!B51="","",'Mau A1'!B51) -> Châu Văn | C13: =IF('Mau A1'!C51="","",'Mau A1'!C51) -> Bảo | D13: X | E13: X | F13: X | H13: X | I13: =COUNTIF(D13:H13,"X")*4 -> 16
A14: 4 | B14: =IF('Mau A1'!B71="","",'Mau A1'!B71) -> Vũ Hạnh | C14: =IF('Mau A1'!C71="","",'Mau A1'!C71) -> Chiêu | D14: X | F14: X | G14: X | H14: X | I14: =COUNTIF(D14:H14,"X")*4 -> 16
A15: 5 | B15: =IF('Mau A1'!B91="","",'Mau A1'!B91) -> Ngô Phong | C15: =IF('Mau A1'!C91="","",'Mau A1'!C91) -> Cường | D15: X | E15: X | F15: X | G15: X | H15: X | I15: =COUNTIF(D15:H15,"X")*4 -> 20
A16: 6 | B16: =IF('Mau A1'!B111="","",'Mau A1'!B111) -> Nguyễn Minh Đức | C16: =IF('Mau A1'!C111="","",'Mau A1'!C111) -> Cường | D16: X | E16: X | F16: X | H16: X | I16: =COUNTIF(D16:H16,"X")*4 -> 16
A17: 7 | B17: =IF('Mau A1'!B131="","",'Mau A1'!B131) -> Tạ Minh | C17: =IF('Mau A1'!C131="","",'Mau A1'!C131) -> Cường | D17: X | E17: X | F17: X | H17: X | I17: =COUNTIF(D17:H17,"X")*4 -> 16
A18: 8 | B18: =IF('Mau A1'!B151="","",'Mau A1'!B151) -> Võ | C18: =IF('Mau A1'!C151="","",'Mau A1'!C151) -> Cường | D18: X | E18: X | F18: X | H18: X | I18: =COUNTIF(D18:H18,"X")*4 -> 16
A19: 9 | B19: =IF('Mau A1'!B171="","",'Mau A1'!B171) -> Nguyễn Thùy | C19: =IF('Mau A1'!C171="","",'Mau A1'!C171) -> Dương | D19: X | E19: X | F19: X | G19: X | H19: X | I19: =COUNTIF(D19:H19,"X")*4 -> 20
A20: 10 | B20: =IF('Mau A1'!B191="","",'Mau A1'!B191) -> Lê Tiến | C20: =IF('Mau A1'!C191="","",'Mau A1'!C191) -> Đạt | D20: X | E20: X | F20: X | G20: X | I20: =COUNTIF(D20:H20,"X")*4 -> 16
A21: 11 | B21: =IF('Mau A1'!B211="","",'Mau A1'!B211) -> Nguyễn Hồng | C21: =IF('Mau A1'!C211="","",'Mau A1'!C211) -> Đức | D21: X | E21: X | F21: X | G21: X | H21: X | I21: =COUNTIF(D21:H21,"X")*4 -> 20
A22: 12 | B22: =IF('Mau A1'!B231="","",'Mau A1'!B231) -> Nguyễn Minh | C22: =IF('Mau A1'!C231="","",'Mau A1'!C231) -> Đức (A) | D22: X | E22: X | F22: X | G22: X | I22: =COUNTIF(D22:H22,"X")*4 -> 16
A23: 13 | B23: =IF('Mau A1'!B251="","",'Mau A1'!B251) -> Nguyễn Minh | C23: =IF('Mau A1'!C251="","",'Mau A1'!C251) -> Đức (B) | D23: X | E23: X | F23: X | I23: =COUNTIF(D23:H23,"X")*4 -> 12
A24: 14 | B24: =IF('Mau A1'!B271="","",'Mau A1'!B271) -> Nguyễn Thị Ngọc | C24: =IF('Mau A1'!C271="","",'Mau A1'!C271) -> Hiền | F24: X | G24: X | H24: X | I24: =COUNTIF(D24:H24,"X")*4 -> 12
A25: 15 | B25: =IF('Mau A1'!B291="","",'Mau A1'!B291) -> Trần Trung | C25: =IF('Mau A1'!C291="","",'Mau A1'!C291) -> Hiếu | D25: X | E25: X | G25: X | H25: X | I25: =COUNTIF(D25:H25,"X")*4 -> 16
A26: 16 | B26: =IF('Mau A1'!B311="","",'Mau A1'!B311) -> Mạnh Lê | C26: =IF('Mau A1'!C311="","",'Mau A1'!C311) -> Hoàn | D26: X | F26: X | G26: X | I26: =COUNTIF(D26:H26,"X")*4 -> 12
A27: 17 | B27: =IF('Mau A1'!B331="","",'Mau A1'!B331) -> Lê Thế | C27: =IF('Mau A1'!C331="","",'Mau A1'!C331) -> Huân | D27: X | E27: X | F27: X | G27: X | H27: X | I27: =COUNTIF(D27:H27,"X")*4 -> 20
A28: 18 | B28: =IF('Mau A1'!B351="","",'Mau A1'!B351) -> Nguyễn Trọng | C28: =IF('Mau A1'!C351="","",'Mau A1'!C351) -> Huân | D28: X | F28: X | G28: X | I28: =COUNTIF(D28:H28,"X")*4 -> 12
A29: 19 | B29: =IF('Mau A1'!B371="","",'Mau A1'!B371) -> Tăng Cẩm | C29: =IF('Mau A1'!C371="","",'Mau A1'!C371) -> Huê | D29: X | E29: X | F29: X | G29: X | H29: X | I29: =COUNTIF(D29:H29,"X")*4 -> 20
A30: 20 | B30: =IF('Mau A1'!B391="","",'Mau A1'!B391) -> Trần Thị | C30: =IF('Mau A1'!C391="","",'Mau A1'!C391) -> Lệ | E30: X | G30: X | H30: X | I30: =COUNTIF(D30:H30,"X")*4 -> 12
A31: 21 | B31: =IF('Mau A1'!B411="","",'Mau A1'!B411) -> Nguyễn Huỳnh | C31: =IF('Mau A1'!C411="","",'Mau A1'!C411) -> Liên | F31: X | H31: X | I31: =COUNTIF(D31:H31,"X")*4 -> 8
A32: 22 | B32: =IF('Mau A1'!B431="","",'Mau A1'!B431) -> Nguyễn Thùy | C32: =IF('Mau A1'!C431="","",'Mau A1'!C431) -> Linh | D32: X | E32: X | F32: X | G32: X | H32: X | I32: =COUNTIF(D32:H32,"X")*4 -> 20
A33: 23 | B33: =IF('Mau A1'!B451="","",'Mau A1'!B451) -> Huỳnh Ngọc | C33: =IF('Mau A1'!C451="","",'Mau A1'!C451) -> Mai | D33: X | E33: X | F33: X | H33: X | I33: =COUNTIF(D33:H33,"X")*4 -> 16
A34: 24 | B34: =IF('Mau A1'!B471="","",'Mau A1'!B471) -> Đặng Đức | C34: =IF('Mau A1'!C471="","",'Mau A1'!C471) -> Minh | D34: X | F34: X | G34: X | H34: X | I34: =COUNTIF(D34:H34,"X")*4 -> 16
A35: 25 | B35: =IF('Mau A1'!B491="","",'Mau A1'!B491) -> Nguyễn Thị Tố | C35: =IF('Mau A1'!C491="","",'Mau A1'!C491) -> Nga | F35: X | G35: X | H35: X | I35: =COUNTIF(D35:H35,"X")*4 -> 12
A36: 26 | B36: =IF('Mau A1'!B511="","",'Mau A1'!B511) -> Nguyễn Trần Thanh | C36: =IF('Mau A1'!C511="","",'Mau A1'!C511) -> Nhàn | D36: X | E36: X | F36: X | G36: X | H36: X | I36: =COUNTIF(D36:H36,"X")*4 -> 20
A37: 27 | B37: =IF('Mau A1'!B531="","",'Mau A1'!B531) -> Đỗ Huỳnh Thanh | C37: =IF('Mau A1'!C531="","",'Mau A1'!C531) -> Phong | D37: X | E37: X | F37: X | G37: X | H37: X | I37: =COUNTIF(D37:H37,"X")*4 -> 20
A38: 28 | B38: =IF('Mau A1'!B551="","",'Mau A1'!B551) -> Nguyễn Anh | C38: =IF('Mau A1'!C551="","",'Mau A1'!C551) -> Tăng | D38: X | F38: X | H38: X | I38: =COUNTIF(D38:H38,"X")*4 -> 12
A39: 29 | B39: =IF('Mau A1'!B571="","",'Mau A1'!B571) -> Quách Minh | C39: =IF('Mau A1'!C571="","",'Mau A1'!C571) -> Thử | D39: X | E39: X | F39: X | H39: X | I39: =COUNTIF(D39:H39,"X")*4 -> 16
A40: 30 | B40: =IF('Mau A1'!B591="","",'Mau A1'!B591) -> Trần Công | C40: =IF('Mau A1'!C591="","",'Mau A1'!C591) -> Tiến | D40: X | E40: X | F40: X | G40: X | H40: X | I40: =COUNTIF(D40:H40,"X")*4 -> 20
A41: 31 | B41: =IF('Mau A1'!B611="","",'Mau A1'!B611) -> Bốc Minh | C41: =IF('Mau A1'!C611="","",'Mau A1'!C611) -> Trí | D41: X | E41: X | H41: X | I41: =COUNTIF(D41:H41,"X")*4 -> 12
A42: 32 | B42: =IF('Mau A1'!B631="","",'Mau A1'!B631) -> Nguyễn Trọng | C42: =IF('Mau A1'!C631="","",'Mau A1'!C631) -> Trí | D42: X | F42: X | G42: X | H42: X | I42: =COUNTIF(D42:H42,"X")*4 -> 16
A43: 33 | B43: =IF('Mau A1'!B651="","",'Mau A1'!B651) -> Trần Hiếu | C43: =IF('Mau A1'!C651="","",'Mau A1'!C651) -> Trinh | D43: X | E43: X | F43: X | H43: X | I43: =COUNTIF(D43:H43,"X")*4 -> 16
A44: 34 | B44: =IF('Mau A1'!B671="","",'Mau A1'!B671) -> Nguyễn Văn | C44: =IF('Mau A1'!C671="","",'Mau A1'!C671) -> Yên | D44: X | G44: X | H44: X | I44: =COUNTIF(D44:H44,"X")*4 -> 12
A45: 35 | B45: =IF('Mau A1'!B691="","",'Mau A1'!B691) -> Lương Xuân | C45: =IF('Mau A1'!C691="","",'Mau A1'!C691) -> Chỉnh | I45: =COUNTIF(D45:H45,"X")*4 -> 0
A46: 36 | B46: =IF('Mau A1'!B711="","",'Mau A1'!B711) -> Phạm Minh | C46: =IF('Mau A1'!C711="","",'Mau A1'!C711) -> Nghĩa | I46: =COUNTIF(D46:H46,"X")*4 -> 0
A47: 37 | B47: =IF('Mau A1'!B731="","",'Mau A1'!B731) -> Lê Hồng | C47: =IF('Mau A1'!C731="","",'Mau A1'!C731) -> Vân | I47: =COUNTIF(D47:H47,"X")*4 -> 0
A48: 38 | B48: =IF('Mau A1'!B751="","",'Mau A1'!B751) -> Phan Đức | C48: =IF('Mau A1'!C751="","",'Mau A1'!C751) -> Long | I48: =COUNTIF(D48:H48,"X")*4 -> 0
A49: 39 | B49: =IF('Mau A1'!B771="","",'Mau A1'!B771) | C49: =IF('Mau A1'!C771="","",'Mau A1'!C771) | I49: =COUNTIF(D49:H49,"X")*4 -> 0
A50: 40 | B50: =IF('Mau A1'!B791="","",'Mau A1'!B791) | C50: =IF('Mau A1'!C791="","",'Mau A1'!C791) | I50: =COUNTIF(D50:H50,"X")*4 -> 0
A51: 41 | B51: =IF('Mau A1'!B811="","",'Mau A1'!B811) | C51: =IF('Mau A1'!C811="","",'Mau A1'!C811) | I51: =COUNTIF(D51:H51,"X")*4 -> 0
F53: Tp.HCM, Ngày tháng năm 2015
C54: Trưởng Khoa | F54: Người lập biểu

Sheet Mau B1.2
J1: Mẫu B1. 2
A2: UBND THÀNH PHỐ HỒ CHÍ MINH | E2: CỘNG HÒA XÃ HỘI CHỦ NGHĨA VIỆT NAM
A3: TRƯỜNG CAO ĐẲNG KỸ THUẬT LÝ TỰ TRỌNG TP. HỒ CHÍ MINH | E3: Độc lập - Tự do - Hạnh phúc
A5: BẢNG TỔNG HỢP THAM QUAN THỰC TẾ
A6: NĂM HỌC 2014 - 2015
A7: KHOA: CÔNG NGHỆ ĐIỆN - ĐIỆN TỬ
A9: TT | B9: HỌ VÀ TÊN GIẢNG VIÊN | D9: THỜI GIAN THAM DỰ | I9: TỔNG SỐ GIỜ ĐƯỢC TÍNH | J9: GHI CHÚ
A11: 1 | B11: =IF('Mau A1'!B11="","",'Mau A1'!B11) -> Hồ Thị | C11: =IF('Mau A1'!C11="","",'Mau A1'!C11) -> Anh | I11: =COUNTIF(D11:H11,"X")*4 -> 0
A12: 2 | B12: =IF('Mau A1'!B31="","",'Mau A1'!B31) -> Ngô Hoàng | C12: =IF('Mau A1'!C31="","",'Mau A1'!C31) -> Anh | I12: =COUNTIF(D12:H12,"X")*4 -> 0
A13: 3 | B13: =IF('Mau A1'!B51="","",'Mau A1'!B51) -> Châu Văn | C13: =IF('Mau A1'!C51="","",'Mau A1'!C51) -> Bảo | I13: =COUNTIF(D13:H13,"X")*4 -> 0
A14: 4 | B14: =IF('Mau A1'!B71="","",'Mau A1'!B71) -> Vũ Hạnh | C14: =IF('Mau A1'!C71="","",'Mau A1'!C71) -> Chiêu | I14: =COUNTIF(D14:H14,"X")*4 -> 0
A15: 5 | B15: =IF('Mau A1'!B91="","",'Mau A1'!B91) -> Ngô Phong | C15: =IF('Mau A1'!C91="","",'Mau A1'!C91) -> Cường | I15: =COUNTIF(D15:H15,"X")*4 -> 0
A16: 6 | B16: =IF('Mau A1'!B111="","",'Mau A1'!B111) -> Nguyễn Minh Đức | C16: =IF('Mau A1'!C111="","",'Mau A1'!C111) -> Cường | I16: =COUNTIF(D16:H16,"X")*4 -> 0
A17: 7 | B17: =IF('Mau A1'!B131="","",'Mau A1'!B131) -> Tạ Minh | C17: =IF('Mau A1'!C131="","",'Mau A1'!C131) -> Cường | I17: =COUNTIF(D17:H17,"X")*4 -> 0
A18: 8 | B18: =IF('Mau A1'!B151="","",'Mau A1'!B151) -> Võ | C18: =IF('Mau A1'!C151="","",'Mau A1'!C151) -> Cường | I18: =COUNTIF(D18:H18,"X")*4 -> 0
A19: 9 | B19: =IF('Mau A1'!B171="","",'Mau A1'!B171) -> Nguyễn Thùy | C19: =IF('Mau A1'!C171="","",'Mau A1'!C171) -> Dương | I19: =COUNTIF(D19:H19,"X")*4 -> 0
A20: 10 | B20: =IF('Mau A1'!B191="","",'Mau A1'!B191) -> Lê Tiến | C20: =IF('Mau A1'!C191="","",'Mau A1'!C191) -> Đạt | I20: =COUNTIF(D20:H20,"X")*4 -> 0
A21: 11 | B21: =IF('Mau A1'!B211="","",'Mau A1'!B211) -> Nguyễn Hồng | C21: =IF('Mau A1'!C211="","",'Mau A1'!C211) -> Đức | I21: =COUNTIF(D21:H21,"X")*4 -> 0
A22: 12 | B22: =IF('Mau A1'!B231="","",'Mau A1'!B231) -> Nguyễn Minh | C22: =IF('Mau A1'!C231="","",'Mau A1'!C231) -> Đức (A) | I22: =COUNTIF(D22:H22,"X")*4 -> 0
A23: 13 | B23: =IF('Mau A1'!B251="","",'Mau A1'!B251) -> Nguyễn Minh | C23: =IF('Mau A1'!C251="","",'Mau A1'!C251) -> Đức (B) | I23: =COUNTIF(D23:H23,"X")*4 -> 0
A24: 14 | B24: =IF('Mau A1'!B271="","",'Mau A1'!B271) -> Nguyễn Thị Ngọc | C24: =IF('Mau A1'!C271="","",'Mau A1'!C271) -> Hiền | I24: =COUNTIF(D24:H24,"X")*4 -> 0
A25: 15 | B25: =IF('Mau A1'!B291="","",'Mau A1'!B291) -> Trần Trung | C25: =IF('Mau A1'!C291="","",'Mau A1'!C291) -> Hiếu | I25: =COUNTIF(D25:H25,"X")*4 -> 0
A26: 16 | B26: =IF('Mau A1'!B311="","",'Mau A1'!B311) -> Mạnh Lê | C26: =IF('Mau A1'!C311="","",'Mau A1'!C311) -> Hoàn | I26: =COUNTIF(D26:H26,"X")*4 -> 0
A27: 17 | B27: =IF('Mau A1'!B331="","",'Mau A1'!B331) -> Lê Thế | C27: =IF('Mau A1'!C331="","",'Mau A1'!C331) -> Huân | I27: =COUNTIF(D27:H27,"X")*4 -> 0
A28: 18 | B28: =IF('Mau A1'!B351="","",'Mau A1'!B351) -> Nguyễn Trọng | C28: =IF('Mau A1'!C351="","",'Mau A1'!C351) -> Huân | I28: =COUNTIF(D28:H28,"X")*4 -> 0
A29: 19 | B29: =IF('Mau A1'!B371="","",'Mau A1'!B371) -> Tăng Cẩm | C29: =IF('Mau A1'!C371="","",'Mau A1'!C371) -> Huê | I29: =COUNTIF(D29:H29,"X")*4 -> 0
A30: 20 | B30: =IF('Mau A1'!B391="","",'Mau A1'!B391) -> Trần Thị | C30: =IF('Mau A1'!C391="","",'Mau A1'!C391) -> Lệ | I30: =COUNTIF(D30:H30,"X")*4 -> 0
A31: 21 | B31: =IF('Mau A1'!B411="","",'Mau A1'!B411) -> Nguyễn Huỳnh | C31: =IF('Mau A1'!C411="","",'Mau A1'!C411) -> Liên | I31: =COUNTIF(D31:H31,"X")*4 -> 0
A32: 22 | B32: =IF('Mau A1'!B431="","",'Mau A1'!B431) -> Nguyễn Thùy | C32: =IF('Mau A1'!C431="","",'Mau A1'!C431) -> Linh | I32: =COUNTIF(D32:H32,"X")*4 -> 0
A33: 23 | B33: =IF('Mau A1'!B451="","",'Mau A1'!B451) -> Huỳnh Ngọc | C33: =IF('Mau A1'!C451="","",'Mau A1'!C451) -> Mai | I33: =COUNTIF(D33:H33,"X")*4 -> 0
A34: 24 | B34: =IF('Mau A1'!B471="","",'Mau A1'!B471) -> Đặng Đức | C34: =IF('Mau A1'!C471="","",'Mau A1'!C471) -> Minh | I34: =COUNTIF(D34:H34,"X")*4 -> 0
A35: 25 | B35: =IF('Mau A1'!B491="","",'Mau A1'!B491) -> Nguyễn Thị Tố | C35: =IF('Mau A1'!C491="","",'Mau A1'!C491) -> Nga | I35: =COUNTIF(D35:H35,"X")*4 -> 0
A36: 26 | B36: =IF('Mau A1'!B511="","",'Mau A1'!B511) -> Nguyễn Trần Thanh | C36: =IF('Mau A1'!C511="","",'Mau A1'!C511) -> Nhàn | I36: =COUNTIF(D36:H36,"X")*4 -> 0
A37: 27 | B37: =IF('Mau A1'!B531="","",'Mau A1'!B531) -> Đỗ Huỳnh Thanh | C37: =IF('Mau A1'!C531="","",'Mau A1'!C531) -> Phong | I37: =COUNTIF(D37:H37,"X")*4 -> 0
A38: 28 | B38: =IF('Mau A1'!B551="","",'Mau A1'!B551) -> Nguyễn Anh | C38: =IF('Mau A1'!C551="","",'Mau A1'!C551) -> Tăng | I38: =COUNTIF(D38:H38,"X")*4 -> 0
A39: 29 | B39: =IF('Mau A1'!B571="","",'Mau A1'!B571) -> Quách Minh | C39: =IF('Mau A1'!C571="","",'Mau A1'!C571) -> Thử | I39: =COUNTIF(D39:H39,"X")*4 -> 0
A40: 30 | B40: =IF('Mau A1'!B591="","",'Mau A1'!B591) -> Trần Công | C40: =IF('Mau A1'!C591="","",'Mau A1'!C591) -> Tiến | I40: =COUNTIF(D40:H40,"X")*4 -> 0
A41: 31 | B41: =IF('Mau A1'!B611="","",'Mau A1'!B611) -> Bốc Minh | C41: =IF('Mau A1'!C611="","",'Mau A1'!C611) -> Trí | I41: =COUNTIF(D41:H41,"X")*4 -> 0
A42: 32 | B42: =IF('Mau A1'!B631="","",'Mau A1'!B631) -> Nguyễn Trọng | C42: =IF('Mau A1'!C631="","",'Mau A1'!C631) -> Trí | I42: =COUNTIF(D42:H42,"X")*4 -> 0
A43: 33 | B43: =IF('Mau A1'!B651="","",'Mau A1'!B651) -> Trần Hiếu | C43: =IF('Mau A1'!C651="","",'Mau A1'!C651) -> Trinh | I43: =COUNTIF(D43:H43,"X")*4 -> 0
A44: 34 | B44: =IF('Mau A1'!B671="","",'Mau A1'!B671) -> Nguyễn Văn | C44: =IF('Mau A1'!C671="","",'Mau A1'!C671) -> Yên | I44: =COUNTIF(D44:H44,"X")*4 -> 0
A45: 35 | B45: =IF('Mau A1'!B691="","",'Mau A1'!B691) -> Lương Xuân | C45: =IF('Mau A1'!C691="","",'Mau A1'!C691) -> Chỉnh | I45: =COUNTIF(D45:H45,"X")*4 -> 0
A46: 36 | B46: =IF('Mau A1'!B711="","",'Mau A1'!B711) -> Phạm Minh | C46: =IF('Mau A1'!C711="","",'Mau A1'!C711) -> Nghĩa | I46: =COUNTIF(D46:H46,"X")*4 -> 0
A47: 37 | B47: =IF('Mau A1'!B731="","",'Mau A1'!B731) -> Lê Hồng | C47: =IF('Mau A1'!C731="","",'Mau A1'!C731) -> Vân | I47: =COUNTIF(D47:H47,"X")*4 -> 0
A48: 38 | B48: =IF('Mau A1'!B751="","",'Mau A1'!B751) -> Phan Đức | C48: =IF('Mau A1'!C751="","",'Mau A1'!C751) -> Long | I48: =COUNTIF(D48:H48,"X")*4 -> 0
A49: 39 | B49: =IF('Mau A1'!B771="","",'Mau A1'!B771) | C49: =IF('Mau A1'!C771="","",'Mau A1'!C771) | I49: =COUNTIF(D49:H49,"X")*4 -> 0
A50: 40 | B50: =IF('Mau A1'!B791="","",'Mau A1'!B791) | C50: =IF('Mau A1'!C791="","",'Mau A1'!C791) | I50: =COUNTIF(D50:H50,"X")*4 -> 0
A51: 41 | B51: =IF('Mau A1'!B811="","",'Mau A1'!B811) | C51: =IF('Mau A1'!C811="","",'Mau A1'!C811) | I51: =COUNTIF(D51:H51,"X")*4 -> 0
B53: Minh chứng nộp kèm: Kế hoạch được Hiệu trưởng duyệt và danh sách tham dự thực tế. | F53: Tp.HCM, Ngày tháng năm 2015
C54: Trưởng Khoa | F54: Người lập biểu

Sheet Mau B1.3.1
AW1: Mẫu B1.3. 1
A2: UBND THÀNH PHỐ HỒ CHÍ MINH | AF2: CỘNG HÒA XÃ HỘI CHỦ NGHĨA VIỆT NAM
A3: TRƯỜNG CAO ĐẲNG KỸ THUẬT LÝ TỰ TRỌNG TP. HỒ CHÍ MINH | AF3: Độc lập - Tự do - Hạnh phúc
A5: BẢNG TỔNG HỢP HỌP VỀ CÔNG TÁC CHUYÊN MÔN ĐỊNH KỲ
A6: NĂM HỌC 2014 - 2015
A7: KHOA:CN ĐIỆN - ĐIỆN TỬ
A9: TT | B9: HỌ VÀ TÊN GIẢNG VIÊN | D9: HỌP VỀ CÔNG TÁC CHUYÊN MÔN ĐỊNH KỲ | AZ9: TỔNG SỐ GIỜ ĐƯỢC TÍNH
D10: T9/ 2013 | H10: T10 | L10: T11 | P10: T12 | T10: T01/ 2014 | X10: T02 | AB10: T 3 | AF10: T4 | AJ10: T5 | AN10: T 6 | AR10: T 7 | AV10: T 8
A11: 1 | B11: =IF('Mau A1'!B11="","",'Mau A1'!B11) -> Hồ Thị | C11: =IF('Mau A1'!C11="","",'Mau A1'!C11) -> Anh | D11: X | E11: X | H11: X | I11: X | M11: X | P11: X | Q11: X | R11: X | U11: X | AC11: X | AF11: X | AG11: X | AJ11: X | AK11: X | AO11: X | AR11: X | AV11: X | AZ11: =COUNTIF(D11:AY11,"X")*4 -> 68
A12: 2 | B12: =IF('Mau A1'!B31="","",'Mau A1'!B31) -> Ngô Hoàng | C12: =IF('Mau A1'!C31="","",'Mau A1'!C31) -> Anh | D12: X | E12: X | H12: X | I12: X | M12: X | P12: X | Q12: X | R12: X | U12: X | AC12: X | AF12: X | AG12: X | AJ12: X | AK12: X | AO12: X | AR12: X | AV12: X | AZ12: =COUNTIF(D12:AY12,"X")*4 -> 68
A13: 3 | B13: =IF('Mau A1'!B51="","",'Mau A1'!B51) -> Châu Văn | C13: =IF('Mau A1'!C51="","",'Mau A1'!C51) -> Bảo | E13: X | I13: X | M13: X | R13: X | U13: X | X13: X | AC13: X | AF13: X | AG13: X | AJ13: X | AK13: X | AO13: X | AR13: X | AV13: X | AZ13: =COUNTIF(D13:AY13,"X")*4 -> 56
A14: 4 | B14: =IF('Mau A1'!B71="","",'Mau A1'!B71) -> Vũ Hạnh | C14: =IF('Mau A1'!C71="","",'Mau A1'!C71) -> Chiêu | D14: X | E14: X | H14: X | I14: X | M14: X | P14: X | Q14: X | R14: X | U14: X | AC14: X | AF14: X | AG14: X | AJ14: X | AK14: X | AO14: X | AR14: X | AV14: X | AZ14: =COUNTIF(D14:AY14,"X")*4 -> 68
A15: 5 | B15: =IF('Mau A1'!B91="","",'Mau A1'!B91) -> Ngô Phong | C15: =IF('Mau A1'!C91="","",'Mau A1'!C91) -> Cường | D15: X | E15: X | H15: X | I15: X | L15: X | M15: X | P15: X | R15: X | T15: X | U15: X | AC15: X | AG15: X | AK15: X | AR15: X | AV15: X | AZ15: =COUNTIF(D15:AY15,"X")*4 -> 60
A16: 6 | B16: =IF('Mau A1'!B111="","",'Mau A1'!B111) -> Nguyễn Minh Đức | C16: =IF('Mau A1'!C111="","",'Mau A1'!C111) -> Cường | E16: X | H16: X | I16: X | J16: X | M16: X | P16: X | R16: X | T16: X | U16: X | X16: X | AB16: X | AC16: X | AF16: X | AG16: X | AR16: X | AV16: X | AZ16: =COUNTIF(D16:AY16,"X")*4 -> 64
A17: 7 | B17: =IF('Mau A1'!B131="","",'Mau A1'!B131) -> Tạ Minh | C17: =IF('Mau A1'!C131="","",'Mau A1'!C131) -> Cường | D17: X | E17: X | H17: X | I17: X | L17: X | M17: X | P17: X | R17: X | T17: X | U17: X | AB17: X | AC17: X | AF17: X | AG17: X | AJ17: X | AK17: X | AO17: X | AR17: X | AV17: X | AZ17: =COUNTIF(D17:AY17,"X")*4 -> 76
A18: 8 | B18: =IF('Mau A1'!B151="","",'Mau A1'!B151) -> Võ | C18: =IF('Mau A1'!C151="","",'Mau A1'!C151) -> Cường | D18: X | E18: X | H18: X | I18: X | L18: X | M18: X | P18: X | R18: X | T18: X | U18: X | AC18: X | AG18: X | AK18: X | AO18: X | AR18: X | AV18: X | AZ18: =COUNTIF(D18:AY18,"X")*4 -> 64
A19: 9 | B19: =IF('Mau A1'!B171="","",'Mau A1'!B171) -> Nguyễn Thùy | C19: =IF('Mau A1'!C171="","",'Mau A1'!C171) -> Dương | D19: X | E19: X | I19: X | M19: X | R19: X | U19: X | AC19: X | AF19: X | AG19: X | AK19: X | AR19: X | AV19: X | AZ19: =COUNTIF(D19:AY19,"X")*4 -> 48
A20: 10 | B20: =IF('Mau A1'!B191="","",'Mau A1'!B191) -> Lê Tiến | C20: =IF('Mau A1'!C191="","",'Mau A1'!C191) -> Đạt | D20: X | H20: X | I20: X | L20: X | M20: X | P20: X | R20: X | T20: X | U20: X | X20: X | AC20: X | AF20: X | AG20: X | AJ20: X | AK20: X | AN20: X | AO20: X | AR20: X | AV20: X | AZ20: =COUNTIF(D20:AY20,"X")*4 -> 76
A21: 11 | B21: =IF('Mau A1'!B211="","",'Mau A1'!B211) -> Nguyễn Hồng | C21: =IF('Mau A1'!C211="","",'Mau A1'!C211) -> Đức | D21: X | E21: X | H21: X | I21: X | L21: X | M21: X | P21: X | R21: X | T21: X | U21: X | AB21: X | AC21: X | AF21: X | AJ21: X | AK21: X | AO21: X | AR21: X | AV21: X | AZ21: =COUNTIF(D21:AY21,"X")*4 -> 72
A22: 12 | B22: =IF('Mau A1'!B231="","",'Mau A1'!B231) -> Nguyễn Minh | C22: =IF('Mau A1'!C231="","",'Mau A1'!C231) -> Đức (A) | D22: X | E22: X | H22: X | I22: X | J22: X | L22: X | M22: X | P22: X | R22: X | T22: X | U22: X | AB22: X | AC22: X | AF22: X | AG22: X | AJ22: X | AK22: X | AO22: X | AR22: X | AV22: X | AZ22: =COUNTIF(D22:AY22,"X")*4 -> 80
A23: 13 | B23: =IF('Mau A1'!B251="","",'Mau A1'!B251) -> Nguyễn Minh | C23: =IF('Mau A1'!C251="","",'Mau A1'!C251) -> Đức (B) | D23: X | E23: X | H23: X | I23: X | L23: X | M23: X | P23: X | R23: X | T23: X | U23: X | AB23: X | AC23: X | AF23: X | AG23: X | AJ23: X | AK23: X | AO23: X | AR23: X | AV23: X | AZ23: =COUNTIF(D23:AY23,"X")*4 -> 76
A24: 14 | B24: =IF('Mau A1'!B271="","",'Mau A1'!B271) -> Nguyễn Thị Ngọc | C24: =IF('Mau A1'!C271="","",'Mau A1'!C271) -> Hiền | D24: X | E24: X | H24: X | I24: X | L24: X | M24: X | P24: X | R24: X | T24: X | U24: X | AB24: X | AC24: X | AF24: X | AG24: X | AJ24: X | AK24: X | AO24: X | AR24: X | AV24: X | AZ24: =COUNTIF(D24:AY24,"X")*4 -> 76
A25: 15 | B25: =IF('Mau A1'!B291="","",'Mau A1'!B291) -> Trần Trung | C25: =IF('Mau A1'!C291="","",'Mau A1'!C291) -> Hiếu | D25: X | E25: X | F25: X | H25: X | I25: X | L25: X | M25: X | P25: X | R25: X | T25: X | AB25: X | AC25: X | AF25: X | AG25: X | AJ25: X | AK25: X | AN25: X | AO25: X | AR25: X | AV25: X | AZ25: =COUNTIF(D25:AY25,"X")*4 -> 80
A26: 16 | B26: =IF('Mau A1'!B311="","",'Mau A1'!B311) -> Mạnh Lê | C26: =IF('Mau A1'!C311="","",'Mau A1'!C311) -> Hoàn | D26: X | E26: X | I26: X | L26: X | P26: X | R26: X | T26: X | U26: X | X26: X | AC26: X | AF26: X | AG26: X | AJ26: X | AK26: X | AN26: X | AO26: X | AR26: X | AV26: X | AZ26: =COUNTIF(D26:AY26,"X")*4 -> 72
A27: 17 | B27: =IF('Mau A1'!B331="","",'Mau A1'!B331) -> Lê Thế | C27: =IF('Mau A1'!C331="","",'Mau A1'!C331) -> Huân | D27: X | E27: X | F27: X | H27: X | I27: X | L27: X | M27: X | P27: X | R27: X | T27: X | AB27: X | AC27: X | AF27: X | AG27: X | AJ27: X | AK27: X | AN27: X | AO27: X | AR27: X | AV27: X | AZ27: =COUNTIF(D27:AY27,"X")*4 -> 80
A28: 18 | B28: =IF('Mau A1'!B351="","",'Mau A1'!B351) -> Nguyễn Trọng | C28: =IF('Mau A1'!C351="","",'Mau A1'!C351) -> Huân | D28: X | E28: X | H28: X | I28: X | L28: X | M28: X | P28: X | R28: X | T28: X | U28: X | X28: X | AC28: X | AF28: X | AG28: X | AJ28: X | AK28: X | AN28: X | AO28: X | AR28: X | AZ28: =COUNTIF(D28:AY28,"X")*4 -> 76
A29: 19 | B29: =IF('Mau A1'!B371="","",'Mau A1'!B371) -> Tăng Cẩm | C29: =IF('Mau A1'!C371="","",'Mau A1'!C371) -> Huê | E29: X | I29: X | M29: X | P29: X | Q29: X | R29: X | U29: X | AC29: X | AG29: X | AJ29: X | AK29: X | AO29: X | AR29: X | AV29: X | AZ29: =COUNTIF(D29:AY29,"X")*4 -> 56
A30: 20 | B30: =IF('Mau A1'!B391="","",'Mau A1'!B391) -> Trần Thị | C30: =IF('Mau A1'!C391="","",'Mau A1'!C391) -> Lệ | D30: X | E30: X | H30: X | M30: X | P30: X | Q30: X | R30: X | U30: X | AC30: X | AF30: X | AO30: X | AR30: X | AZ30: =COUNTIF(D30:AY30,"X")*4 -> 48
A31: 21 | B31: =IF('Mau A1'!B411="","",'Mau A1'!B411) -> Nguyễn Huỳnh | C31: =IF('Mau A1'!C411="","",'Mau A1'!C411) -> Liên | D31: X | E31: X | H31: X | I31: X | M31: X | P31: X | Q31: X | R31: X | U31: X | AC31: X | AF31: X | AG31: X | AK31: X | AO31: X | AR31: X | AV31: X | AZ31: =COUNTIF(D31:AY31,"X")*4 -> 64
A32: 22 | B32: =IF('Mau A1'!B431="","",'Mau A1'!B431) -> Nguyễn Thùy | C32: =IF('Mau A1'!C431="","",'Mau A1'!C431) -> Linh | D32: X | E32: X | F32: X | H32: X | I32: X | L32: X | M32: X | P32: X | R32: X | T32: X | U32: X | AB32: X | AC32: X | AF32: X | AG32: X | AJ32: X | AK32: X | AO32: X | AR32: X | AV32: X | AY32: X | AZ32: =COUNTIF(D32:AY32,"X")*4 -> 84
A33: 23 | B33: =IF('Mau A1'!B451="","",'Mau A1'!B451) -> Huỳnh Ngọc | C33: =IF('Mau A1'!C451="","",'Mau A1'!C451) -> Mai | D33: X | E33: X | H33: X | I33: X | L33: X | M33: X | P33: X | R33: X | T33: X | X33: X | AC33: X | AF33: X | AG33: X | AJ33: X | AK33: X | AN33: X | AO33: X | AR33: X | AV33: X | AZ33: =COUNTIF(D33:AY33,"X")*4 -> 76
A34: 24 | B34: =IF('Mau A1'!B471="","",'Mau A1'!B471) -> Đặng Đức | C34: =IF('Mau A1'!C471="","",'Mau A1'!C471) -> Minh | D34: X | E34: X | H34: X | I34: X | L34: X | M34: X | P34: X | R34: X | T34: X | U34: X | X34: X | AC34: X | AF34: X | AG34: X | AJ34: X | AK34: X | AN34: X | AO34: X | AR34: X | AV34: X | AZ34: =COUNTIF(D34:AY34,"X")*4 -> 80
A35: 25 | B35: =IF('Mau A1'!B491="","",'Mau A1'!B491) -> Nguyễn Thị Tố | C35: =IF('Mau A1'!C491="","",'Mau A1'!C491) -> Nga | D35: X | E35: X | H35: X | L35: X | M35: X | P35: X | R35: X | T35: X | U35: X | X35: X | AC35: X | AF35: X | AG35: X | AJ35: X | AK35: X | AN35: X | AO35: X | AR35: X | AV35: X | AZ35: =COUNTIF(D35:AY35,"X")*4 -> 76
A36: 26 | B36: =IF('Mau A1'!B511="","",'Mau A1'!B511) -> Nguyễn Trần Thanh | C36: =IF('Mau A1'!C511="","",'Mau A1'!C511) -> Nhàn | D36: X | E36: X | H36: X | I36: X | L36: X | M36: X | P36: X | R36: X | T36: X | U36: X | AB36: X | AC36: X | AF36: X | AJ36: X | AK36: X | AO36: X | AR36: X | AV36: X | AZ36: =COUNTIF(D36:AY36,"X")*4 -> 72
A37: 27 | B37: =IF('Mau A1'!B531="","",'Mau A1'!B531) -> Đỗ Huỳnh Thanh | C37: =IF('Mau A1'!C531="","",'Mau A1'!C531) -> Phong | E37: X | H37: X | I37: X | J37: X | M37: X | N37: X | P37: X | R37: X | T37: X | U37: X | X37: X | AB37: X | AC37: X | AF37: X | AG37: X | AK37: X | AR37: X | AV37: X | AZ37: =COUNTIF(D37:AY37,"X")*4 -> 72
A38: 28 | B38: =IF('Mau A1'!B551="","",'Mau A1'!B551) -> Nguyễn Anh | C38: =IF('Mau A1'!C551="","",'Mau A1'!C551) -> Tăng | E38: X | H38: X | I38: X | J38: X | M38: X | N38: X | P38: X | R38: X | T38: X | U38: X | X38: X | AB38: X | AC38: X | AF38: X | AG38: X | AK38: X | AO38: X | AR38: X | AV38: X | AZ38: =COUNTIF(D38:AY38,"X")*4 -> 76
A39: 29 | B39: =IF('Mau A1'!B571="","",'Mau A1'!B571) -> Quách Minh | C39: =IF('Mau A1'!C571="","",'Mau A1'!C571) -> Thử | D39: X | E39: X | F39: X | H39: X | I39: X | J39: X | L39: X | M39: X | P39: X | R39: X | T39: X | U39: X | AB39: X | AC39: X | AF39: X | AG39: X | AJ39: X | AK39: X | AN39: X | AO39: X | AR39: X | AV39: X | AZ39: =COUNTIF(D39:AY39,"X")*4 -> 88
A40: 30 | B40: =IF('Mau A1'!B591="","",'Mau A1'!B591) -> Trần Công | C40: =IF('Mau A1'!C591="","",'Mau A1'!C591) -> Tiến | D40: X | E40: X | H40: X | I40: X | L40: X | M40: X | P40: X | R40: X | T40: X | U40: X | AB40: X | AC40: X | AF40: X | AG40: X | AJ40: X | AK40: X | AO40: X | AR40: X | AV40: X | AZ40: =COUNTIF(D40:AY40,"X")*4 -> 76
A41: 31 | B41: =IF('Mau A1'!B611="","",'Mau A1'!B611) -> Bốc Minh | C41: =IF('Mau A1'!C611="","",'Mau A1'!C611) -> Trí | D41: X | E41: X | H41: X | I41: X | L41: X | M41: X | P41: X | R41: X | T41: X | U41: X | X41: X | AC41: X | AF41: X | AG41: X | AJ41: X | AK41: X | AN41: X | AR41: X | AV41: X | AZ41: =COUNTIF(D41:AY41,"X")*4 -> 76
A42: 32 | B42: =IF('Mau A1'!B631="","",'Mau A1'!B631) -> Nguyễn Trọng | C42: =IF('Mau A1'!C631="","",'Mau A1'!C631) -> Trí | D42: X | E42: X | H42: X | I42: X | J42: X | L42: X | M42: X | P42: X | R42: X | T42: X | U42: X | X42: X | AC42: X | AF42: X | AG42: X | AJ42: X | AK42: X | AN42: X | AO42: X | AR42: X | AV42: X | AZ42: =COUNTIF(D42:AY42,"X")*4 -> 84
A43: 33 | B43: =IF('Mau A1'!B651="","",'Mau A1'!B651) -> Trần Hiếu | C43: =IF('Mau A1'!C651="","",'Mau A1'!C651) -> Trinh | D43: X | E43: X | H43: X | I43: X | L43: X | M43: X | P43: X | R43: X | T43: X | U43: X | AC43: X | AV43: X | AZ43: =COUNTIF(D43:AY43,"X")*4 -> 48
A44: 34 | B44: =IF('Mau A1'!B671="","",'Mau A1'!B671) -> Nguyễn Văn | C44: =IF('Mau A1'!C671="","",'Mau A1'!C671) -> Yên | D44: X | E44: X | F44: X | H44: X | I44: X | L44: X | M44: X | P44: X | R44: X | T44: X | AB44: X | AC44: X | AF44: X | AG44: X | AJ44: X | AN44: X | AO44: X | AR44: X | AV44: X | AZ44: =COUNTIF(D44:AY44,"X")*4 -> 76
A45: 35 | B45: =IF('Mau A1'!B691="","",'Mau A1'!B691) -> Lương Xuân | C45: =IF('Mau A1'!C691="","",'Mau A1'!C691) -> Chỉnh | AZ45: =COUNTIF(D45:AY45,"X")*4 -> 0
A46: 36 | B46: =IF('Mau A1'!B711="","",'Mau A1'!B711) -> Phạm Minh | C46: =IF('Mau A1'!C711="","",'Mau A1'!C711) -> Nghĩa | AZ46: =COUNTIF(D46:AY46,"X")*4 -> 0
A47: 37 | B47: =IF('Mau A1'!B731="","",'Mau A1'!B731) -> Lê Hồng | C47: =IF('Mau A1'!C731="","",'Mau A1'!C731) -> Vân | AZ47: =COUNTIF(D47:AY47,"X")*4 -> 0
A48: 38 | B48: =IF('Mau A1'!B751="","",'Mau A1'!B751) -> Phan Đức | C48: =IF('Mau A1'!C751="","",'Mau A1'!C751) -> Long | AZ48: =COUNTIF(D48:AY48,"X")*4 -> 0
A49: 39 | B49: =IF('Mau A1'!B771="","",'Mau A1'!B771) | C49: =IF('Mau A1'!C771="","",'Mau A1'!C771) | AZ49: =COUNTIF(D49:AY49,"X")*4 -> 0
A50: 40 | B50: =IF('Mau A1'!B791="","",'Mau A1'!B791) | C50: =IF('Mau A1'!C791="","",'Mau A1'!C791) | AZ50: =COUNTIF(D50:AY50,"X")*4 -> 0
A51: 41 | B51: =IF('Mau A1'!B811="","",'Mau A1'!B811) | C51: =IF('Mau A1'!C811="","",'Mau A1'!C811) | AZ51: =COUNTIF(D51:AY51,"X")*4 -> 0
B52: Minh chứng nộp kèm: Biên bản họp có danh sách GV dự họp thực tế. | AN52: TP.HCM, Ngày tháng năm 2015
C53: Trưởng Khoa | AN53: Người lập biểu

Sheet Mau  B1.3.2
P1: Mẫu B1.3. 2
A2: UBND THÀNH PHỐ HỒ CHÍ MINH | K2: CỘNG HÒA XÃ HỘI CHỦ NGHĨA VIỆT NAM
A3: TRƯỜNG CAO ĐẲNG KỸ THUẬT LÝ TỰ TRỌNG TP. HỒ CHÍ MINH | K3: Độc lập - Tự do - Hạnh phúc
A5: BẢNG TỔNG HỢP HỌP VỀ CÔNG TÁC CHUYÊN MÔN ĐỘT XUẤT
A6: NĂM HỌC 2014 - 2015
A7: KHOA: CÔNG NGHỆ ĐIỆN - ĐIỆN TỬ
A10: TT | B10: HỌ VÀ TÊN GIẢNG VIÊN | D10: THỜI GIAN | F10: NỘI DUNG HỌP | N10: SỐ GIỜ ĐƯỢC TÍNH | P10: TỔNG SỐ GIỜ ĐƯỢC TÍNH
A11: 1 | B11: =IF('Mau A1'!B11="","",'Mau A1'!B11) -> Hồ Thị | C11: =IF('Mau A1'!C11="","",'Mau A1'!C11) -> Anh | D11: 41892 | F11: Phân công khối lượng giảng dạy khóa mới cho giáo viên và | P11: =N11+N12+N13+N14+N15+N16+N17+N18+N19+N20 -> 4
F12: điều chỉnh khối lượng giảng dạy giữa các tổ bộ môn… | N12: 4
A21: 2 | B21: =IF('Mau A1'!B31="","",'Mau A1'!B31) -> Ngô Hoàng | C21: =IF('Mau A1'!C31="","",'Mau A1'!C31) -> Anh | D21: 41680 | F21: Triển khai kế hoạch tổ chức thi học sinh giởi cấp khoa | P21: =N21+N22+N23+N24+N25+N26+N27+N28+N29+N30 -> 28
F22: và đề xuất mở ngành đào tạo mới | N22: 4
D23: 41892 | F23: Phân công khối lượng giảng dạy khóa mới cho giáo viên và
F24: điều chỉnh khối lượng giảng dạy giữa các tổ bộ môn… | N24: 4
D25: 27/10/2014 | F25: Thông qua các môn tự chọn trong chương trình đào tạo nghề cao đẳng và trung cấp; triển khai kế hoạch duyệt đề tài sáng kiến kinh nghiệm
N26: 4
D27: 23/12/2014 | F27: Thông báo việc đăng ký đề tài NCKH, hội thảo + công tác ra đề thi… | N27: 4
D28: 42248 | F28: Kiểm tra hồ sơ giáo viên; Thống nhất ra đề thi, đề cương, giáo trình | N28: 4
D29: 42037 | F29: Kế hoạch bồi dưỡng nâng cao trình độ, kỹ năng, nghiệp vụ, tham gia đổi mới quản lý đào tạo | N29: 4
D30: 13/6/20125 | F30: Họp làm chương trình cao đẳng tiên tiến | N30: 4
A31: 3 | B31: =IF('Mau A1'!B51="","",'Mau A1'!B51) -> Châu Văn | C31: =IF('Mau A1'!C51="","",'Mau A1'!C51) -> Bảo | D31: 42248 | F31: Kiểm tra hồ sơ giáo viên; Thống nhất ra đề thi, đề cương, giáo trình | N31: 4 | P31: =N31+N32+N33+N34+N35+N36+N37+N38+N39+N40 -> 12
D32: 42037 | F32: Kế hoạch bồi dưỡng nâng cao trình độ, kỹ năng, nghiệp vụ, tham gia đổi mới quản lý đào tạo | N32: 4
D33: 13/6/20125 | F33: Họp làm chương trình cao đẳng tiên tiến | N33: 4
A41: 4 | B41: =IF('Mau A1'!B71="","",'Mau A1'!B71) -> Vũ Hạnh | C41: =IF('Mau A1'!C71="","",'Mau A1'!C71) -> Chiêu | D41: 41892 | F41: Phân công khối lượng giảng dạy khóa mới cho giáo viên và | P41: =N41+N42+N43+N44+N45+N46+N47+N48+N49+N50 -> 4
F42: điều chỉnh khối lượng giảng dạy giữa các tổ bộ môn… | N42: 4
A51: 5 | B51: =IF('Mau A1'!B91="","",'Mau A1'!B91) -> Ngô Phong | C51: =IF('Mau A1'!C91="","",'Mau A1'!C91) -> Cường | D51: 41892 | F51: Phân công khối lượng giảng dạy khóa mới cho giáo viên và | P51: =N51+N52+N53+N54+N55+N56+N57+N58+N59+N60 -> 4
F52: điều chỉnh khối lượng giảng dạy giữa các tổ bộ môn… | N52: 4
A61: 6 | B61: =IF('Mau A1'!B111="","",'Mau A1'!B111) -> Nguyễn Minh Đức | C61: =IF('Mau A1'!C111="","",'Mau A1'!C111) -> Cường | D61: 41892 | F61: Phân công khối lượng giảng dạy khóa mới cho giáo viên và | P61: =N61+N62+N63+N64+N65+N66+N67+N68+N69+N70 -> 4
F62: điều chỉnh khối lượng giảng dạy giữa các tổ bộ môn… | N62: 4
A71: 7 | B71: =IF('Mau A1'!B131="","",'Mau A1'!B131) -> Tạ Minh | C71: =IF('Mau A1'!C131="","",'Mau A1'!C131) -> Cường | D71: 41680 | F71: Triển khai kế hoạch tổ chức thi học sinh giởi cấp khoa | P71: =N71+N72+N73+N74+N75+N76+N77+N78+N79+N80 -> 28
F72: và đề xuất mở ngành đào tạo mới | N72: 4
D73: 41892 | F73: Phân công khối lượng giảng dạy khóa mới cho giáo viên và
F74: điều chỉnh khối lượng giảng dạy giữa các tổ bộ môn… | N74: 4
D75: 27/10/2014 | F75: Thông qua các môn tự chọn trong chương trình đào tạo nghề cao đẳng và
F76: trung cấp; triển khai kế hoạch duyệt đề tài sáng kiến kinh nghiệm | N76: 4
D77: 23/12/2014 | F77: Thông báo việc đăng ký đề tài NCKH, hội thảo + công tác ra đề thi… | N77: 4
D78: 42248 | F78: Kiểm tra hồ sơ giáo viên; Thống nhất ra đề thi, đề cương, giáo trình | N78: 4
D79: 42037 | F79: Kế hoạch bồi dưỡng nâng cao trình độ, kỹ năng, nghiệp vụ, tham gia đổi mới quản lý đào tạo | N79: 4
D80: 13/6/20125 | F80: Họp làm chương trình cao đẳng tiên tiến | N80: 4
A81: 8 | B81: =IF('Mau A1'!B151="","",'Mau A1'!B151) -> Võ | C81: =IF('Mau A1'!C151="","",'Mau A1'!C151) -> Cường | D81: 41680 | F81: Triển khai kế hoạch tổ chức thi học sinh giởi cấp khoa | P81: =N81+N82+N83+N84+N85+N86+N87+N88+N89+N90 -> 28
F82: và đề xuất mở ngành đào tạo mới | N82: 4
D83: 41892 | F83: Phân công khối lượng giảng dạy khóa mới cho giáo viên và
F84: điều chỉnh khối lượng giảng dạy giữa các tổ bộ môn… | N84: 4
D85: 27/10/2014 | F85: Thông qua các môn tự chọn trong chương trình đào tạo nghề cao đẳng và
F86: trung cấp; triển khai kế hoạch duyệt đề tài sáng kiến kinh nghiệm | N86: 4
D87: 23/12/2014 | F87: Thông báo việc đăng ký đề tài NCKH, hội thảo + công tác ra đề thi… | N87: 4
D88: 42248 | F88: Kiểm tra hồ sơ giáo viên; Thống nhất ra đề thi, đề cương, giáo trình | N88: 4
D89: 42037 | F89: Kế hoạch bồi dưỡng nâng cao trình độ, kỹ năng, nghiệp vụ, tham gia đổi mới quản lý đào tạo | N89: 4
D90: 13/6/20125 | F90: Họp làm chương trình cao đẳng tiên tiến | N90: 4
A91: 9 | B91: =IF('Mau A1'!B171="","",'Mau A1'!B171) -> Nguyễn Thùy | C91: =IF('Mau A1'!C171="","",'Mau A1'!C171) -> Dương | D91: 41892 | F91: Phân công khối lượng giảng dạy khóa mới cho giáo viên và | P91: =N91+N92+N93+N94+N95+N96+N97+N98+N99+N100 -> 4
F92: điều chỉnh khối lượng giảng dạy giữa các tổ bộ môn… | N92: 4
A101: 10 | B101: =IF('Mau A1'!B191="","",'Mau A1'!B191) -> Lê Tiến | C101: =IF('Mau A1'!C191="","",'Mau A1'!C191) -> Đạt | D101: 41892 | F101: Phân công khối lượng giảng dạy khóa mới cho giáo viên và | P101: =N101+N102+N103+N104+N105+N106+N107+N108+N109+N110 -> 4
F102: điều chỉnh khối lượng giảng dạy giữa các tổ bộ môn… | N102: 4
A111: 11 | B111: =IF('Mau A1'!B211="","",'Mau A1'!B211) -> Nguyễn Hồng | C111: =IF('Mau A1'!C211="","",'Mau A1'!C211) -> Đức | D111: 41892 | F111: Phân công khối lượng giảng dạy khóa mới cho giáo viên và | P111: =N111+N112+N113+N114+N115+N116+N117+N118+N119+N120 -> 4
F112: điều chỉnh khối lượng giảng dạy giữa các tổ bộ môn… | N112: 4
A121: 12 | B121: =IF('Mau A1'!B231="","",'Mau A1'!B231) -> Nguyễn Minh | C121: =IF('Mau A1'!C231="","",'Mau A1'!C231) -> Đức (A) | D121: 41680 | F121: Triển khai kế hoạch tổ chức thi học sinh giởi cấp khoa | P121: =N121+N122+N123+N124+N125+N126+N127+N128+N129+N130 -> 28
F122: và đề xuất mở ngành đào tạo mới | N122: 4
D123: 41892 | F123: Phân công khối lượng giảng dạy khóa mới cho giáo viên và
F124: điều chỉnh khối lượng giảng dạy giữa các tổ bộ môn… | N124: 4
D125: 27/10/2014 | F125: Thông qua các môn tự chọn trong chương trình đào tạo nghề cao đẳng và
F126: trung cấp; triển khai kế hoạch duyệt đề tài sáng kiến kinh nghiệm | N126: 4
D127: 23/12/2014 | F127: Thông báo việc đăng ký đề tài NCKH, hội thảo + công tác ra đề thi… | N127: 4
D128: 42248 | F128: Kiểm tra hồ sơ giáo viên; Thống nhất ra đề thi, đề cương, giáo trình | N128: 4
D129: 42037 | F129: Kế hoạch bồi dưỡng nâng cao trình độ, kỹ năng, nghiệp vụ, tham gia đổi mới quản lý đào tạo | N129: 4
D130: 13/6/20125 | F130: Họp làm chương trình cao đẳng tiên tiến | N130: 4
A131: 13 | B131: =IF('Mau A1'!B251="","",'Mau A1'!B251) -> Nguyễn Minh | C131: =IF('Mau A1'!C251="","",'Mau A1'!C251) -> Đức (B) | D131: 41892 | F131: Phân công khối lượng giảng dạy khóa mới cho giáo viên và | P131: =N131+N132+N133+N134+N135+N136+N137+N138+N139+N140 -> 4
F132: điều chỉnh khối lượng giảng dạy giữa các tổ bộ môn… | N132: 4
A141: 14 | B141: =IF('Mau A1'!B271="","",'Mau A1'!B271) -> Nguyễn Thị Ngọc | C141: =IF('Mau A1'!C271="","",'Mau A1'!C271) -> Hiền | D141: 41892 | F141: Phân công khối lượng giảng dạy khóa mới cho giáo viên và | P141: =N141+N142+N143+N144+N145+N146+N147+N148+N149+N150 -> 4
F142: điều chỉnh khối lượng giảng dạy giữa các tổ bộ môn… | N142: 4
A151: 15 | B151: =IF('Mau A1'!B291="","",'Mau A1'!B291) -> Trần Trung | C151: =IF('Mau A1'!C291="","",'Mau A1'!C291) -> Hiếu | D151: 41892 | F151: Phân công khối lượng giảng dạy khóa mới cho giáo viên và | P151: =N151+N152+N153+N154+N155+N156+N157+N158+N159+N160 -> 4
F152: điều chỉnh khối lượng giảng dạy giữa các tổ bộ môn… | N152: 4
A161: 16 | B161: =IF('Mau A1'!B311="","",'Mau A1'!B311) -> Mạnh Lê | C161: =IF('Mau A1'!C311="","",'Mau A1'!C311) -> Hoàn | D161: 41892 | F161: Phân công khối lượng giảng dạy khóa mới cho giáo viên và | P161: =N161+N162+N163+N164+N165+N166+N167+N168+N169+N170 -> 4
F162: điều chỉnh khối lượng giảng dạy giữa các tổ bộ môn… | N162: 4
A171: 17 | B171: =IF('Mau A1'!B331="","",'Mau A1'!B331) -> Lê Thế | C171: =IF('Mau A1'!C331="","",'Mau A1'!C331) -> Huân | D171: 41892 | F171: Phân công khối lượng giảng dạy khóa mới cho giáo viên và | P171: =N171+N172+N173+N174+N175+N176+N177+N178+N179+N180 -> 4
F172: điều chỉnh khối lượng giảng dạy giữa các tổ bộ môn… | N172: 4
A181: 18 | B181: =IF('Mau A1'!B351="","",'Mau A1'!B351) -> Nguyễn Trọng | C181: =IF('Mau A1'!C351="","",'Mau A1'!C351) -> Huân | D181: 41892 | F181: Phân công khối lượng giảng dạy khóa mới cho giáo viên và | P181: =N181+N182+N183+N184+N185+N186+N187+N188+N189+N190 -> 4
F182: điều chỉnh khối lượng giảng dạy giữa các tổ bộ môn… | N182: 4
A191: 19 | B191: =IF('Mau A1'!B371="","",'Mau A1'!B371) -> Tăng Cẩm | C191: =IF('Mau A1'!C371="","",'Mau A1'!C371) -> Huê | D191: 41680 | F191: Triển khai kế hoạch tổ chức thi học sinh giởi cấp khoa | P191: =N191+N192+N193+N194+N195+N196+N197+N198+N199+N200 -> 20
F192: và đề xuất mở ngành đào tạo mới | N192: 4
D193: 41892 | F193: Phân công khối lượng giảng dạy khóa mới cho giáo viên và
F194: điều chỉnh khối lượng giảng dạy giữa các tổ bộ môn… | N194: 4
D195: 23/12/2014 | F195: Thông báo việc đăng ký đề tài NCKH, hội thảo + công tác ra đề thi… | N195: 4
D196: 42248 | F196: Kiểm tra hồ sơ giáo viên; Thống nhất ra đề thi, đề cương, giáo trình | N196: 4
D197: 42037 | F197: Kế hoạch bồi dưỡng nâng cao trình độ, kỹ năng, nghiệp vụ, tham gia đổi mới quản lý đào tạo | N197: 4
A201: 20 | B201: =IF('Mau A1'!B391="","",'Mau A1'!B391) -> Trần Thị | C201: =IF('Mau A1'!C391="","",'Mau A1'!C391) -> Lệ | D201: 41892 | F201: Phân công khối lượng giảng dạy khóa mới cho giáo viên và | P201: =N201+N202+N203+N204+N205+N206+N207+N208+N209+N210 -> 4
F202: điều chỉnh khối lượng giảng dạy giữa các tổ bộ môn… | N202: 4
A211: 21 | B211: =IF('Mau A1'!B411="","",'Mau A1'!B411) -> Nguyễn Huỳnh | C211: =IF('Mau A1'!C411="","",'Mau A1'!C411) -> Liên | D211: 41680 | F211: Triển khai kế hoạch tổ chức thi học sinh giởi cấp khoa | P211: =N211+N212+N213+N214+N215+N216+N217+N218+N219+N220 -> 24
F212: và đề xuất mở ngành đào tạo mới | N212: 4
D213: 41892 | F213: Phân công khối lượng giảng dạy khóa mới cho giáo viên và
F214: điều chỉnh khối lượng giảng dạy giữa các tổ bộ môn… | N214: 4
D215: 27/10/2014 | F215: Thông qua các môn tự chọn trong chương trình đào tạo nghề cao đẳng và
F216: trung cấp; triển khai kế hoạch duyệt đề tài sáng kiến kinh nghiệm | N216: 4
D217: 23/12/2014 | F217: Thông báo việc đăng ký đề tài NCKH, hội thảo + công tác ra đề thi… | N217: 4
D218: 42037 | F218: Kế hoạch bồi dưỡng nâng cao trình độ, kỹ năng, nghiệp vụ, tham gia đổi mới quản lý đào tạo | N218: 4
D219: 13/6/20125 | F219: Họp làm chương trình cao đẳng tiên tiến | N219: 4
A221: 22 | B221: =IF('Mau A1'!B431="","",'Mau A1'!B431) -> Nguyễn Thùy | C221: =IF('Mau A1'!C431="","",'Mau A1'!C431) -> Linh | D221: 41892 | F221: Phân công khối lượng giảng dạy khóa mới cho giáo viên và | P221: =N221+N222+N223+N224+N225+N226+N227+N228+N229+N230 -> 4
F222: điều chỉnh khối lượng giảng dạy giữa các tổ bộ môn… | N222: 4
A231: 23 | B231: =IF('Mau A1'!B451="","",'Mau A1'!B451) -> Huỳnh Ngọc | C231: =IF('Mau A1'!C451="","",'Mau A1'!C451) -> Mai | D231: 41680 | F231: Triển khai kế hoạch tổ chức thi học sinh giởi cấp khoa | P231: =N231+N232+N233+N234+N235+N236+N237+N238+N239+N240 -> 28
F232: và đề xuất mở ngành đào tạo mới | N232: 4
D233: 41892 | F233: Phân công khối lượng giảng dạy khóa mới cho giáo viên và
F234: điều chỉnh khối lượng giảng dạy giữa các tổ bộ môn… | N234: 4
...

Sheet Mau B1.4
J1: Mẫu B1. 4
A2: UBND THÀNH PHỐ HỒ CHÍ MINH | E2: CỘNG HÒA XÃ HỘI CHỦ NGHĨA VIỆT NAM
A3: TRƯỜNG CAO ĐẲNG KỸ THUẬT LÝ TỰ TRỌNG TP. HỒ CHÍ MINH | E3: Độc lập - Tự do - Hạnh phúc
A5: BẢNG TỔNG HỢP BỒI DƯỠNG CHUYÊN MÔN
A6: NĂM HỌC 2014 - 2015
A7: KHOA: CÔNG NGHỆ ĐIỆN - ĐIỆN TỬ
A9: TT | B9: HỌ VÀ TÊN GIẢNG VIÊN | D9: THỜI GIAN THAM DỰ | I9: TỔNG SỐ GIỜ ĐƯỢC TÍNH | J9: GHI CHÚ
A11: 1 | B11: =IF('Mau A1'!B11="","",'Mau A1'!B11) -> Hồ Thị | C11: =IF('Mau A1'!C11="","",'Mau A1'!C11) -> Anh | I11: =COUNTIF(D11:H11,"X")*4 -> 0
A12: 2 | B12: =IF('Mau A1'!B31="","",'Mau A1'!B31) -> Ngô Hoàng | C12: =IF('Mau A1'!C31="","",'Mau A1'!C31) -> Anh | I12: =COUNTIF(D12:H12,"X")*4 -> 0
A13: 3 | B13: =IF('Mau A1'!B51="","",'Mau A1'!B51) -> Châu Văn | C13: =IF('Mau A1'!C51="","",'Mau A1'!C51) -> Bảo | I13: =COUNTIF(D13:H13,"X")*4 -> 0
A14: 4 | B14: =IF('Mau A1'!B71="","",'Mau A1'!B71) -> Vũ Hạnh | C14: =IF('Mau A1'!C71="","",'Mau A1'!C71) -> Chiêu | I14: =COUNTIF(D14:H14,"X")*4 -> 0
A15: 5 | B15: =IF('Mau A1'!B91="","",'Mau A1'!B91) -> Ngô Phong | C15: =IF('Mau A1'!C91="","",'Mau A1'!C91) -> Cường | I15: =COUNTIF(D15:H15,"X")*4 -> 0
A16: 6 | B16: =IF('Mau A1'!B111="","",'Mau A1'!B111) -> Nguyễn Minh Đức | C16: =IF('Mau A1'!C111="","",'Mau A1'!C111) -> Cường | I16: =COUNTIF(D16:H16,"X")*4 -> 0
A17: 7 | B17: =IF('Mau A1'!B131="","",'Mau A1'!B131) -> Tạ Minh | C17: =IF('Mau A1'!C131="","",'Mau A1'!C131) -> Cường | I17: =COUNTIF(D17:H17,"X")*4 -> 0
A18: 8 | B18: =IF('Mau A1'!B151="","",'Mau A1'!B151) -> Võ | C18: =IF('Mau A1'!C151="","",'Mau A1'!C151) -> Cường | I18: =COUNTIF(D18:H18,"X")*4 -> 0
A19: 9 | B19: =IF('Mau A1'!B171="","",'Mau A1'!B171) -> Nguyễn Thùy | C19: =IF('Mau A1'!C171="","",'Mau A1'!C171) -> Dương | I19: =COUNTIF(D19:H19,"X")*4 -> 0
A20: 10 | B20: =IF('Mau A1'!B191="","",'Mau A1'!B191) -> Lê Tiến | C20: =IF('Mau A1'!C191="","",'Mau A1'!C191) -> Đạt | I20: =COUNTIF(D20:H20,"X")*4 -> 0
A21: 11 | B21: =IF('Mau A1'!B211="","",'Mau A1'!B211) -> Nguyễn Hồng | C21: =IF('Mau A1'!C211="","",'Mau A1'!C211) -> Đức | I21: =COUNTIF(D21:H21,"X")*4 -> 0
A22: 12 | B22: =IF('Mau A1'!B231="","",'Mau A1'!B231) -> Nguyễn Minh | C22: =IF('Mau A1'!C231="","",'Mau A1'!C231) -> Đức (A) | I22: =COUNTIF(D22:H22,"X")*4 -> 0
A23: 13 | B23: =IF('Mau A1'!B251="","",'Mau A1'!B251) -> Nguyễn Minh | C23: =IF('Mau A1'!C251="","",'Mau A1'!C251) -> Đức (B) | I23: =COUNTIF(D23:H23,"X")*4 -> 0
A24: 14 | B24: =IF('Mau A1'!B271="","",'Mau A1'!B271) -> Nguyễn Thị Ngọc | C24: =IF('Mau A1'!C271="","",'Mau A1'!C271) -> Hiền | I24: =COUNTIF(D24:H24,"X")*4 -> 0
A25: 15 | B25: =IF('Mau A1'!B291="","",'Mau A1'!B291) -> Trần Trung | C25: =IF('Mau A1'!C291="","",'Mau A1'!C291) -> Hiếu | I25: =COUNTIF(D25:H25,"X")*4 -> 0
A26: 16 | B26: =IF('Mau A1'!B311="","",'Mau A1'!B311) -> Mạnh Lê | C26: =IF('Mau A1'!C311="","",'Mau A1'!C311) -> Hoàn | I26: =COUNTIF(D26:H26,"X")*4 -> 0
A27: 17 | B27: =IF('Mau A1'!B331="","",'Mau A1'!B331) -> Lê Thế | C27: =IF('Mau A1'!C331="","",'Mau A1'!C331) -> Huân | I27: =COUNTIF(D27:H27,"X")*4 -> 0
A28: 18 | B28: =IF('Mau A1'!B351="","",'Mau A1'!B351) -> Nguyễn Trọng | C28: =IF('Mau A1'!C351="","",'Mau A1'!C351) -> Huân | I28: =COUNTIF(D28:H28,"X")*4 -> 0
A29: 19 | B29: =IF('Mau A1'!B371="","",'Mau A1'!B371) -> Tăng Cẩm | C29: =IF('Mau A1'!C371="","",'Mau A1'!C371) -> Huê | I29: =COUNTIF(D29:H29,"X")*4 -> 0
A30: 20 | B30: =IF('Mau A1'!B391="","",'Mau A1'!B391) -> Trần Thị | C30: =IF('Mau A1'!C391="","",'Mau A1'!C391) -> Lệ | I30: =COUNTIF(D30:H30,"X")*4 -> 0
A31: 21 | B31: =IF('Mau A1'!B411="","",'Mau A1'!B411) -> Nguyễn Huỳnh | C31: =IF('Mau A1'!C411="","",'Mau A1'!C411) -> Liên | I31: =COUNTIF(D31:H31,"X")*4 -> 0
A32: 22 | B32: =IF('Mau A1'!B431="","",'Mau A1'!B431) -> Nguyễn Thùy | C32: =IF('Mau A1'!C431="","",'Mau A1'!C431) -> Linh | I32: =COUNTIF(D32:H32,"X")*4 -> 0
A33: 23 | B33: =IF('Mau A1'!B451="","",'Mau A1'!B451) -> Huỳnh Ngọc | C33: =IF('Mau A1'!C451="","",'Mau A1'!C451) -> Mai | I33: =COUNTIF(D33:H33,"X")*4 -> 0
A34: 24 | B34: =IF('Mau A1'!B471="","",'Mau A1'!B471) -> Đặng Đức | C34: =IF('Mau A1'!C471="","",'Mau A1'!C471) -> Minh | I34: =COUNTIF(D34:H34,"X")*4 -> 0
A35: 25 | B35: =IF('Mau A1'!B491="","",'Mau A1'!B491) -> Nguyễn Thị Tố | C35: =IF('Mau A1'!C491="","",'Mau A1'!C491) -> Nga | I35: =COUNTIF(D35:H35,"X")*4 -> 0
A36: 26 | B36: =IF('Mau A1'!B511="","",'Mau A1'!B511) -> Nguyễn Trần Thanh | C36: =IF('Mau A1'!C511="","",'Mau A1'!C511) -> Nhàn | I36: =COUNTIF(D36:H36,"X")*4 -> 0
A37: 27 | B37: =IF('Mau A1'!B531="","",'Mau A1'!B531) -> Đỗ Huỳnh Thanh | C37: =IF('Mau A1'!C531="","",'Mau A1'!C531) -> Phong | I37: =COUNTIF(D37:H37,"X")*4 -> 0
A38: 28 | B38: =IF('Mau A1'!B551="","",'Mau A1'!B551) -> Nguyễn Anh | C38: =IF('Mau A1'!C551="","",'Mau A1'!C551) -> Tăng | I38: =COUNTIF(D38:H38,"X")*4 -> 0
A39: 29 | B39: =IF('Mau A1'!B571="","",'Mau A1'!B571) -> Quách Minh | C39: =IF('Mau A1'!C571="","",'Mau A1'!C571) -> Thử | I39: =COUNTIF(D39:H39,"X")*4 -> 0
A40: 30 | B40: =IF('Mau A1'!B591="","",'Mau A1'!B591) -> Trần Công | C40: =IF('Mau A1'!C591="","",'Mau A1'!C591) -> Tiến | I40: =COUNTIF(D40:H40,"X")*4 -> 0
A41: 31 | B41: =IF('Mau A1'!B611="","",'Mau A1'!B611) -> Bốc Minh | C41: =IF('Mau A1'!C611="","",'Mau A1'!C611) -> Trí | I41: =COUNTIF(D41:H41,"X")*4 -> 0
A42: 32 | B42: =IF('Mau A1'!B631="","",'Mau A1'!B631) -> Nguyễn Trọng | C42: =IF('Mau A1'!C631="","",'Mau A1'!C631) -> Trí | I42: =COUNTIF(D42:H42,"X")*4 -> 0
A43: 33 | B43: =IF('Mau A1'!B651="","",'Mau A1'!B651) -> Trần Hiếu | C43: =IF('Mau A1'!C651="","",'Mau A1'!C651) -> Trinh | I43: =COUNTIF(D43:H43,"X")*4 -> 0
A44: 34 | B44: =IF('Mau A1'!B671="","",'Mau A1'!B671) -> Nguyễn Văn | C44: =IF('Mau A1'!C671="","",'Mau A1'!C671) -> Yên | I44: =COUNTIF(D44:H44,"X")*4 -> 0
A45: 35 | B45: =IF('Mau A1'!B691="","",'Mau A1'!B691) -> Lương Xuân | C45: =IF('Mau A1'!C691="","",'Mau A1'!C691) -> Chỉnh | I45: =COUNTIF(D45:H45,"X")*4 -> 0
A46: 36 | B46: =IF('Mau A1'!B711="","",'Mau A1'!B711) -> Phạm Minh | C46: =IF('Mau A1'!C711="","",'Mau A1'!C711) -> Nghĩa | I46: =COUNTIF(D46:H46,"X")*4 -> 0
A47: 37 | B47: =IF('Mau A1'!B731="","",'Mau A1'!B731) -> Lê Hồng | C47: =IF('Mau A1'!C731="","",'Mau A1'!C731) -> Vân | I47: =COUNTIF(D47:H47,"X")*4 -> 0
A48: 38 | B48: =IF('Mau A1'!B751="","",'Mau A1'!B751) -> Phan Đức | C48: =IF('Mau A1'!C751="","",'Mau A1'!C751) -> Long | I48: =COUNTIF(D48:H48,"X")*4 -> 0
A49: 39 | B49: =IF('Mau A1'!B771="","",'Mau A1'!B771) | C49: =IF('Mau A1'!C771="","",'Mau A1'!C771) | I49: =COUNTIF(D49:H49,"X")*4 -> 0
A50: 40 | B50: =IF('Mau A1'!B791="","",'Mau A1'!B791) | C50: =IF('Mau A1'!C791="","",'Mau A1'!C791) | I50: =COUNTIF(D50:H50,"X")*4 -> 0
A51: 41 | B51: =IF('Mau A1'!B811="","",'Mau A1'!B811) | C51: =IF('Mau A1'!C811="","",'Mau A1'!C811) | I51: =COUNTIF(D51:H51,"X")*4 -> 0
B53: Minh chứng nộp kèm: Kế hoạch được Hiệu trưởng duyệt và danh sách tham dự thực tế. | F53: Tp.HCM, Ngày tháng năm 2015
C54: Trưởng Khoa | F54: Người lập biểu

Sheet Mau B1.5
I1: Mẫu B1. 5
A2: UBND THÀNH PHỐ HỒ CHÍ MINH | G2: CỘNG HÒA XÃ HỘI CHỦ NGHĨA VIỆT NAM
A3: TRƯỜNG CAO ĐẲNG KỸ THUẬT LÝ TỰ TRỌNG TP. HỒ CHÍ MINH | G3: Độc lập - Tự do - Hạnh phúc
A5: BẢNG TỔNG HỢP DỰ GIỜ ĐỊNH KỲ, ĐỘT XUẤT
A6: NĂM HỌC 2014 - 2015
A7: KHOA: CÔNG NGHỆ ĐiỆN - ĐiỆN TỬ
A9: TT | B9: HỌ VÀ TÊN GIẢNG VIÊN | D9: Số phiếu chấm dự giờ | E9: Số giờ được tính dự giờ | F9: Họp góp ý cho bao nhiêu GV | G9: Số giờ được tính họp góp ý | H9: Tổng cộng số giờ được tính | I9: Ghi chú
A10: (1) | B10: (2) | D10: (3) | E10: (4) | F10: (5) | G10: (6) | H10: (7) | I10: (8)
A11: 1 | B11: =IF('Mau A1'!B11="","",'Mau A1'!B11) -> Hồ Thị | C11: =IF('Mau A1'!C11="","",'Mau A1'!C11) -> Anh | D11: 3 | E11: =D11*4 -> 12 | F11: 3 | G11: =F11*4 -> 12 | H11: =E11+G11 -> 24
A12: 2 | B12: =IF('Mau A1'!B31="","",'Mau A1'!B31) -> Ngô Hoàng | C12: =IF('Mau A1'!C31="","",'Mau A1'!C31) -> Anh | D12: 3 | E12: =D12*4 -> 12 | F12: 3 | G12: =F12*4 -> 12 | H12: =E12+G12 -> 24
A13: 3 | B13: =IF('Mau A1'!B51="","",'Mau A1'!B51) -> Châu Văn | C13: =IF('Mau A1'!C51="","",'Mau A1'!C51) -> Bảo | D13: 2 | E13: =D13*4 -> 8 | F13: 2 | G13: =F13*4 -> 8 | H13: =E13+G13 -> 16
A14: 4 | B14: =IF('Mau A1'!B71="","",'Mau A1'!B71) -> Vũ Hạnh | C14: =IF('Mau A1'!C71="","",'Mau A1'!C71) -> Chiêu | D14: 2 | E14: =D14*4 -> 8 | F14: 2 | G14: =F14*4 -> 8 | H14: =E14+G14 -> 16
A15: 5 | B15: =IF('Mau A1'!B91="","",'Mau A1'!B91) -> Ngô Phong | C15: =IF('Mau A1'!C91="","",'Mau A1'!C91) -> Cường | D15: 2 | E15: =D15*4 -> 8 | F15: 2 | G15: =F15*4 -> 8 | H15: =E15+G15 -> 16
A16: 6 | B16: =IF('Mau A1'!B111="","",'Mau A1'!B111) -> Nguyễn Minh Đức | C16: =IF('Mau A1'!C111="","",'Mau A1'!C111) -> Cường | D16: 3 | E16: =D16*4 -> 12 | F16: 3 | G16: =F16*4 -> 12 | H16: =E16+G16 -> 24
A17: 7 | B17: =IF('Mau A1'!B131="","",'Mau A1'!B131) -> Tạ Minh | C17: =IF('Mau A1'!C131="","",'Mau A1'!C131) -> Cường | D17: 6 | E17: =D17*4 -> 24 | F17: 6 | G17: =F17*4 -> 24 | H17: =E17+G17 -> 48
A18: 8 | B18: =IF('Mau A1'!B151="","",'Mau A1'!B151) -> Võ | C18: =IF('Mau A1'!C151="","",'Mau A1'!C151) -> Cường | D18: 3 | E18: =D18*4 -> 12 | F18: 3 | G18: =F18*4 -> 12 | H18: =E18+G18 -> 24
A19: 9 | B19: =IF('Mau A1'!B171="","",'Mau A1'!B171) -> Nguyễn Thùy | C19: =IF('Mau A1'!C171="","",'Mau A1'!C171) -> Dương | D19: 5 | E19: =D19*4 -> 20 | F19: 5 | G19: =F19*4 -> 20 | H19: =E19+G19 -> 40
A20: 10 | B20: =IF('Mau A1'!B191="","",'Mau A1'!B191) -> Lê Tiến | C20: =IF('Mau A1'!C191="","",'Mau A1'!C191) -> Đạt | D20: 2 | E20: =D20*4 -> 8 | F20: 2 | G20: =F20*4 -> 8 | H20: =E20+G20 -> 16
A21: 11 | B21: =IF('Mau A1'!B211="","",'Mau A1'!B211) -> Nguyễn Hồng | C21: =IF('Mau A1'!C211="","",'Mau A1'!C211) -> Đức | D21: 4 | E21: =D21*4 -> 16 | F21: 4 | G21: =F21*4 -> 16 | H21: =E21+G21 -> 32
A22: 12 | B22: =IF('Mau A1'!B231="","",'Mau A1'!B231) -> Nguyễn Minh | C22: =IF('Mau A1'!C231="","",'Mau A1'!C231) -> Đức (A) | D22: 2 | E22: =D22*4 -> 8 | F22: 2 | G22: =F22*4 -> 8 | H22: =E22+G22 -> 16
A23: 13 | B23: =IF('Mau A1'!B251="","",'Mau A1'!B251) -> Nguyễn Minh | C23: =IF('Mau A1'!C251="","",'Mau A1'!C251) -> Đức (B) | D23: 2 | E23: =D23*4 -> 8 | F23: 2 | G23: =F23*4 -> 8 | H23: =E23+G23 -> 16
A24: 14 | B24: =IF('Mau A1'!B271="","",'Mau A1'!B271) -> Nguyễn Thị Ngọc | C24: =IF('Mau A1'!C271="","",'Mau A1'!C271) -> Hiền | E24: =D24*4 -> 0 | G24: =F24*4 -> 0 | H24: =E24+G24 -> 0
A25: 15 | B25: =IF('Mau A1'!B291="","",'Mau A1'!B291) -> Trần Trung | C25: =IF('Mau A1'!C291="","",'Mau A1'!C291) -> Hiếu | D25: 5 | E25: =D25*4 -> 20 | F25: 5 | G25: =F25*4 -> 20 | H25: =E25+G25 -> 40
A26: 16 | B26: =IF('Mau A1'!B311="","",'Mau A1'!B311) -> Mạnh Lê | C26: =IF('Mau A1'!C311="","",'Mau A1'!C311) -> Hoàn | E26: =D26*4 -> 0 | G26: =F26*4 -> 0 | H26: =E26+G26 -> 0
A27: 17 | B27: =IF('Mau A1'!B331="","",'Mau A1'!B331) -> Lê Thế | C27: =IF('Mau A1'!C331="","",'Mau A1'!C331) -> Huân | D27: 5 | E27: =D27*4 -> 20 | F27: 5 | G27: =F27*4 -> 20 | H27: =E27+G27 -> 40
A28: 18 | B28: =IF('Mau A1'!B351="","",'Mau A1'!B351) -> Nguyễn Trọng | C28: =IF('Mau A1'!C351="","",'Mau A1'!C351) -> Huân | D28: 3 | E28: =D28*4 -> 12 | F28: 3 | G28: =F28*4 -> 12 | H28: =E28+G28 -> 24
A29: 19 | B29: =IF('Mau A1'!B371="","",'Mau A1'!B371) -> Tăng Cẩm | C29: =IF('Mau A1'!C371="","",'Mau A1'!C371) -> Huê | D29: 3 | E29: =D29*4 -> 12 | F29: 3 | G29: =F29*4 -> 12 | H29: =E29+G29 -> 24
A30: 20 | B30: =IF('Mau A1'!B391="","",'Mau A1'!B391) -> Trần Thị | C30: =IF('Mau A1'!C391="","",'Mau A1'!C391) -> Lệ | D30: 2 | E30: =D30*4 -> 8 | F30: 2 | G30: =F30*4 -> 8 | H30: =E30+G30 -> 16
A31: 21 | B31: =IF('Mau A1'!B411="","",'Mau A1'!B411) -> Nguyễn Huỳnh | C31: =IF('Mau A1'!C411="","",'Mau A1'!C411) -> Liên | D31: 6 | E31: =D31*4 -> 24 | F31: 6 | G31: =F31*4 -> 24 | H31: =E31+G31 -> 48
A32: 22 | B32: =IF('Mau A1'!B431="","",'Mau A1'!B431) -> Nguyễn Thùy | C32: =IF('Mau A1'!C431="","",'Mau A1'!C431) -> Linh | D32: 2 | E32: =D32*4 -> 8 | F32: 2 | G32: =F32*4 -> 8 | H32: =E32+G32 -> 16
A33: 23 | B33: =IF('Mau A1'!B451="","",'Mau A1'!B451) -> Huỳnh Ngọc | C33: =IF('Mau A1'!C451="","",'Mau A1'!C451) -> Mai | D33: 2 | E33: =D33*4 -> 8 | F33: 2 | G33: =F33*4 -> 8 | H33: =E33+G33 -> 16
A34: 24 | B34: =IF('Mau A1'!B471="","",'Mau A1'!B471) -> Đặng Đức | C34: =IF('Mau A1'!C471="","",'Mau A1'!C471) -> Minh | D34: 5 | E34: =D34*4 -> 20 | F34: 5 | G34: =F34*4 -> 20 | H34: =E34+G34 -> 40
A35: 25 | B35: =IF('Mau A1'!B491="","",'Mau A1'!B491) -> Nguyễn Thị Tố | C35: =IF('Mau A1'!C491="","",'Mau A1'!C491) -> Nga | D35: 3 | E35: =D35*4 -> 12 | F35: 3 | G35: =F35*4 -> 12 | H35: =E35+G35 -> 24
A36: 26 | B36: =IF('Mau A1'!B511="","",'Mau A1'!B511) -> Nguyễn Trần Thanh | C36: =IF('Mau A1'!C511="","",'Mau A1'!C511) -> Nhàn | D36: 1 | E36: =D36*4 -> 4 | F36: 1 | G36: =F36*4 -> 4 | H36: =E36+G36 -> 8
A37: 27 | B37: =IF('Mau A1'!B531="","",'Mau A1'!B531) -> Đỗ Huỳnh Thanh | C37: =IF('Mau A1'!C531="","",'Mau A1'!C531) -> Phong | D37: 2 | E37: =D37*4 -> 8 | F37: 2 | G37: =F37*4 -> 8 | H37: =E37+G37 -> 16
A38: 28 | B38: =IF('Mau A1'!B551="","",'Mau A1'!B551) -> Nguyễn Anh | C38: =IF('Mau A1'!C551="","",'Mau A1'!C551) -> Tăng | D38: 2 | E38: =D38*4 -> 8 | F38: 2 | G38: =F38*4 -> 8 | H38: =E38+G38 -> 16
A39: 29 | B39: =IF('Mau A1'!B571="","",'Mau A1'!B571) -> Quách Minh | C39: =IF('Mau A1'!C571="","",'Mau A1'!C571) -> Thử | D39: 6 | E39: =D39*4 -> 24 | F39: 6 | G39: =F39*4 -> 24 | H39: =E39+G39 -> 48
A40: 30 | B40: =IF('Mau A1'!B591="","",'Mau A1'!B591) -> Trần Công | C40: =IF('Mau A1'!C591="","",'Mau A1'!C591) -> Tiến | D40: 1 | E40: =D40*4 -> 4 | F40: 1 | G40: =F40*4 -> 4 | H40: =E40+G40 -> 8
A41: 31 | B41: =IF('Mau A1'!B611="","",'Mau A1'!B611) -> Bốc Minh | C41: =IF('Mau A1'!C611="","",'Mau A1'!C611) -> Trí | D41: 4 | E41: =D41*4 -> 16 | F41: 4 | G41: =F41*4 -> 16 | H41: =E41+G41 -> 32
A42: 32 | B42: =IF('Mau A1'!B631="","",'Mau A1'!B631) -> Nguyễn Trọng | C42: =IF('Mau A1'!C631="","",'Mau A1'!C631) -> Trí | D42: 3 | E42: =D42*4 -> 12 | F42: 3 | G42: =F42*4 -> 12 | H42: =E42+G42 -> 24
A43: 33 | B43: =IF('Mau A1'!B651="","",'Mau A1'!B651) -> Trần Hiếu | C43: =IF('Mau A1'!C651="","",'Mau A1'!C651) -> Trinh | D43: 3 | E43: =D43*4 -> 12 | F43: 3 | G43: =F43*4 -> 12 | H43: =E43+G43 -> 24
A44: 34 | B44: =IF('Mau A1'!B671="","",'Mau A1'!B671) -> Nguyễn Văn | C44: =IF('Mau A1'!C671="","",'Mau A1'!C671) -> Yên | D44: 2 | E44: =D44*4 -> 8 | F44: 2 | G44: =F44*4 -> 8 | H44: =E44+G44 -> 16
A45: 35 | B45: =IF('Mau A1'!B691="","",'Mau A1'!B691) -> Lương Xuân | C45: =IF('Mau A1'!C691="","",'Mau A1'!C691) -> Chỉnh | E45: =D45*4 -> 0 | G45: =F45*4 -> 0 | H45: =E45+G45 -> 0
A46: 36 | B46: =IF('Mau A1'!B711="","",'Mau A1'!B711) -> Phạm Minh | C46: =IF('Mau A1'!C711="","",'Mau A1'!C711) -> Nghĩa | E46: =D46*4 -> 0 | G46: =F46*4 -> 0 | H46: =E46+G46 -> 0
A47: 37 | B47: =IF('Mau A1'!B731="","",'Mau A1'!B731) -> Lê Hồng | C47: =IF('Mau A1'!C731="","",'Mau A1'!C731) -> Vân | E47: =D47*4 -> 0 | G47: =F47*4 -> 0 | H47: =E47+G47 -> 0
A48: 38 | B48: =IF('Mau A1'!B751="","",'Mau A1'!B751) -> Phan Đức | C48: =IF('Mau A1'!C751="","",'Mau A1'!C751) -> Long | D48: 1 | E48: =D48*4 -> 4 | F48: 1 | G48: =F48*4 -> 4 | H48: =E48+G48 -> 8
A49: 39 | B49: =IF('Mau A1'!B771="","",'Mau A1'!B771) | C49: =IF('Mau A1'!C771="","",'Mau A1'!C771) | E49: =D49*4 -> 0 | G49: =F49*4 -> 0 | H49: =E49+G49 -> 0
A50: 40 | B50: =IF('Mau A1'!B791="","",'Mau A1'!B791) | C50: =IF('Mau A1'!C791="","",'Mau A1'!C791) | E50: =D50*4 -> 0 | G50: =F50*4 -> 0 | H50: =E50+G50 -> 0
A51: 41 | B51: =IF('Mau A1'!B811="","",'Mau A1'!B811) | C51: =IF('Mau A1'!C811="","",'Mau A1'!C811) | E51: =D51*4 -> 0 | G51: =F51*4 -> 0 | H51: =E51+G51 -> 0
B53: Minh chứng nộp kèm:
B54: 1/ Phiếu dự giờ và sắp xếp theo số lượng GV đi dự.
B55: 2/ Biên bản họp góp ý có danh sách GV dự họp thực tế.
G56: Tp.HCM, ngày tháng năm 2015
C57: Trưởng Khoa | G57: Người lập biểu

Sheet Mau B1. 6
I1: Mẫu B1. 6
A2: UBND THÀNH PHỐ HỒ CHÍ MINH | F2: CỘNG HÒA XÃ HỘI CHỦ NGHĨA VIỆT NAM
A3: TRƯỜNG CAO ĐẲNG KỸ THUẬT LÝ TỰ TRỌNG TP. HỒ CHÍ MINH | F3: Độc lập - Tự do - Hạnh phúc
A5: BẢNG TỔNG HỢP KIỂM TRA, CHẤM ĐIỂM HỒ SƠ CHUYÊN MÔN
A6: NĂM HỌC 2014 - 2015
A7: KHOA:CN ĐIỆN - ĐIỆN TỬ
A9: TT | B9: HỌ VÀ TÊN GIẢNG VIÊN | D9: Tổ bộ môn được phân công kiểm tra, chấm điểm | E9: Số GV trong tổ kiểm tra, chấm điểm | F9: Số GV được kiểm tra, chấm điểm của tổ | G9: Số giờ được tính | H9: Tổng số giờ được tính | I9: Ghi chú
A10: (1) | B10: (2) | D10: (3) | E10: (4) | F10: (5) | G10: (6) | H10: (7) | I10: (8)
A11: 1 | B11: =IF('Mau A1'!B11="","",'Mau A1'!B11) -> Hồ Thị | C11: =IF('Mau A1'!C11="","",'Mau A1'!C11) -> Anh | G11: =IF(OR(E11="",F11=""),0,ROUND((F11*4)/E11,1)) -> 0 | H11: =SUM(G11:G16) -> 0
G12: =IF(OR(E12="",F12=""),0,ROUND((F12*4)/E12,1)) -> 0
G13: =IF(OR(E13="",F13=""),0,ROUND((F13*4)/E13,1)) -> 0
G14: =IF(OR(E14="",F14=""),0,ROUND((F14*4)/E14,1)) -> 0
G15: =IF(OR(E15="",F15=""),0,ROUND((F15*4)/E15,1)) -> 0
G16: =IF(OR(E16="",F16=""),0,ROUND((F16*4)/E16,1)) -> 0
A17: 2 | B17: =IF('Mau A1'!B31="","",'Mau A1'!B31) -> Ngô Hoàng | C17: =IF('Mau A1'!C31="","",'Mau A1'!C31) -> Anh | D17: Kỹ thuật sơ sở | E17: 1 | F17: 5 | G17: =IF(OR(E17="",F17=""),0,ROUND((F17*4)/E17,1)) -> 20 | H17: =SUM(G17:G22) -> 20
G18: =IF(OR(E18="",F18=""),0,ROUND((F18*4)/E18,1)) -> 0
G19: =IF(OR(E19="",F19=""),0,ROUND((F19*4)/E19,1)) -> 0
G20: =IF(OR(E20="",F20=""),0,ROUND((F20*4)/E20,1)) -> 0
G21: =IF(OR(E21="",F21=""),0,ROUND((F21*4)/E21,1)) -> 0
G22: =IF(OR(E22="",F22=""),0,ROUND((F22*4)/E22,1)) -> 0
A23: 3 | B23: =IF('Mau A1'!B51="","",'Mau A1'!B51) -> Châu Văn | C23: =IF('Mau A1'!C51="","",'Mau A1'!C51) -> Bảo | G23: =IF(OR(E23="",F23=""),0,ROUND((F23*4)/E23,1)) -> 0 | H23: =SUM(G23:G28) -> 0
G24: =IF(OR(E24="",F24=""),0,ROUND((F24*4)/E24,1)) -> 0
G25: =IF(OR(E25="",F25=""),0,ROUND((F25*4)/E25,1)) -> 0
G26: =IF(OR(E26="",F26=""),0,ROUND((F26*4)/E26,1)) -> 0
G27: =IF(OR(E27="",F27=""),0,ROUND((F27*4)/E27,1)) -> 0
G28: =IF(OR(E28="",F28=""),0,ROUND((F28*4)/E28,1)) -> 0
A29: 4 | B29: =IF('Mau A1'!B71="","",'Mau A1'!B71) -> Vũ Hạnh | C29: =IF('Mau A1'!C71="","",'Mau A1'!C71) -> Chiêu | G29: =IF(OR(E29="",F29=""),0,ROUND((F29*4)/E29,1)) -> 0 | H29: =SUM(G29:G34) -> 0
G30: =IF(OR(E30="",F30=""),0,ROUND((F30*4)/E30,1)) -> 0
G31: =IF(OR(E31="",F31=""),0,ROUND((F31*4)/E31,1)) -> 0
G32: =IF(OR(E32="",F32=""),0,ROUND((F32*4)/E32,1)) -> 0
G33: =IF(OR(E33="",F33=""),0,ROUND((F33*4)/E33,1)) -> 0
G34: =IF(OR(E34="",F34=""),0,ROUND((F34*4)/E34,1)) -> 0
A35: 5 | B35: =IF('Mau A1'!B91="","",'Mau A1'!B91) -> Ngô Phong | C35: =IF('Mau A1'!C91="","",'Mau A1'!C91) -> Cường | G35: =IF(OR(E35="",F35=""),0,ROUND((F35*4)/E35,1)) -> 0 | H35: =SUM(G35:G40) -> 0
G36: =IF(OR(E36="",F36=""),0,ROUND((F36*4)/E36,1)) -> 0
G37: =IF(OR(E37="",F37=""),0,ROUND((F37*4)/E37,1)) -> 0
G38: =IF(OR(E38="",F38=""),0,ROUND((F38*4)/E38,1)) -> 0
G39: =IF(OR(E39="",F39=""),0,ROUND((F39*4)/E39,1)) -> 0
G40: =IF(OR(E40="",F40=""),0,ROUND((F40*4)/E40,1)) -> 0
A41: 6 | B41: =IF('Mau A1'!B111="","",'Mau A1'!B111) -> Nguyễn Minh Đức | C41: =IF('Mau A1'!C111="","",'Mau A1'!C111) -> Cường | G41: =IF(OR(E41="",F41=""),0,ROUND((F41*4)/E41,1)) -> 0 | H41: =SUM(G41:G46) -> 0
G42: =IF(OR(E42="",F42=""),0,ROUND((F42*4)/E42,1)) -> 0
G43: =IF(OR(E43="",F43=""),0,ROUND((F43*4)/E43,1)) -> 0
G44: =IF(OR(E44="",F44=""),0,ROUND((F44*4)/E44,1)) -> 0
G45: =IF(OR(E45="",F45=""),0,ROUND((F45*4)/E45,1)) -> 0
G46: =IF(OR(E46="",F46=""),0,ROUND((F46*4)/E46,1)) -> 0
A47: 7 | B47: =IF('Mau A1'!B131="","",'Mau A1'!B131) -> Tạ Minh | C47: =IF('Mau A1'!C131="","",'Mau A1'!C131) -> Cường | G47: =IF(OR(E47="",F47=""),0,ROUND((F47*4)/E47,1)) -> 0 | H47: =SUM(G47:G52) -> 0
G48: =IF(OR(E48="",F48=""),0,ROUND((F48*4)/E48,1)) -> 0
G49: =IF(OR(E49="",F49=""),0,ROUND((F49*4)/E49,1)) -> 0
G50: =IF(OR(E50="",F50=""),0,ROUND((F50*4)/E50,1)) -> 0
G51: =IF(OR(E51="",F51=""),0,ROUND((F51*4)/E51,1)) -> 0
G52: =IF(OR(E52="",F52=""),0,ROUND((F52*4)/E52,1)) -> 0
A53: 8 | B53: =IF('Mau A1'!B151="","",'Mau A1'!B151) -> Võ | C53: =IF('Mau A1'!C151="","",'Mau A1'!C151) -> Cường | D53: Truyền thanh-truyền hình | E53: 1 | F53: 5 | G53: =IF(OR(E53="",F53=""),0,ROUND((F53*4)/E53,1)) -> 20 | H53: =SUM(G53:G58) -> 20
G54: =IF(OR(E54="",F54=""),0,ROUND((F54*4)/E54,1)) -> 0
G55: =IF(OR(E55="",F55=""),0,ROUND((F55*4)/E55,1)) -> 0
G56: =IF(OR(E56="",F56=""),0,ROUND((F56*4)/E56,1)) -> 0
G57: =IF(OR(E57="",F57=""),0,ROUND((F57*4)/E57,1)) -> 0
G58: =IF(OR(E58="",F58=""),0,ROUND((F58*4)/E58,1)) -> 0
A59: 9 | B59: =IF('Mau A1'!B171="","",'Mau A1'!B171) -> Nguyễn Thùy | C59: =IF('Mau A1'!C171="","",'Mau A1'!C171) -> Dương | G59: =IF(OR(E59="",F59=""),0,ROUND((F59*4)/E59,1)) -> 0 | H59: =SUM(G59:G64) -> 0
G60: =IF(OR(E60="",F60=""),0,ROUND((F60*4)/E60,1)) -> 0
G61: =IF(OR(E61="",F61=""),0,ROUND((F61*4)/E61,1)) -> 0
G62: =IF(OR(E62="",F62=""),0,ROUND((F62*4)/E62,1)) -> 0
G63: =IF(OR(E63="",F63=""),0,ROUND((F63*4)/E63,1)) -> 0
G64: =IF(OR(E64="",F64=""),0,ROUND((F64*4)/E64,1)) -> 0
A65: 10 | B65: =IF('Mau A1'!B191="","",'Mau A1'!B191) -> Lê Tiến | C65: =IF('Mau A1'!C191="","",'Mau A1'!C191) -> Đạt | G65: =IF(OR(E65="",F65=""),0,ROUND((F65*4)/E65,1)) -> 0 | H65: =SUM(G65:G70) -> 0
G66: =IF(OR(E66="",F66=""),0,ROUND((F66*4)/E66,1)) -> 0
G67: =IF(OR(E67="",F67=""),0,ROUND((F67*4)/E67,1)) -> 0
G68: =IF(OR(E68="",F68=""),0,ROUND((F68*4)/E68,1)) -> 0
G69: =IF(OR(E69="",F69=""),0,ROUND((F69*4)/E69,1)) -> 0
G70: =IF(OR(E70="",F70=""),0,ROUND((F70*4)/E70,1)) -> 0
A71: 11 | B71: =IF('Mau A1'!B211="","",'Mau A1'!B211) -> Nguyễn Hồng | C71: =IF('Mau A1'!C211="","",'Mau A1'!C211) -> Đức | G71: =IF(OR(E71="",F71=""),0,ROUND((F71*4)/E71,1)) -> 0 | H71: =SUM(G71:G76) -> 0
G72: =IF(OR(E72="",F72=""),0,ROUND((F72*4)/E72,1)) -> 0
G73: =IF(OR(E73="",F73=""),0,ROUND((F73*4)/E73,1)) -> 0
G74: =IF(OR(E74="",F74=""),0,ROUND((F74*4)/E74,1)) -> 0
G75: =IF(OR(E75="",F75=""),0,ROUND((F75*4)/E75,1)) -> 0
G76: =IF(OR(E76="",F76=""),0,ROUND((F76*4)/E76,1)) -> 0
A77: 12 | B77: =IF('Mau A1'!B231="","",'Mau A1'!B231) -> Nguyễn Minh | C77: =IF('Mau A1'!C231="","",'Mau A1'!C231) -> Đức (A) | D77: Điện tử công nghiệp | E77: 1 | F77: 5 | G77: =IF(OR(E77="",F77=""),0,ROUND((F77*4)/E77,1)) -> 20 | H77: =SUM(G77:G82) -> 20
G78: =IF(OR(E78="",F78=""),0,ROUND((F78*4)/E78,1)) -> 0
G79: =IF(OR(E79="",F79=""),0,ROUND((F79*4)/E79,1)) -> 0
G80: =IF(OR(E80="",F80=""),0,ROUND((F80*4)/E80,1)) -> 0
G81: =IF(OR(E81="",F81=""),0,ROUND((F81*4)/E81,1)) -> 0
G82: =IF(OR(E82="",F82=""),0,ROUND((F82*4)/E82,1)) -> 0
A83: 13 | B83: =IF('Mau A1'!B251="","",'Mau A1'!B251) -> Nguyễn Minh | C83: =IF('Mau A1'!C251="","",'Mau A1'!C251) -> Đức (B) | G83: =IF(OR(E83="",F83=""),0,ROUND((F83*4)/E83,1)) -> 0 | H83: =SUM(G83:G88) -> 0
G84: =IF(OR(E84="",F84=""),0,ROUND((F84*4)/E84,1)) -> 0
G85: =IF(OR(E85="",F85=""),0,ROUND((F85*4)/E85,1)) -> 0
G86: =IF(OR(E86="",F86=""),0,ROUND((F86*4)/E86,1)) -> 0
G87: =IF(OR(E87="",F87=""),0,ROUND((F87*4)/E87,1)) -> 0
G88: =IF(OR(E88="",F88=""),0,ROUND((F88*4)/E88,1)) -> 0
A89: 14 | B89: =IF('Mau A1'!B271="","",'Mau A1'!B271) -> Nguyễn Thị Ngọc | C89: =IF('Mau A1'!C271="","",'Mau A1'!C271) -> Hiền | G89: =IF(OR(E89="",F89=""),0,ROUND((F89*4)/E89,1)) -> 0 | H89: =SUM(G89:G94) -> 0
G90: =IF(OR(E90="",F90=""),0,ROUND((F90*4)/E90,1)) -> 0
G91: =IF(OR(E91="",F91=""),0,ROUND((F91*4)/E91,1)) -> 0
G92: =IF(OR(E92="",F92=""),0,ROUND((F92*4)/E92,1)) -> 0
G93: =IF(OR(E93="",F93=""),0,ROUND((F93*4)/E93,1)) -> 0
G94: =IF(OR(E94="",F94=""),0,ROUND((F94*4)/E94,1)) -> 0
A95: 15 | B95: =IF('Mau A1'!B291="","",'Mau A1'!B291) -> Trần Trung | C95: =IF('Mau A1'!C291="","",'Mau A1'!C291) -> Hiếu | G95: =IF(OR(E95="",F95=""),0,ROUND((F95*4)/E95,1)) -> 0 | H95: =SUM(G95:G100) -> 0
G96: =IF(OR(E96="",F96=""),0,ROUND((F96*4)/E96,1)) -> 0
G97: =IF(OR(E97="",F97=""),0,ROUND((F97*4)/E97,1)) -> 0
G98: =IF(OR(E98="",F98=""),0,ROUND((F98*4)/E98,1)) -> 0
G99: =IF(OR(E99="",F99=""),0,ROUND((F99*4)/E99,1)) -> 0
G100: =IF(OR(E100="",F100=""),0,ROUND((F100*4)/E100,1)) -> 0
A101: 16 | B101: =IF('Mau A1'!B311="","",'Mau A1'!B311) -> Mạnh Lê | C101: =IF('Mau A1'!C311="","",'Mau A1'!C311) -> Hoàn | G101: =IF(OR(E101="",F101=""),0,ROUND((F101*4)/E101,1)) -> 0 | H101: =SUM(G101:G106) -> 0
G102: =IF(OR(E102="",F102=""),0,ROUND((F102*4)/E102,1)) -> 0
...

Sheet Mau B1.7
F1: Mẫu B1. 7
A2: UBND THÀNH PHỐ HỒ CHÍ MINH | D2: CỘNG HÒA XÃ HỘI CHỦ NGHĨA VIỆT NAM
A3: TRƯỜNG CAO ĐẲNG KỸ THUẬT LÝ TỰ TRỌNG TP. HỒ CHÍ MINH | D3: Độc lập - Tự do - Hạnh Phúc
A5: BẢNG TỔNG HỢP CÔNG TÁC ĐÁNH GIÁ KẾT QUẢ HỌC TẬP CỦA HSSV
A6: NĂM HỌC 2014 - 2015
A7: KHOA: Công nghệ Điện-Điện tử
A9: TT | B9: HỌ VÀ TÊN GIẢNG VIÊN | D9: TỔNG SỐ TIẾT THỰC HIỆN | E9: TỔNG SỐ GIỜ QUY ĐỔI | F9: GHI CHÚ
A11: 1 | B11: =IF('Mau A1'!B11="","",'Mau A1'!B11) -> Hồ Thị | C11: =IF('Mau A1'!C11="","",'Mau A1'!C11) -> Anh | D11: 42.5 | E11: =ROUND(IF(F11="GVC",D11*2.8,D11*3.2),1) -> 136
A12: 2 | B12: =IF('Mau A1'!B31="","",'Mau A1'!B31) -> Ngô Hoàng | C12: =IF('Mau A1'!C31="","",'Mau A1'!C31) -> Anh | D12: 32 | E12: =ROUND(IF(F12="GVC",D12*2.8,D12*3.2),1) -> 102.4
A13: 3 | B13: =IF('Mau A1'!B51="","",'Mau A1'!B51) -> Châu Văn | C13: =IF('Mau A1'!C51="","",'Mau A1'!C51) -> Bảo | E13: =ROUND(IF(F13="GVC",D13*2.8,D13*3.2),1) -> 0
A14: 4 | B14: =IF('Mau A1'!B71="","",'Mau A1'!B71) -> Vũ Hạnh | C14: =IF('Mau A1'!C71="","",'Mau A1'!C71) -> Chiêu | D14: 25.7 | E14: =ROUND(IF(F14="GVC",D14*2.8,D14*3.2),1) -> 82.2
A15: 5 | B15: =IF('Mau A1'!B91="","",'Mau A1'!B91) -> Ngô Phong | C15: =IF('Mau A1'!C91="","",'Mau A1'!C91) -> Cường | D15: 53.7 | E15: =ROUND(IF(F15="GVC",D15*2.8,D15*3.2),1) -> 171.8
A16: 6 | B16: =IF('Mau A1'!B111="","",'Mau A1'!B111) -> Nguyễn Minh Đức | C16: =IF('Mau A1'!C111="","",'Mau A1'!C111) -> Cường | D16: 50.1 | E16: =ROUND(IF(F16="GVC",D16*2.8,D16*3.2),1) -> 160.3
A17: 7 | B17: =IF('Mau A1'!B131="","",'Mau A1'!B131) -> Tạ Minh | C17: =IF('Mau A1'!C131="","",'Mau A1'!C131) -> Cường | D17: 11.6 | E17: =ROUND(IF(F17="GVC",D17*2.8,D17*3.2),1) -> 37.1
A18: 8 | B18: =IF('Mau A1'!B151="","",'Mau A1'!B151) -> Võ | C18: =IF('Mau A1'!C151="","",'Mau A1'!C151) -> Cường | D18: 52.3 | E18: =ROUND(IF(F18="GVC",D18*2.8,D18*3.2),1) -> 167.4
A19: 9 | B19: =IF('Mau A1'!B171="","",'Mau A1'!B171) -> Nguyễn Thùy | C19: =IF('Mau A1'!C171="","",'Mau A1'!C171) -> Dương | D19: 43.4 | E19: =ROUND(IF(F19="GVC",D19*2.8,D19*3.2),1) -> 138.9
A20: 10 | B20: =IF('Mau A1'!B191="","",'Mau A1'!B191) -> Lê Tiến | C20: =IF('Mau A1'!C191="","",'Mau A1'!C191) -> Đạt | D20: 35.6 | E20: =ROUND(IF(F20="GVC",D20*2.8,D20*3.2),1) -> 113.9
A21: 11 | B21: =IF('Mau A1'!B211="","",'Mau A1'!B211) -> Nguyễn Hồng | C21: =IF('Mau A1'!C211="","",'Mau A1'!C211) -> Đức | D21: 18.9 | E21: =ROUND(IF(F21="GVC",D21*2.8,D21*3.2),1) -> 60.5
A22: 12 | B22: =IF('Mau A1'!B231="","",'Mau A1'!B231) -> Nguyễn Minh | C22: =IF('Mau A1'!C231="","",'Mau A1'!C231) -> Đức (A) | D22: 30.1 | E22: =ROUND(IF(F22="GVC",D22*2.8,D22*3.2),1) -> 96.3
A23: 13 | B23: =IF('Mau A1'!B251="","",'Mau A1'!B251) -> Nguyễn Minh | C23: =IF('Mau A1'!C251="","",'Mau A1'!C251) -> Đức (B) | D23: 34.4 | E23: =ROUND(IF(F23="GVC",D23*2.8,D23*3.2),1) -> 110.1
A24: 14 | B24: =IF('Mau A1'!B271="","",'Mau A1'!B271) -> Nguyễn Thị Ngọc | C24: =IF('Mau A1'!C271="","",'Mau A1'!C271) -> Hiền | D24: 18.8 | E24: =ROUND(IF(F24="GVC",D24*2.8,D24*3.2),1) -> 60.2
A25: 15 | B25: =IF('Mau A1'!B291="","",'Mau A1'!B291) -> Trần Trung | C25: =IF('Mau A1'!C291="","",'Mau A1'!C291) -> Hiếu | D25: 23.1 | E25: =ROUND(IF(F25="GVC",D25*2.8,D25*3.2),1) -> 73.9
A26: 16 | B26: =IF('Mau A1'!B311="","",'Mau A1'!B311) -> Mạnh Lê | C26: =IF('Mau A1'!C311="","",'Mau A1'!C311) -> Hoàn | D26: 36 | E26: =ROUND(IF(F26="GVC",D26*2.8,D26*3.2),1) -> 115.2
A27: 17 | B27: =IF('Mau A1'!B331="","",'Mau A1'!B331) -> Lê Thế | C27: =IF('Mau A1'!C331="","",'Mau A1'!C331) -> Huân | D27: 36.8 | E27: =ROUND(IF(F27="GVC",D27*2.8,D27*3.2),1) -> 117.8
A28: 18 | B28: =IF('Mau A1'!B351="","",'Mau A1'!B351) -> Nguyễn Trọng | C28: =IF('Mau A1'!C351="","",'Mau A1'!C351) -> Huân | D28: 42.4 | E28: =ROUND(IF(F28="GVC",D28*2.8,D28*3.2),1) -> 135.7
A29: 19 | B29: =IF('Mau A1'!B371="","",'Mau A1'!B371) -> Tăng Cẩm | C29: =IF('Mau A1'!C371="","",'Mau A1'!C371) -> Huê | D29: 35 | E29: =ROUND(IF(F29="GVC",D29*2.8,D29*3.2),1) -> 112
A30: 20 | B30: =IF('Mau A1'!B391="","",'Mau A1'!B391) -> Trần Thị | C30: =IF('Mau A1'!C391="","",'Mau A1'!C391) -> Lệ | D30: 36.5 | E30: =ROUND(IF(F30="GVC",D30*2.8,D30*3.2),1) -> 116.8
A31: 21 | B31: =IF('Mau A1'!B411="","",'Mau A1'!B411) -> Nguyễn Huỳnh | C31: =IF('Mau A1'!C411="","",'Mau A1'!C411) -> Liên | D31: 62.9 | E31: =ROUND(IF(F31="GVC",D31*2.8,D31*3.2),1) -> 201.3
A32: 22 | B32: =IF('Mau A1'!B431="","",'Mau A1'!B431) -> Nguyễn Thùy | C32: =IF('Mau A1'!C431="","",'Mau A1'!C431) -> Linh | D32: 49.7 | E32: =ROUND(IF(F32="GVC",D32*2.8,D32*3.2),1) -> 159
A33: 23 | B33: =IF('Mau A1'!B451="","",'Mau A1'!B451) -> Huỳnh Ngọc | C33: =IF('Mau A1'!C451="","",'Mau A1'!C451) -> Mai | D33: 34.7 | E33: =ROUND(IF(F33="GVC",D33*2.8,D33*3.2),1) -> 111
A34: 24 | B34: =IF('Mau A1'!B471="","",'Mau A1'!B471) -> Đặng Đức | C34: =IF('Mau A1'!C471="","",'Mau A1'!C471) -> Minh | D34: 46.1 | E34: =ROUND(IF(F34="GVC",D34*2.8,D34*3.2),1) -> 147.5
A35: 25 | B35: =IF('Mau A1'!B491="","",'Mau A1'!B491) -> Nguyễn Thị Tố | C35: =IF('Mau A1'!C491="","",'Mau A1'!C491) -> Nga | D35: 49.7 | E35: =ROUND(IF(F35="GVC",D35*2.8,D35*3.2),1) -> 159
A36: 26 | B36: =IF('Mau A1'!B511="","",'Mau A1'!B511) -> Nguyễn Trần Thanh | C36: =IF('Mau A1'!C511="","",'Mau A1'!C511) -> Nhàn | D36: 64.4 | E36: =ROUND(IF(F36="GVC",D36*2.8,D36*3.2),1) -> 206.1
A37: 27 | B37: =IF('Mau A1'!B531="","",'Mau A1'!B531) -> Đỗ Huỳnh Thanh | C37: =IF('Mau A1'!C531="","",'Mau A1'!C531) -> Phong | D37: 48.6 | E37: =ROUND(IF(F37="GVC",D37*2.8,D37*3.2),1) -> 155.5
A38: 28 | B38: =IF('Mau A1'!B551="","",'Mau A1'!B551) -> Nguyễn Anh | C38: =IF('Mau A1'!C551="","",'Mau A1'!C551) -> Tăng | D38: 56.4 | E38: =ROUND(IF(F38="GVC",D38*2.8,D38*3.2),1) -> 180.5
A39: 29 | B39: =IF('Mau A1'!B571="","",'Mau A1'!B571) -> Quách Minh | C39: =IF('Mau A1'!C571="","",'Mau A1'!C571) -> Thử | D39: 52.5 | E39: =ROUND(IF(F39="GVC",D39*2.8,D39*3.2),1) -> 168
A40: 30 | B40: =IF('Mau A1'!B591="","",'Mau A1'!B591) -> Trần Công | C40: =IF('Mau A1'!C591="","",'Mau A1'!C591) -> Tiến | D40: 67.1 | E40: =ROUND(IF(F40="GVC",D40*2.8,D40*3.2),1) -> 214.7
A41: 31 | B41: =IF('Mau A1'!B611="","",'Mau A1'!B611) -> Bốc Minh | C41: =IF('Mau A1'!C611="","",'Mau A1'!C611) -> Trí | D41: 56.5 | E41: =ROUND(IF(F41="GVC",D41*2.8,D41*3.2),1) -> 180.8
A42: 32 | B42: =IF('Mau A1'!B631="","",'Mau A1'!B631) -> Nguyễn Trọng | C42: =IF('Mau A1'!C631="","",'Mau A1'!C631) -> Trí | D42: 60.6 | E42: =ROUND(IF(F42="GVC",D42*2.8,D42*3.2),1) -> 193.9
A43: 33 | B43: =IF('Mau A1'!B651="","",'Mau A1'!B651) -> Trần Hiếu | C43: =IF('Mau A1'!C651="","",'Mau A1'!C651) -> Trinh | D43: 53.5 | E43: =ROUND(IF(F43="GVC",D43*2.8,D43*3.2),1) -> 171.2
A44: 34 | B44: =IF('Mau A1'!B671="","",'Mau A1'!B671) -> Nguyễn Văn | C44: =IF('Mau A1'!C671="","",'Mau A1'!C671) -> Yên | D44: 38.3 | E44: =ROUND(IF(F44="GVC",D44*2.8,D44*3.2),1) -> 122.6
A45: 35 | B45: =IF('Mau A1'!B691="","",'Mau A1'!B691) -> Lương Xuân | C45: =IF('Mau A1'!C691="","",'Mau A1'!C691) -> Chỉnh | D45: 3.7 | E45: =ROUND(IF(F45="GVC",D45*2.8,D45*3.2),1) -> 11.8
A46: 36 | B46: =IF('Mau A1'!B711="","",'Mau A1'!B711) -> Phạm Minh | C46: =IF('Mau A1'!C711="","",'Mau A1'!C711) -> Nghĩa | D46: 34 | E46: =ROUND(IF(F46="GVC",D46*2.8,D46*3.2),1) -> 108.8
A47: 37 | B47: =IF('Mau A1'!B731="","",'Mau A1'!B731) -> Lê Hồng | C47: =IF('Mau A1'!C731="","",'Mau A1'!C731) -> Vân | D47: 11 | E47: =ROUND(IF(F47="GVC",D47*2.8,D47*3.2),1) -> 35.2
A48: 38 | B48: =IF('Mau A1'!B751="","",'Mau A1'!B751) -> Phan Đức | C48: =IF('Mau A1'!C751="","",'Mau A1'!C751) -> Long | D48: 14.3 | E48: =ROUND(IF(F48="GVC",D48*2.8,D48*3.2),1) -> 45.8
A49: 39 | B49: =IF('Mau A1'!B771="","",'Mau A1'!B771) | C49: =IF('Mau A1'!C771="","",'Mau A1'!C771) | E49: =ROUND(IF(F49="GVC",D49*2.8,D49*3.2),1) -> 0
A50: 40 | B50: =IF('Mau A1'!B791="","",'Mau A1'!B791) | C50: =IF('Mau A1'!C791="","",'Mau A1'!C791) | E50: =ROUND(IF(F50="GVC",D50*2.8,D50*3.2),1) -> 0
A51: 41 | B51: =IF('Mau A1'!B811="","",'Mau A1'!B811) | C51: =IF('Mau A1'!C811="","",'Mau A1'!C811) | E51: =ROUND(IF(F51="GVC",D51*2.8,D51*3.2),1) -> 0
A52: TỔNG CỘNG | D52: =SUM(D11:D51) -> 1462.9 | E52: =SUM(E11:E51) -> 4681.2
D54: Tp.HCM, Ngày tháng năm 2015
B55: Trưởng Khoa | E55: Người lập biểu

Sheet Mau B1.8
G1: Mẫu B1. 8
A2: UBND THÀNH PHỐ HỒ CHÍ MINH | E2: CỘNG HÒA XÃ HỘI CHỦ NGHĨA VIỆT NAM
A3: TRƯỜNG CAO ĐẲNG KỸ THUẬT LÝ TỰ TRỌNG TP. HỒ CHÍ MINH | E3: Độc lập - Tự do - Hạnh phúc
A5: BẢNG TỔNG HỢP CÁC CÔNG VIỆC KHÁC (NẾU CÓ)
A6: NĂM HỌC 2014 - 2015
A7: KHOA:CN ĐIỆN - ĐIỆN TỬ
A10: TT | B10: Họ và tên Giảng viên | D10: Nội dung công việc | E10: Số giờ được tính | F10: Tổng số gờ được tính | G10: Ghi chú
A11: 1 | B11: =IF('Mau A1'!B11="","",'Mau A1'!B11) -> Hồ Thị | C11: =IF('Mau A1'!C11="","",'Mau A1'!C11) -> Anh | F11: =SUM(E11:E12) -> 0
A13: 2 | B13: =IF('Mau A1'!B31="","",'Mau A1'!B31) -> Ngô Hoàng | C13: =IF('Mau A1'!C31="","",'Mau A1'!C31) -> Anh | F13: =SUM(E13:E14) -> 0
A15: 3 | B15: =IF('Mau A1'!B51="","",'Mau A1'!B51) -> Châu Văn | C15: =IF('Mau A1'!C51="","",'Mau A1'!C51) -> Bảo | F15: =SUM(E15:E16) -> 0
A17: 4 | B17: =IF('Mau A1'!B71="","",'Mau A1'!B71) -> Vũ Hạnh | C17: =IF('Mau A1'!C71="","",'Mau A1'!C71) -> Chiêu | F17: =SUM(E17:E18) -> 0
A19: 5 | B19: =IF('Mau A1'!B91="","",'Mau A1'!B91) -> Ngô Phong | C19: =IF('Mau A1'!C91="","",'Mau A1'!C91) -> Cường | F19: =SUM(E19:E20) -> 0
A21: 6 | B21: =IF('Mau A1'!B111="","",'Mau A1'!B111) -> Nguyễn Minh Đức | C21: =IF('Mau A1'!C111="","",'Mau A1'!C111) -> Cường | F21: =SUM(E21:E22) -> 0
A23: 7 | B23: =IF('Mau A1'!B131="","",'Mau A1'!B131) -> Tạ Minh | C23: =IF('Mau A1'!C131="","",'Mau A1'!C131) -> Cường | D23: Họp góp ý hội nghị cán bộ công chức (26.11.2014) | E23: 4 | F23: =SUM(E23:E24) -> 4
A25: 8 | B25: =IF('Mau A1'!B151="","",'Mau A1'!B151) -> Võ | C25: =IF('Mau A1'!C151="","",'Mau A1'!C151) -> Cường | D25: Họp góp ý hội nghị cán bộ công chức (26.11.2014) | E25: 4 | F25: =SUM(E25:E26) -> 4
A27: 9 | B27: =IF('Mau A1'!B171="","",'Mau A1'!B171) -> Nguyễn Thùy | C27: =IF('Mau A1'!C171="","",'Mau A1'!C171) -> Dương | F27: =SUM(E27:E28) -> 0
A29: 10 | B29: =IF('Mau A1'!B191="","",'Mau A1'!B191) -> Lê Tiến | C29: =IF('Mau A1'!C191="","",'Mau A1'!C191) -> Đạt | F29: =SUM(E29:E30) -> 0
A31: 11 | B31: =IF('Mau A1'!B211="","",'Mau A1'!B211) -> Nguyễn Hồng | C31: =IF('Mau A1'!C211="","",'Mau A1'!C211) -> Đức | F31: =SUM(E31:E32) -> 0
A33: 12 | B33: =IF('Mau A1'!B231="","",'Mau A1'!B231) -> Nguyễn Minh | C33: =IF('Mau A1'!C231="","",'Mau A1'!C231) -> Đức (A) | D33: Họp góp ý hội nghị cán bộ công chức (26.11.2014) | E33: 4 | F33: =SUM(E33:E34) -> 4
A35: 13 | B35: =IF('Mau A1'!B251="","",'Mau A1'!B251) -> Nguyễn Minh | C35: =IF('Mau A1'!C251="","",'Mau A1'!C251) -> Đức (B) | F35: =SUM(E35:E36) -> 0
A37: 14 | B37: =IF('Mau A1'!B271="","",'Mau A1'!B271) -> Nguyễn Thị Ngọc | C37: =IF('Mau A1'!C271="","",'Mau A1'!C271) -> Hiền | F37: =SUM(E37:E38) -> 0
A39: 15 | B39: =IF('Mau A1'!B291="","",'Mau A1'!B291) -> Trần Trung | C39: =IF('Mau A1'!C291="","",'Mau A1'!C291) -> Hiếu | F39: =SUM(E39:E40) -> 0
A41: 16 | B41: =IF('Mau A1'!B311="","",'Mau A1'!B311) -> Mạnh Lê | C41: =IF('Mau A1'!C311="","",'Mau A1'!C311) -> Hoàn | F41: =SUM(E41:E42) -> 0
A43: 17 | B43: =IF('Mau A1'!B331="","",'Mau A1'!B331) -> Lê Thế | C43: =IF('Mau A1'!C331="","",'Mau A1'!C331) -> Huân | F43: =SUM(E43:E44) -> 0
A45: 18 | B45: =IF('Mau A1'!B351="","",'Mau A1'!B351) -> Nguyễn Trọng | C45: =IF('Mau A1'!C351="","",'Mau A1'!C351) -> Huân | F45: =SUM(E45:E46) -> 0
A47: 19 | B47: =IF('Mau A1'!B371="","",'Mau A1'!B371) -> Tăng Cẩm | C47: =IF('Mau A1'!C371="","",'Mau A1'!C371) -> Huê | F47: =SUM(E47:E48) -> 0
A49: 20 | B49: =IF('Mau A1'!B391="","",'Mau A1'!B391) -> Trần Thị | C49: =IF('Mau A1'!C391="","",'Mau A1'!C391) -> Lệ | F49: =SUM(E49:E50) -> 0
A51: 21 | B51: =IF('Mau A1'!B411="","",'Mau A1'!B411) -> Nguyễn Huỳnh | C51: =IF('Mau A1'!C411="","",'Mau A1'!C411) -> Liên | D51: Họp góp ý hội nghị cán bộ công chức (26.11.2014) | E51: 4 | F51: =SUM(E51:E52) -> 4
A53: 22 | B53: =IF('Mau A1'!B431="","",'Mau A1'!B431) -> Nguyễn Thùy | C53: =IF('Mau A1'!C431="","",'Mau A1'!C431) -> Linh | F53: =SUM(E53:E54) -> 0
A55: 23 | B55: =IF('Mau A1'!B451="","",'Mau A1'!B451) -> Huỳnh Ngọc | C55: =IF('Mau A1'!C451="","",'Mau A1'!C451) -> Mai | D55: Họp góp ý hội nghị cán bộ công chức (26.11.2014) | E55: 4 | F55: =SUM(E55:E56) -> 4
A57: 24 | B57: =IF('Mau A1'!B471="","",'Mau A1'!B471) -> Đặng Đức | C57: =IF('Mau A1'!C471="","",'Mau A1'!C471) -> Minh | F57: =SUM(E57:E58) -> 0
A59: 25 | B59: =IF('Mau A1'!B491="","",'Mau A1'!B491) -> Nguyễn Thị Tố | C59: =IF('Mau A1'!C491="","",'Mau A1'!C491) -> Nga | F59: =SUM(E59:E60) -> 0
A61: 26 | B61: =IF('Mau A1'!B511="","",'Mau A1'!B511) -> Nguyễn Trần Thanh | C61: =IF('Mau A1'!C511="","",'Mau A1'!C511) -> Nhàn | F61: =SUM(E61:E62) -> 0
A63: 27 | B63: =IF('Mau A1'!B531="","",'Mau A1'!B531) -> Đỗ Huỳnh Thanh | C63: =IF('Mau A1'!C531="","",'Mau A1'!C531) -> Phong | F63: =SUM(E63:E64) -> 0
A65: 28 | B65: =IF('Mau A1'!B551="","",'Mau A1'!B551) -> Nguyễn Anh | C65: =IF('Mau A1'!C551="","",'Mau A1'!C551) -> Tăng | D65: Họp góp ý hội nghị cán bộ công chức (26.11.2014) | E65: 4 | F65: =SUM(E65:E66) -> 4
A67: 29 | B67: =IF('Mau A1'!B571="","",'Mau A1'!B571) -> Quách Minh | C67: =IF('Mau A1'!C571="","",'Mau A1'!C571) -> Thử | D67: Họp góp ý hội nghị cán bộ công chức (26.11.2014) | E67: 4 | F67: =SUM(E67:E68) -> 4
A69: 30 | B69: =IF('Mau A1'!B591="","",'Mau A1'!B591) -> Trần Công | C69: =IF('Mau A1'!C591="","",'Mau A1'!C591) -> Tiến | F69: =SUM(E69:E70) -> 0
A71: 31 | B71: =IF('Mau A1'!B611="","",'Mau A1'!B611) -> Bốc Minh | C71: =IF('Mau A1'!C611="","",'Mau A1'!C611) -> Trí | D71: Họp góp ý hội nghị cán bộ công chức (26.11.2014) | E71: 4 | F71: =SUM(E71:E72) -> 4
A73: 32 | B73: =IF('Mau A1'!B631="","",'Mau A1'!B631) -> Nguyễn Trọng | C73: =IF('Mau A1'!C631="","",'Mau A1'!C631) -> Trí | F73: =SUM(E73:E74) -> 0
A75: 33 | B75: =IF('Mau A1'!B651="","",'Mau A1'!B651) -> Trần Hiếu | C75: =IF('Mau A1'!C651="","",'Mau A1'!C651) -> Trinh | F75: =SUM(E75:E76) -> 0
A77: 34 | B77: =IF('Mau A1'!B671="","",'Mau A1'!B671) -> Nguyễn Văn | C77: =IF('Mau A1'!C671="","",'Mau A1'!C671) -> Yên | F77: =SUM(E77:E78) -> 0
A79: 35 | B79: =IF('Mau A1'!B691="","",'Mau A1'!B691) -> Lương Xuân | C79: =IF('Mau A1'!C691="","",'Mau A1'!C691) -> Chỉnh | F79: =SUM(E79:E80) -> 0
A81: 36 | B81: =IF('Mau A1'!B711="","",'Mau A1'!B711) -> Phạm Minh | C81: =IF('Mau A1'!C711="","",'Mau A1'!C711) -> Nghĩa | F81: =SUM(E81:E82) -> 0
A83: 37 | B83: =IF('Mau A1'!B731="","",'Mau A1'!B731) -> Lê Hồng | C83: =IF('Mau A1'!C731="","",'Mau A1'!C731) -> Vân | F83: =SUM(E83:E84) -> 0
A85: 38 | B85: =IF('Mau A1'!B751="","",'Mau A1'!B751) -> Phan Đức | C85: =IF('Mau A1'!C751="","",'Mau A1'!C751) -> Long | F85: =SUM(E85:E86) -> 0
A87: 39 | B87: =IF('Mau A1'!B771="","",'Mau A1'!B771) | C87: =IF('Mau A1'!C771="","",'Mau A1'!C771) | F87: =SUM(E87:E88) -> 0
A89: 40 | B89: =IF('Mau A1'!B791="","",'Mau A1'!B791) | C89: =IF('Mau A1'!C791="","",'Mau A1'!C791) | F89: =SUM(E89:E90) -> 0
A91: 41 | B91: =IF('Mau A1'!B811="","",'Mau A1'!B811) | C91: =IF('Mau A1'!C811="","",'Mau A1'!C811) | F91: =SUM(E91:E92) -> 0
B93: Minh chứng nộp kèm: Văn bản được Hiệu trưởng duyệt.
E94: Tp.HCM, Ngày tháng năm 2015
C95: Trưởng Khoa | E95: Người lập biểu

Sheet Mau B2
M1: Mẫu B2
A2: UBND THÀNH PHỐ HỒ CHÍ MINH | H2: CỘNG HÒA XÃ HỘI CHỦ NGHĨA VIỆT NAM
A3: TRƯỜNG CAO ĐẲNG KỸ THUẬT LÝ TỰ TRỌNG TP. HỒ CHÍ MINH | H3: Độc lập - Tự do - Hạnh phúc
A5: BẢNG TỔNG HỢP CÁC MỤC KHỐI LƯỢNG CÔNG TÁC " HOẠT ĐỘNG CHUYÊN MÔN VÀ CÁC NHIỆM VỤ KHÁC" CỦA GIẢNG VIÊN
A6: NĂM HỌC 2014 - 2015
A7: KHOA : CÔNG NGHỆ ĐiỆN - ĐiỆN TỬ
A9: TT | B9: Họ và tên GV | D9: Mục 1 | E9: Mục 2 | F9: Mục 3 | G9: Mục 4 | H9: Mục 5 | I9: Mục 6 | J9: Mục 7 | K9: Mục 8 | L9: Tổng số giờ | M9: Ghi chú
A10: (1) | B10: (2) | D10: (3) | E10: (4) | F10: (5) | G10: (6) | H10: (7) | I10: (8) | J10: (9) | K10: (10) | L10: (11) | M10: (12)
A11: 1 | B11: =IF('Mau A1'!B11="","",'Mau A1'!B11) -> Hồ Thị | C11: =IF('Mau A1'!C11="","",'Mau A1'!C11) -> Anh | D11: ='Mau B1.1'!I11 -> 16 | E11: ='Mau B1.2'!I11 -> 0 | F11: ='Mau B1.3.1'!AZ11+SUM('Mau B1.3.2'!P11:P20) -> 72 | G11: ='Mau B1.4'!I11 -> 0 | H11: ='Mau B1.5'!H11 -> 24 | I11: =SUM('Mau B1. 6'!H11:H16) -> 0 | J11: ='Mau B1.7'!E11 -> 136 | K11: =SUM('Mau B1.8'!F11:F12) -> 0 | L11: =SUM(D11:K11) -> 248
A12: 2 | B12: =IF('Mau A1'!B31="","",'Mau A1'!B31) -> Ngô Hoàng | C12: =IF('Mau A1'!C31="","",'Mau A1'!C31) -> Anh | D12: ='Mau B1.1'!I12 -> 16 | E12: ='Mau B1.2'!I12 -> 0 | F12: ='Mau B1.3.1'!AZ12+SUM('Mau B1.3.2'!P21:P30) -> 96 | G12: ='Mau B1.4'!I12 -> 0 | H12: ='Mau B1.5'!H12 -> 24 | I12: =SUM('Mau B1. 6'!H17:H22) -> 20 | J12: ='Mau B1.7'!E12 -> 102.4 | K12: =SUM('Mau B1.8'!F13:F14) -> 0 | L12: =SUM(D12:K12) -> 258.4
A13: 3 | B13: =IF('Mau A1'!B51="","",'Mau A1'!B51) -> Châu Văn | C13: =IF('Mau A1'!C51="","",'Mau A1'!C51) -> Bảo | D13: ='Mau B1.1'!I13 -> 16 | E13: ='Mau B1.2'!I13 -> 0 | F13: ='Mau B1.3.1'!AZ13+SUM('Mau B1.3.2'!P31:P40) -> 68 | G13: ='Mau B1.4'!I13 -> 0 | H13: ='Mau B1.5'!H13 -> 16 | I13: =SUM('Mau B1. 6'!H23:H28) -> 0 | J13: ='Mau B1.7'!E13 -> 0 | K13: =SUM('Mau B1.8'!F15:F16) -> 0 | L13: =SUM(D13:K13) -> 100
A14: 4 | B14: =IF('Mau A1'!B71="","",'Mau A1'!B71) -> Vũ Hạnh | C14: =IF('Mau A1'!C71="","",'Mau A1'!C71) -> Chiêu | D14: ='Mau B1.1'!I14 -> 16 | E14: ='Mau B1.2'!I14 -> 0 | F14: ='Mau B1.3.1'!AZ14+SUM('Mau B1.3.2'!P41:P50) -> 72 | G14: ='Mau B1.4'!I14 -> 0 | H14: ='Mau B1.5'!H14 -> 16 | I14: =SUM('Mau B1. 6'!H29:H34) -> 0 | J14: ='Mau B1.7'!E14 -> 82.2 | K14: =SUM('Mau B1.8'!F17:F18) -> 0 | L14: =SUM(D14:K14) -> 186.2
A15: 5 | B15: =IF('Mau A1'!B91="","",'Mau A1'!B91) -> Ngô Phong | C15: =IF('Mau A1'!C91="","",'Mau A1'!C91) -> Cường | D15: ='Mau B1.1'!I15 -> 20 | E15: ='Mau B1.2'!I15 -> 0 | F15: ='Mau B1.3.1'!AZ15+SUM('Mau B1.3.2'!P51:P60) -> 64 | G15: ='Mau B1.4'!I15 -> 0 | H15: ='Mau B1.5'!H15 -> 16 | I15: =SUM('Mau B1. 6'!H35:H40) -> 0 | J15: ='Mau B1.7'!E15 -> 171.8 | K15: =SUM('Mau B1.8'!F19:F20) -> 0 | L15: =SUM(D15:K15) -> 271.8
A16: 6 | B16: =IF('Mau A1'!B111="","",'Mau A1'!B111) -> Nguyễn Minh Đức | C16: =IF('Mau A1'!C111="","",'Mau A1'!C111) -> Cường | D16: ='Mau B1.1'!I16 -> 16 | E16: ='Mau B1.2'!I16 -> 0 | F16: ='Mau B1.3.1'!AZ16+SUM('Mau B1.3.2'!P61:P70) -> 68 | G16: ='Mau B1.4'!I16 -> 0 | H16: ='Mau B1.5'!H16 -> 24 | I16: =SUM('Mau B1. 6'!H41:H46) -> 0 | J16: ='Mau B1.7'!E16 -> 160.3 | K16: =SUM('Mau B1.8'!F21:F22) -> 0 | L16: =SUM(D16:K16) -> 268.3
A17: 7 | B17: =IF('Mau A1'!B131="","",'Mau A1'!B131) -> Tạ Minh | C17: =IF('Mau A1'!C131="","",'Mau A1'!C131) -> Cường | D17: ='Mau B1.1'!I17 -> 16 | E17: ='Mau B1.2'!I17 -> 0 | F17: ='Mau B1.3.1'!AZ17+SUM('Mau B1.3.2'!P71:P80) -> 104 | G17: ='Mau B1.4'!I17 -> 0 | H17: ='Mau B1.5'!H17 -> 48 | I17: =SUM('Mau B1. 6'!H47:H52) -> 0 | J17: ='Mau B1.7'!E17 -> 37.1 | K17: =SUM('Mau B1.8'!F23:F24) -> 4 | L17: =SUM(D17:K17) -> 209.1
A18: 8 | B18: =IF('Mau A1'!B151="","",'Mau A1'!B151) -> Võ | C18: =IF('Mau A1'!C151="","",'Mau A1'!C151) -> Cường | D18: ='Mau B1.1'!I18 -> 16 | E18: ='Mau B1.2'!I18 -> 0 | F18: ='Mau B1.3.1'!AZ18+SUM('Mau B1.3.2'!P81:P90) -> 92 | G18: ='Mau B1.4'!I18 -> 0 | H18: ='Mau B1.5'!H18 -> 24 | I18: =SUM('Mau B1. 6'!H53:H58) -> 20 | J18: ='Mau B1.7'!E18 -> 167.4 | K18: =SUM('Mau B1.8'!F25:F26) -> 4 | L18: =SUM(D18:K18) -> 323.4
A19: 9 | B19: =IF('Mau A1'!B171="","",'Mau A1'!B171) -> Nguyễn Thùy | C19: =IF('Mau A1'!C171="","",'Mau A1'!C171) -> Dương | D19: ='Mau B1.1'!I19 -> 20 | E19: ='Mau B1.2'!I19 -> 0 | F19: ='Mau B1.3.1'!AZ19+SUM('Mau B1.3.2'!P91:P100) -> 52 | G19: ='Mau B1.4'!I19 -> 0 | H19: ='Mau B1.5'!H19 -> 40 | I19: =SUM('Mau B1. 6'!H59:H64) -> 0 | J19: ='Mau B1.7'!E19 -> 138.9 | K19: =SUM('Mau B1.8'!F27:F28) -> 0 | L19: =SUM(D19:K19) -> 250.9
A20: 10 | B20: =IF('Mau A1'!B191="","",'Mau A1'!B191) -> Lê Tiến | C20: =IF('Mau A1'!C191="","",'Mau A1'!C191) -> Đạt | D20: ='Mau B1.1'!I20 -> 16 | E20: ='Mau B1.2'!I20 -> 0 | F20: ='Mau B1.3.1'!AZ20+SUM('Mau B1.3.2'!P101:P110) -> 80 | G20: ='Mau B1.4'!I20 -> 0 | H20: ='Mau B1.5'!H20 -> 16 | I20: =SUM('Mau B1. 6'!H65:H70) -> 0 | J20: ='Mau B1.7'!E20 -> 113.9 | K20: =SUM('Mau B1.8'!F29:F30) -> 0 | L20: =SUM(D20:K20) -> 225.9
A21: 11 | B21: =IF('Mau A1'!B211="","",'Mau A1'!B211) -> Nguyễn Hồng | C21: =IF('Mau A1'!C211="","",'Mau A1'!C211) -> Đức | D21: ='Mau B1.1'!I21 -> 20 | E21: ='Mau B1.2'!I21 -> 0 | F21: ='Mau B1.3.1'!AZ21+SUM('Mau B1.3.2'!P111:P120) -> 76 | G21: ='Mau B1.4'!I21 -> 0 | H21: ='Mau B1.5'!H21 -> 32 | I21: =SUM('Mau B1. 6'!H71:H76) -> 0 | J21: ='Mau B1.7'!E21 -> 60.5 | K21: =SUM('Mau B1.8'!F31:F32) -> 0 | L21: =SUM(D21:K21) -> 188.5
A22: 12 | B22: =IF('Mau A1'!B231="","",'Mau A1'!B231) -> Nguyễn Minh | C22: =IF('Mau A1'!C231="","",'Mau A1'!C231) -> Đức (A) | D22: ='Mau B1.1'!I22 -> 16 | E22: ='Mau B1.2'!I22 -> 0 | F22: ='Mau B1.3.1'!AZ22+SUM('Mau B1.3.2'!P121:P130) -> 108 | G22: ='Mau B1.4'!I22 -> 0 | H22: ='Mau B1.5'!H22 -> 16 | I22: =SUM('Mau B1. 6'!H77:H82) -> 20 | J22: ='Mau B1.7'!E22 -> 96.3 | K22: =SUM('Mau B1.8'!F33:F34) -> 4 | L22: =SUM(D22:K22) -> 260.3
A23: 13 | B23: =IF('Mau A1'!B251="","",'Mau A1'!B251) -> Nguyễn Minh | C23: =IF('Mau A1'!C251="","",'Mau A1'!C251) -> Đức (B) | D23: ='Mau B1.1'!I23 -> 12 | E23: ='Mau B1.2'!I23 -> 0 | F23: ='Mau B1.3.1'!AZ23+SUM('Mau B1.3.2'!P131:P140) -> 80 | G23: ='Mau B1.4'!I23 -> 0 | H23: ='Mau B1.5'!H23 -> 16 | I23: =SUM('Mau B1. 6'!H83:H88) -> 0 | J23: ='Mau B1.7'!E23 -> 110.1 | K23: =SUM('Mau B1.8'!F35:F36) -> 0 | L23: =SUM(D23:K23) -> 218.1
A24: 14 | B24: =IF('Mau A1'!B271="","",'Mau A1'!B271) -> Nguyễn Thị Ngọc | C24: =IF('Mau A1'!C271="","",'Mau A1'!C271) -> Hiền | D24: ='Mau B1.1'!I24 -> 12 | E24: ='Mau B1.2'!I24 -> 0 | F24: ='Mau B1.3.1'!AZ24+SUM('Mau B1.3.2'!P141:P150) -> 80 | G24: ='Mau B1.4'!I24 -> 0 | H24: ='Mau B1.5'!H24 -> 0 | I24: =SUM('Mau B1. 6'!H89:H94) -> 0 | J24: ='Mau B1.7'!E24 -> 60.2 | K24: =SUM('Mau B1.8'!F37:F38) -> 0 | L24: =SUM(D24:K24) -> 152.2
A25: 15 | B25: =IF('Mau A1'!B291="","",'Mau A1'!B291) -> Trần Trung | C25: =IF('Mau A1'!C291="","",'Mau A1'!C291) -> Hiếu | D25: ='Mau B1.1'!I25 -> 16 | E25: ='Mau B1.2'!I25 -> 0 | F25: ='Mau B1.3.1'!AZ25+SUM('Mau B1.3.2'!P151:P160) -> 84 | G25: ='Mau B1.4'!I25 -> 0 | H25: ='Mau B1.5'!H25 -> 40 | I25: =SUM('Mau B1. 6'!H95:H100) -> 0 | J25: ='Mau B1.7'!E25 -> 73.9 | K25: =SUM('Mau B1.8'!F39:F40) -> 0 | L25: =SUM(D25:K25) -> 213.9
A26: 16 | B26: =IF('Mau A1'!B311="","",'Mau A1'!B311) -> Mạnh Lê | C26: =IF('Mau A1'!C311="","",'Mau A1'!C311) -> Hoàn | D26: ='Mau B1.1'!I26 -> 12 | E26: ='Mau B1.2'!I26 -> 0 | F26: ='Mau B1.3.1'!AZ26+SUM('Mau B1.3.2'!P161:P170) -> 76 | G26: ='Mau B1.4'!I26 -> 0 | H26: ='Mau B1.5'!H26 -> 0 | I26: =SUM('Mau B1. 6'!H101:H106) -> 0 | J26: ='Mau B1.7'!E26 -> 115.2 | K26: =SUM('Mau B1.8'!F41:F42) -> 0 | L26: =SUM(D26:K26) -> 203.2
A27: 17 | B27: =IF('Mau A1'!B331="","",'Mau A1'!B331) -> Lê Thế | C27: =IF('Mau A1'!C331="","",'Mau A1'!C331) -> Huân | D27: ='Mau B1.1'!I27 -> 20 | E27: ='Mau B1.2'!I27 -> 0 | F27: ='Mau B1.3.1'!AZ27+SUM('Mau B1.3.2'!P171:P180) -> 84 | G27: ='Mau B1.4'!I27 -> 0 | H27: ='Mau B1.5'!H27 -> 40 | I27: =SUM('Mau B1. 6'!H107:H112) -> 0 | J27: ='Mau B1.7'!E27 -> 117.8 | K27: =SUM('Mau B1.8'!F43:F44) -> 0 | L27: =SUM(D27:K27) -> 261.8
A28: 18 | B28: =IF('Mau A1'!B351="","",'Mau A1'!B351) -> Nguyễn Trọng | C28: =IF('Mau A1'!C351="","",'Mau A1'!C351) -> Huân | D28: ='Mau B1.1'!I28 -> 12 | E28: ='Mau B1.2'!I28 -> 0 | F28: ='Mau B1.3.1'!AZ28+SUM('Mau B1.3.2'!P181:P190) -> 80 | G28: ='Mau B1.4'!I28 -> 0 | H28: ='Mau B1.5'!H28 -> 24 | I28: =SUM('Mau B1. 6'!H113:H118) -> 0 | J28: ='Mau B1.7'!E28 -> 135.7 | K28: =SUM('Mau B1.8'!F45:F46) -> 0 | L28: =SUM(D28:K28) -> 251.7
A29: 19 | B29: =IF('Mau A1'!B371="","",'Mau A1'!B371) -> Tăng Cẩm | C29: =IF('Mau A1'!C371="","",'Mau A1'!C371) -> Huê | D29: ='Mau B1.1'!I29 -> 20 | E29: ='Mau B1.2'!I29 -> 0 | F29: ='Mau B1.3.1'!AZ29+SUM('Mau B1.3.2'!P191:P200) -> 76 | G29: ='Mau B1.4'!I29 -> 0 | H29: ='Mau B1.5'!H29 -> 24 | I29: =SUM('Mau B1. 6'!H119:H124) -> 0 | J29: ='Mau B1.7'!E29 -> 112 | K29: =SUM('Mau B1.8'!F47:F48) -> 0 | L29: =SUM(D29:K29) -> 232
A30: 20 | B30: =IF('Mau A1'!B391="","",'Mau A1'!B391) -> Trần Thị | C30: =IF('Mau A1'!C391="","",'Mau A1'!C391) -> Lệ | D30: ='Mau B1.1'!I30 -> 12 | E30: ='Mau B1.2'!I30 -> 0 | F30: ='Mau B1.3.1'!AZ30+SUM('Mau B1.3.2'!P201:P210) -> 52 | G30: ='Mau B1.4'!I30 -> 0 | H30: ='Mau B1.5'!H30 -> 16 | I30: =SUM('Mau B1. 6'!H125:H130) -> 0 | J30: ='Mau B1.7'!E30 -> 116.8 | K30: =SUM('Mau B1.8'!F49:F50) -> 0 | L30: =SUM(D30:K30) -> 196.8
A31: 21 | B31: =IF('Mau A1'!B411="","",'Mau A1'!B411) -> Nguyễn Huỳnh | C31: =IF('Mau A1'!C411="","",'Mau A1'!C411) -> Liên | D31: ='Mau B1.1'!I31 -> 8 | E31: ='Mau B1.2'!I31 -> 0 | F31: ='Mau B1.3.1'!AZ31+SUM('Mau B1.3.2'!P211:P220) -> 88 | G31: ='Mau B1.4'!I31 -> 0 | H31: ='Mau B1.5'!H31 -> 48 | I31: =SUM('Mau B1. 6'!H131:H136) -> 0 | J31: ='Mau B1.7'!E31 -> 201.3 | K31: =SUM('Mau B1.8'!F51:F52) -> 4 | L31: =SUM(D31:K31) -> 349.3
A32: 22 | B32: =IF('Mau A1'!B431="","",'Mau A1'!B431) -> Nguyễn Thùy | C32: =IF('Mau A1'!C431="","",'Mau A1'!C431) -> Linh | D32: ='Mau B1.1'!I32 -> 20 | E32: ='Mau B1.2'!I32 -> 0 | F32: ='Mau B1.3.1'!AZ32+SUM('Mau B1.3.2'!P221:P230) -> 88 | G32: ='Mau B1.4'!I32 -> 0 | H32: ='Mau B1.5'!H32 -> 16 | I32: =SUM('Mau B1. 6'!H137:H142) -> 0 | J32: ='Mau B1.7'!E32 -> 159 | K32: =SUM('Mau B1.8'!F53:F54) -> 0 | L32: =SUM(D32:K32) -> 283
A33: 23 | B33: =IF('Mau A1'!B451="","",'Mau A1'!B451) -> Huỳnh Ngọc | C33: =IF('Mau A1'!C451="","",'Mau A1'!C451) -> Mai | D33: ='Mau B1.1'!I33 -> 16 | E33: ='Mau B1.2'!I33 -> 0 | F33: ='Mau B1.3.1'!AZ33+SUM('Mau B1.3.2'!P231:P240) -> 104 | G33: ='Mau B1.4'!I33 -> 0 | H33: ='Mau B1.5'!H33 -> 16 | I33: =SUM('Mau B1. 6'!H143:H148) -> 0 | J33: ='Mau B1.7'!E33 -> 111 | K33: =SUM('Mau B1.8'!F55:F56) -> 4 | L33: =SUM(D33:K33) -> 251
A34: 24 | B34: =IF('Mau A1'!B471="","",'Mau A1'!B471) -> Đặng Đức | C34: =IF('Mau A1'!C471="","",'Mau A1'!C471) -> Minh | D34: ='Mau B1.1'!I34 -> 16 | E34: ='Mau B1.2'!I34 -> 0 | F34: ='Mau B1.3.1'!AZ34+SUM('Mau B1.3.2'!P241:P250) -> 84 | G34: ='Mau B1.4'!I34 -> 0 | H34: ='Mau B1.5'!H34 -> 40 | I34: =SUM('Mau B1. 6'!H149:H154) -> 0 | J34: ='Mau B1.7'!E34 -> 147.5 | K34: =SUM('Mau B1.8'!F57:F58) -> 0 | L34: =SUM(D34:K34) -> 287.5
A35: 25 | B35: =IF('Mau A1'!B491="","",'Mau A1'!B491) -> Nguyễn Thị Tố | C35: =IF('Mau A1'!C491="","",'Mau A1'!C491) -> Nga | D35: ='Mau B1.1'!I35 -> 12 | E35: ='Mau B1.2'!I35 -> 0 | F35: ='Mau B1.3.1'!AZ35+SUM('Mau B1.3.2'!P251:P260) -> 80 | G35: ='Mau B1.4'!I35 -> 0 | H35: ='Mau B1.5'!H35 -> 24 | I35: =SUM('Mau B1. 6'!H155:H160) -> 0 | J35: ='Mau B1.7'!E35 -> 159 | K35: =SUM('Mau B1.8'!F59:F60) -> 0 | L35: =SUM(D35:K35) -> 275
A36: 26 | B36: =IF('Mau A1'!B511="","",'Mau A1'!B511) -> Nguyễn Trần Thanh | C36: =IF('Mau A1'!C511="","",'Mau A1'!C511) -> Nhàn | D36: ='Mau B1.1'!I36 -> 20 | E36: ='Mau B1.2'!I36 -> 0 | F36: ='Mau B1.3.1'!AZ36+SUM('Mau B1.3.2'!P261:P270) -> 76 | G36: ='Mau B1.4'!I36 -> 0 | H36: ='Mau B1.5'!H36 -> 8 | I36: =SUM('Mau B1. 6'!H161:H166) -> 0 | J36: ='Mau B1.7'!E36 -> 206.1 | K36: =SUM('Mau B1.8'!F61:F62) -> 0 | L36: =SUM(D36:K36) -> 310.1
A37: 27 | B37: =IF('Mau A1'!B531="","",'Mau A1'!B531) -> Đỗ Huỳnh Thanh | C37: =IF('Mau A1'!C531="","",'Mau A1'!C531) -> Phong | D37: ='Mau B1.1'!I37 -> 20 | E37: ='Mau B1.2'!I37 -> 0 | F37: ='Mau B1.3.1'!AZ37+SUM('Mau B1.3.2'!P271:P280) -> 76 | G37: ='Mau B1.4'!I37 -> 0 | H37: ='Mau B1.5'!H37 -> 16 | I37: =SUM('Mau B1. 6'!H167:H172) -> 0 | J37: ='Mau B1.7'!E37 -> 155.5 | K37: =SUM('Mau B1.8'!F63:F64) -> 0 | L37: =SUM(D37:K37) -> 267.5
A38: 28 | B38: =IF('Mau A1'!B551="","",'Mau A1'!B551) -> Nguyễn Anh | C38: =IF('Mau A1'!C551="","",'Mau A1'!C551) -> Tăng | D38: ='Mau B1.1'!I38 -> 12 | E38: ='Mau B1.2'!I38 -> 0 | F38: ='Mau B1.3.1'!AZ38+SUM('Mau B1.3.2'!P281:P290) -> 104 | G38: ='Mau B1.4'!I38 -> 0 | H38: ='Mau B1.5'!H38 -> 16 | I38: =SUM('Mau B1. 6'!H173:H178) -> 24 | J38: ='Mau B1.7'!E38 -> 180.5 | K38: =SUM('Mau B1.8'!F65:F66) -> 4 | L38: =SUM(D38:K38) -> 340.5
A39: 29 | B39: =IF('Mau A1'!B571="","",'Mau A1'!B571) -> Quách Minh | C39: =IF('Mau A1'!C571="","",'Mau A1'!C571) -> Thử | D39: ='Mau B1.1'!I39 -> 16 | E39: ='Mau B1.2'!I39 -> 0 | F39: ='Mau B1.3.1'!AZ39+SUM('Mau B1.3.2'!P291:P300) -> 112 | G39: ='Mau B1.4'!I39 -> 0 | H39: ='Mau B1.5'!H39 -> 48 | I39: =SUM('Mau B1. 6'!H179:H184) -> 24 | J39: ='Mau B1.7'!E39 -> 168 | K39: =SUM('Mau B1.8'!F67:F68) -> 4 | L39: =SUM(D39:K39) -> 372
A40: 30 | B40: =IF('Mau A1'!B591="","",'Mau A1'!B591) -> Trần Công | C40: =IF('Mau A1'!C591="","",'Mau A1'!C591) -> Tiến | D40: ='Mau B1.1'!I40 -> 20 | E40: ='Mau B1.2'!I40 -> 0 | F40: ='Mau B1.3.1'!AZ40+SUM('Mau B1.3.2'!P301:P310) -> 96 | G40: ='Mau B1.4'!I40 -> 0 | H40: ='Mau B1.5'!H40 -> 8 | I40: =SUM('Mau B1. 6'!H185:H190) -> 0 | J40: ='Mau B1.7'!E40 -> 214.7 | K40: =SUM('Mau B1.8'!F69:F70) -> 0 | L40: =SUM(D40:K40) -> 338.7
A41: 31 | B41: =IF('Mau A1'!B611="","",'Mau A1'!B611) -> Bốc Minh | C41: =IF('Mau A1'!C611="","",'Mau A1'!C611) -> Trí | D41: ='Mau B1.1'!I41 -> 12 | E41: ='Mau B1.2'!I41 -> 0 | F41: ='Mau B1.3.1'!AZ41+SUM('Mau B1.3.2'!P311:P320) -> 84 | G41: ='Mau B1.4'!I41 -> 0 | H41: ='Mau B1.5'!H41 -> 32 | I41: =SUM('Mau B1. 6'!H191:H196) -> 0 | J41: ='Mau B1.7'!E41 -> 180.8 | K41: =SUM('Mau B1.8'!F71:F72) -> 4 | L41: =SUM(D41:K41) -> 312.8
A42: 32 | B42: =IF('Mau A1'!B631="","",'Mau A1'!B631) -> Nguyễn Trọng | C42: =IF('Mau A1'!C631="","",'Mau A1'!C631) -> Trí | D42: ='Mau B1.1'!I42 -> 16 | E42: ='Mau B1.2'!I42 -> 0 | F42: ='Mau B1.3.1'!AZ42+SUM('Mau B1.3.2'!P321:P330) -> 104 | G42: ='Mau B1.4'!I42 -> 0 | H42: ='Mau B1.5'!H42 -> 24 | I42: =SUM('Mau B1. 6'!H197:H202) -> 20 | J42: ='Mau B1.7'!E42 -> 193.9 | K42: =SUM('Mau B1.8'!F73:F74) -> 0 | L42: =SUM(D42:K42) -> 357.9
A43: 33 | B43: =IF('Mau A1'!B651="","",'Mau A1'!B651) -> Trần Hiếu | C43: =IF('Mau A1'!C651="","",'Mau A1'!C651) -> Trinh | D43: ='Mau B1.1'!I43 -> 16 | E43: ='Mau B1.2'!I43 -> 0 | F43: ='Mau B1.3.1'!AZ43+SUM('Mau B1.3.2'!P331:P340) -> 52 | G43: ='Mau B1.4'!I43 -> 0 | H43: ='Mau B1.5'!H43 -> 24 | I43: =SUM('Mau B1. 6'!H203:H208) -> 0 | J43: ='Mau B1.7'!E43 -> 171.2 | K43: =SUM('Mau B1.8'!F75:F76) -> 0 | L43: =SUM(D43:K43) -> 263.2
A44: 34 | B44: =IF('Mau A1'!B671="","",'Mau A1'!B671) -> Nguyễn Văn | C44: =IF('Mau A1'!C671="","",'Mau A1'!C671) -> Yên | D44: ='Mau B1.1'!I44 -> 12 | E44: ='Mau B1.2'!I44 -> 0 | F44: ='Mau B1.3.1'!AZ44+SUM('Mau B1.3.2'!P341:P350) -> 80 | G44: ='Mau B1.4'!I44 -> 0 | H44: ='Mau B1.5'!H44 -> 16 | I44: =SUM('Mau B1. 6'!H209:H214) -> 0 | J44: ='Mau B1.7'!E44 -> 122.6 | K44: =SUM('Mau B1.8'!F77:F78) -> 0 | L44: =SUM(D44:K44) -> 230.6
A45: 35 | B45: =IF('Mau A1'!B691="","",'Mau A1'!B691) -> Lương Xuân | C45: =IF('Mau A1'!C691="","",'Mau A1'!C691) -> Chỉnh | D45: ='Mau B1.1'!I45 -> 0 | E45: ='Mau B1.2'!I45 -> 0 | F45: ='Mau B1.3.1'!AZ45+SUM('Mau B1.3.2'!P351:P360) -> 0 | G45: ='Mau B1.4'!I45 -> 0 | H45: ='Mau B1.5'!H45 -> 0 | I45: =SUM('Mau B1. 6'!H215:H220) -> 0 | J45: ='Mau B1.7'!E45 -> 11.8 | K45: =SUM('Mau B1.8'!F79:F80) -> 0 | L45: =SUM(D45:K45) -> 11.8
A46: 36 | B46: =IF('Mau A1'!B711="","",'Mau A1'!B711) -> Phạm Minh | C46: =IF('Mau A1'!C711="","",'Mau A1'!C711) -> Nghĩa | D46: ='Mau B1.1'!I46 -> 0 | E46: ='Mau B1.2'!I46 -> 0 | F46: ='Mau B1.3.1'!AZ46+SUM('Mau B1.3.2'!P361:P370) -> 0 | G46: ='Mau B1.4'!I46 -> 0 | H46: ='Mau B1.5'!H46 -> 0 | I46: =SUM('Mau B1. 6'!H221:H226) -> 0 | J46: ='Mau B1.7'!E46 -> 108.8 | K46: =SUM('Mau B1.8'!F81:F82) -> 0 | L46: =SUM(D46:K46) -> 108.8
A47: 37 | B47: =IF('Mau A1'!B731="","",'Mau A1'!B731) -> Lê Hồng | C47: =IF('Mau A1'!C731="","",'Mau A1'!C731) -> Vân | D47: ='Mau B1.1'!I47 -> 0 | E47: ='Mau B1.2'!I47 -> 0 | F47: ='Mau B1.3.1'!AZ47+SUM('Mau B1.3.2'!P371:P380) -> 0 | G47: ='Mau B1.4'!I47 -> 0 | H47: ='Mau B1.5'!H47 -> 0 | I47: =SUM('Mau B1. 6'!H227:H232) -> 0 | J47: ='Mau B1.7'!E47 -> 35.2 | K47: =SUM('Mau B1.8'!F83:F84) -> 0 | L47: =SUM(D47:K47) -> 35.2
A48: 38 | B48: =IF('Mau A1'!B751="","",'Mau A1'!B751) -> Phan Đức | C48: =IF('Mau A1'!C751="","",'Mau A1'!C751) -> Long | D48: ='Mau B1.1'!I48 -> 0 | E48: ='Mau B1.2'!I48 -> 0 | F48: ='Mau B1.3.1'!AZ48+SUM('Mau B1.3.2'!P381:P390) -> 0 | G48: ='Mau B1.4'!I48 -> 0 | H48: ='Mau B1.5'!H48 -> 8 | I48: =SUM('Mau B1. 6'!H233:H238) -> 0 | J48: ='Mau B1.7'!E48 -> 45.8 | K48: =SUM('Mau B1.8'!F85:F86) -> 0 | L48: =SUM(D48:K48) -> 53.8
A49: 39 | B49: =IF('Mau A1'!B771="","",'Mau A1'!B771) | C49: =IF('Mau A1'!C771="","",'Mau A1'!C771) | D49: ='Mau B1.1'!I49 -> 0 | E49: ='Mau B1.2'!I49 -> 0 | F49: ='Mau B1.3.1'!AZ49+SUM('Mau B1.3.2'!P391:P400) -> 0 | G49: ='Mau B1.4'!I49 -> 0 | H49: ='Mau B1.5'!H49 -> 0 | I49: =SUM('Mau B1. 6'!H239:H244) -> 0 | J49: ='Mau B1.7'!E49 -> 0 | K49: =SUM('Mau B1.8'!F87:F88) -> 0 | L49: =SUM(D49:K49) -> 0
A50: 40 | B50: =IF('Mau A1'!B791="","",'Mau A1'!B791) | C50: =IF('Mau A1'!C791="","",'Mau A1'!C791) | D50: ='Mau B1.1'!I50 -> 0 | E50: ='Mau B1.2'!I50 -> 0 | F50: ='Mau B1.3.1'!AZ50+SUM('Mau B1.3.2'!P401:P410) -> 0 | G50: ='Mau B1.4'!I50 -> 0 | H50: ='Mau B1.5'!H50 -> 0 | I50: =SUM('Mau B1. 6'!H245:H250) -> 0 | J50: ='Mau B1.7'!E50 -> 0 | K50: =SUM('Mau B1.8'!F89:F90) -> 0 | L50: =SUM(D50:K50) -> 0
A51: 41 | B51: =IF('Mau A1'!B811="","",'Mau A1'!B811) | C51: =IF('Mau A1'!C811="","",'Mau A1'!C811) | D51: ='Mau B1.1'!I51 -> 0 | E51: ='Mau B1.2'!I51 -> 0 | F51: ='Mau B1.3.1'!AZ51+SUM('Mau B1.3.2'!P411:P420) -> 0 | G51: ='Mau B1.4'!I51 -> 0 | H51: ='Mau B1.5'!H51 -> 0 | I51: =SUM('Mau B1. 6'!H251:H256) -> 0 | J51: ='Mau B1.7'!E51 -> 0 | K51: =SUM('Mau B1.8'!F91:F92) -> 0 | L51: =SUM(D51:K51) -> 0
A52: TỔNG CỘNG | D52: =SUM(D11:D51) -> 536 | E52: =SUM(E11:E51) -> 0 | F52: =SUM(F11:F51) -> 2792 | G52: =SUM(G11:G51) -> 0 | H52: =SUM(H11:H51) -> 800 | I52: =SUM(I11:I51) -> 128 | J52: =SUM(J11:J51) -> 4681.2 | K52: =SUM(K11:K51) -> 32 | L52: =SUM(L11:L51) -> 8969.2
A54: Cột (3): Chuyển số liệu từ bảng B1.1 | D54: Cột (4): Chuyển số liệu từ bảng B1.2 | H54: Cột (5): Chuyển số liệu từ bảng B1.3.1 và B1.3.2
A55: Cột (6): Chuyển số liệu từ bảng B1.4 | D55: Cột (7): Chuyển số liệu từ bảng B1.5 | H55: Cột (8): Chuyển số liệu từ bảng B1.6
A56: Cột (9): Chuyển số liệu từ bảng B1.7 | D56: Cột (10): Chuyển số liệu từ bảng B1.8
L57: Tp. HCM, ngày tháng năm 2015
B58: TRƯỞNG PHÒNG TS-ĐT-GTVL | G58: TRƯỞNG PHÒNG KT&ĐBCL | L58: TRƯỞNG KHOA
