Workbook

Sheet Hướng dẫn
A1: HƯỚNG DẪN CHUNG CHO BỘ BIỂU MẪU TÍNH KHỐI LƯỢNG GIẢNG VIÊN
A2: I. YÊU CẦU BẮT BUỘC
A3: - Các dữ liệu của bộ biểu mẫu phải được ghép lại thành 1 file excel duy nhất, trong đó từng sheet là một mẫu tính khác nhau.
A4: - Trong các bảng tổng hợp mẫu A1,2 & các mẫu B: thứ tự tên GV giữa các bảng phải giống nhau.
A5: II. BỘ MẪU A
A6: + Mẫu A1: Bảng tính khối lượng công việc của Giảng viên trong năm học.
A7: Từ Bảng tính khối lượng công việc của Giảng viên trong năm học 2014-2015 Phòng TS-ĐT-GTVL đã gửi mẫu cho các khoa: Coppy dữ liệu khoa đã có sẳn dán vào các cột (2), (3), (4), (5), (6), (7), (8), (9), (11), (12), (14), (16), (17), (18) và cột (22) nếu có
A8: - Cột (8), (9): Hệ số = Hệ số thứ nhất x Hệ số thứ hai x Hệ số thứ ..., không kể hệ số quy đổi TH sang tiết chuẩn.
A9: - Không nhập số liệu ở Cột (10), (13), (15), (19), (20), (21) và Cột (23). Vì đây là cột công thức đã được cài sẵn.
A10: - Các cột được tô màu: Điền đầy đủ thông tin (bắt buộc). Phải ẩn (Hide) trước khi in.
A11: + Mẫu A2: Bảng tổng kết khối lượng công việc của Giảng viên trong năm học
A12: - Không nhập số liệu: Các cột đã được cài công thức chuyển dữ liệu từ mẫu A1 sang.
... A33: LƯU Ý: Trong quá trình thao tác trên các biểu mẫu, nếu có thắc mắc xin liên hệ qua địa chỉ egov hoặc Phòng TS-Đào tạo-GTVL (gặp Cô Thơ).

Sheet Mau A1
AB1: Mẫu A1
A2: UBND THÀNH PHỐ HỒ CHÍ MINH | V2: CỘNG HÒA XÃ HỘI CHỦ NGHĨA VIỆT NAM
A3: TRƯỜNG CAO ĐẲNG KỸ THUẬT LÝ TỰ TRỌNG TP. HỒ CHÍ MINH | V3: Độc lập - Tự do - Hạnh phúc
A4: BẢNG TÍNH KHỐI LƯỢNG CÔNG VIỆC CỦA GIẢNG VIÊN TRONG NĂM HỌC 2014 - 2015
A5: KHOA : CÔNG NGHỆ ĐIỆN - ĐIỆN TỬ
A7: TT | B7: Họ và Tên | D7: Môn dạy | E7: lớp dạy | F7: Học kỳ | G7: Thực hiện trong năm học | S7: Số tiết chuẩn giảng dạy cả năm | T7: Số tiết chuẩn giảng dạy cả năm còn lại | U7: Số giờ chuẩn NCKH cả năm | V7: Số giờ chuẩn NCKH còn lại | W7: Số giờ chuẩn "Hoạt động chuyên môn và khối lượng khác" | X7: Số giờ chuẩn "Hoạt động chuyên môn và khối lượng khác" còn lại | Y7: Số tiết thừa, thiếu giảng dạy | Z7: Số tiết thừa, thiếu NCKH | AA7: Số tiết thừa, thiếu "Hoạt động chuyên môn và khối lượng khác" | AB7: Số tiết thừa năm học 2013-2014 | AC7: Tổng số tiết thừa, thiếu năm học 2014-2015
G8: Chưa nhân hệ số | I8: Sĩ số | K8: Hệ số | M8: Số tiết quy đổi và đã nhân hệ số | N8: Kiêm nhiệm | O8: Khối lượng công tác cộng thêm | P8: Tổng tiết thực hiện | Q8: Số giờ NCKH | R8: Số giờ "Hoạt động chuyên môn và khối lượng khác"
G9: LT | H9: TH | I9: Chính thức | J9: Học lại | K9: LT | L9: TH
A10: (1) | B10: (2) | D10: (3) | E10: (4) | F10: (5) | G10: (6) | H10: (7) | K10: (8) | L10: (9) | M10: (10) | N10: (11) | O10: (12) | P10: (13) | Q10: (14) | R10: (15) | T10: (16) | V10: (17) | X10: (18) | Y10: (19) | Z10: (20) | AA10: (21) | AB10: (22) | AC10: (23)
A11: 1 | B11: ='[1]danh sach'!B11 -> Hồ Thị | C11: ='[1]danh sach'!C11 -> Anh | D11: ĐL&MĐ | E11: 14CĐ.Đ2 | F11: 1 | G11: 75 | I11: 56 | K11: =IF(G11=0,"",IF(AND(OR(LEFT(E11,4)="13CĐ",LEFT(E11,4)="14CĐ"),(I11+J11)>70),1.2*1.1,IF(AND(OR(LEFT(E11,4)="13CĐ",LEFT(E11,4)="14CĐ"),(I11+J11)>=60),1.1*1.1,IF(OR(LEFT(E11,4)="13CĐ",LEFT(E11,4)="14CĐ"),1.1,IF((I11+J11)>70,1.2,IF((I11+J11)>=60,1.1,1)))))) -> 1.1 | L11: =IF(H11=0,"",IF(AND(OR(LEFT(E11,4)="13CĐ",LEFT(E11,4)="14CĐ"),(I11+J11)>35),1.2*1.1,IF(AND(OR(LEFT(E11,4)="13CĐ",LEFT(E11,4)="14CĐ"),(I11+J11)>=30),1.1*1.1,IF(OR(LEFT(E11,4)="13CĐ",LEFT(E11,4)="14CĐ"),1.1,IF((I11+J11)>35,1.2,IF((I11+J11)>=30,1.1,1)))))) | M11: =ROUND(IF(G11>0,G11*K11,"0")+IF(H11>0,(H11/1.5)*L11,"0"),1) -> 82.5 | N11: ='[2]danh sach'!O11 -> 46.5 | P11: =SUM(M11:M30)+N11+O11 -> 376.1 | Q11: 680 | R11: ='Mau B2'!L11 -> 248 | S11: ='[2]danh sach'!J11 -> 310 | T11: ='[3]danh sach'!R10 -> 263.5 | U11: 500 | V11: =U11 -> 500 | W11: 360 | X11: =W11 -> 360 | Y11: =ROUND((P11-T11),1) -> 112.6 | Z11: =IF(OR(SUM(V11:V30)="",SUM(Q11:Q30)=""),0,ROUND(IF(SUM(U11:U30)=500,(SUM(Q11:Q30)-SUM(V11:V30))/3.2,IF(SUM(U11:U30)=600,(SUM(Q11:Q30)-SUM(V11:V30))/2.8,0)),1)) -> 56.3 | AA11: =IF(OR(SUM(X11:X30)="",SUM(R11:R30)=""),0,ROUND(IF(SUM(W11:W30)=360,(SUM(R11:R30)-SUM(X11:X30))/3.2,IF(SUM(W11:W30)=260,(SUM(R11:R30)-SUM(X11:X30))/2.8,0)),1)) -> -35 | AB11: 36.4 | AC11: =SUM(Y11:AA30) -> 133.9 | AD11: ĐCN
D12: ĐL&MĐ | E12: 14CĐ.ĐT1 | F12: 1 | G12: 75 | I12: 58 | K12: =IF(G12=0,"",IF(AND(OR(LEFT(E12,4)="13CĐ",LEFT(E12,4)="14CĐ"),(I12+J12)>70),1.2*1.1,IF(AND(OR(LEFT(E12,4)="13CĐ",LEFT(E12,4)="14CĐ"),(I12+J12)>=60),1.1*1.1,IF(OR(LEFT(E12,4)="13CĐ",LEFT(E12,4)="14CĐ"),1.1,IF((I12+J12)>70,1.2,IF((I12+J12)>=60,1.1,1)))))) -> 1.1 | L12: =IF(H12=0,"",IF(AND(OR(LEFT(E12,4)="13CĐ",LEFT(E12,4)="14CĐ"),(I12+J12)>35),1.2*1.1,IF(AND(OR(LEFT(E12,4)="13CĐ",LEFT(E12,4)="14CĐ"),(I12+J12)>=30),1.1*1.1,IF(OR(LEFT(E12,4)="13CĐ",LEFT(E12,4)="14CĐ"),1.1,IF((I12+J12)>35,1.2,IF((I12+J12)>=30,1.1,1)))))) | M12: =ROUND(IF(G12>0,G12*K12,"0")+IF(H12>0,(H12/1.5)*L12,"0"),1) -> 82.5
D13: An toàn điện | E13: 14CĐ.Đ1 | F13: 1 | G13: 30 | I13: 57 | K13: =IF(G13=0,"",IF(AND(OR(LEFT(E13,4)="13CĐ",LEFT(E13,4)="14CĐ"),(I13+J13)>70),1.2*1.1,IF(AND(OR(LEFT(E13,4)="13CĐ",LEFT(E13,4)="14CĐ"),(I13+J13)>=60),1.1*1.1,IF(OR(LEFT(E13,4)="13CĐ",LEFT(E13,4)="14CĐ"),1.1,IF((I13+J13)>70,1.2,IF((I13+J13)>=60,1.1,1)))))) -> 1.1 | L13: =IF(H13=0,"",IF(AND(OR(LEFT(E13,4)="13CĐ",LEFT(E13,4)="14CĐ"),(I13+J13)>35),1.2*1.1,IF(AND(OR(LEFT(E13,4)="13CĐ",LEFT(E13,4)="14CĐ"),(I13+J13)>=30),1.1*1.1,IF(OR(LEFT(E13,4)="13CĐ",LEFT(E13,4)="14CĐ"),1.1,IF((I13+J13)>35,1.2,IF((I13+J13)>=30,1.1,1)))))) | M13: =ROUND(IF(G13>0,G13*K13,"0")+IF(H13>0,(H13/1.5)*L13,"0"),1) -> 33
D14: An toàn điện | E14: 14CĐ.Đ2 | F14: 1 | G14: 30 | I14: 56 | K14: =IF(G14=0,"",IF(AND(OR(LEFT(E14,4)="13CĐ",LEFT(E14,4)="14CĐ"),(I14+J14)>70),1.2*1.1,IF(AND(OR(LEFT(E14,4)="13CĐ",LEFT(E14,4)="14CĐ"),(I14+J14)>=60),1.1*1.1,IF(OR(LEFT(E14,4)="13CĐ",LEFT(E14,4)="14CĐ"),1.1,IF((I14+J14)>70,1.2,IF((I14+J14)>=60,1.1,1)))))) -> 1.1 | L14: =IF(H14=0,"",IF(AND(OR(LEFT(E14,4)="13CĐ",LEFT(E14,4)="14CĐ"),(I14+J14)>35),1.2*1.1,IF(AND(OR(LEFT(E14,4)="13CĐ",LEFT(E14,4)="14CĐ"),(I14+J14)>=30),1.1*1.1,IF(OR(LEFT(E14,4)="13CĐ",LEFT(E14,4)="14CĐ"),1.1,IF((I14+J14)>35,1.2,IF((I14+J14)>=30,1.1,1)))))) | M14: =ROUND(IF(G14>0,G14*K14,"0")+IF(H14>0,(H14/1.5)*L14,"0"),1) -> 33
D15: An toàn điện | E15: 14CĐ.ĐT1 | F15: 1 | G15: 30 | I15: 59 | K15: =IF(G15=0,"",IF(AND(OR(LEFT(E15,4)="13CĐ",LEFT(E15,4)="14CĐ"),(I15+J15)>70),1.2*1.1,IF(AND(OR(LEFT(E15,4)="13CĐ",LEFT(E15,4)="14CĐ"),(I15+J15)>=60),1.1*1.1,IF(OR(LEFT(E15,4)="13CĐ",LEFT(E15,4)="14CĐ"),1.1,IF((I15+J15)>70,1.2,IF((I15+J15)>=60,1.1,1)))))) -> 1.1 | L15: =IF(H15=0,"",IF(AND(OR(LEFT(E15,4)="13CĐ",LEFT(E15,4)="14CĐ"),(I15+J15)>35),1.2*1.1,IF(AND(OR(LEFT(E15,4)="13CĐ",LEFT(E15,4)="14CĐ"),(I15+J15)>=30),1.1*1.1,IF(OR(LEFT(E15,4)="13CĐ",LEFT(E15,4)="14CĐ"),1.1,IF((I15+J15)>35,1.2,IF((I15+J15)>=30,1.1,1)))))) | M15: =ROUND(IF(G15>0,G15*K15,"0")+IF(H15>0,(H15/1.5)*L15,"0"),1) -> 33
D16: LT mạch điện | E16: 14TC.ĐT | F16: 1 | G16: 60 | I16: 18 | K16: =IF(G16=0,"",IF(AND(OR(LEFT(E16,4)="13CĐ",LEFT(E16,4)="14CĐ"),(I16+J16)>70),1.2*1.1,IF(AND(OR(LEFT(E16,4)="13CĐ",LEFT(E16,4)="14CĐ"),(I16+J16)>=60),1.1*1.1,IF(OR(LEFT(E16,4)="13CĐ",LEFT(E16,4)="14CĐ"),1.1,IF((I16+J16)>70,1.2,IF((I16+J16)>=60,1.1,1)))))) -> 1 | L16: =IF(H16=0,"",IF(AND(OR(LEFT(E16,4)="13CĐ",LEFT(E16,4)="14CĐ"),(I16+J16)>35),1.2*1.1,IF(AND(OR(LEFT(E16,4)="13CĐ",LEFT(E16,4)="14CĐ"),(I16+J16)>=30),1.1*1.1,IF(OR(LEFT(E16,4)="13CĐ",LEFT(E16,4)="14CĐ"),1.1,IF((I16+J16)>35,1.2,IF((I16+J16)>=30,1.1,1)))))) | M16: =ROUND(IF(G16>0,G16*K16,"0")+IF(H16>0,(H16/1.5)*L16,"0"),1) -> 60
D17: ĐLĐ & CB (dạy tuần 30) | E17: 14TC.ĐT | F17: 2 | G17: 2 | I17: 13 | K17: =IF(G17=0,"",IF(AND(OR(LEFT(E17,4)="13CĐ",LEFT(E17,4)="14CĐ"),(I17+J17)>70),1.2*1.1,IF(AND(OR(LEFT(E17,4)="13CĐ",LEFT(E17,4)="14CĐ"),(I17+J17)>=60),1.1*1.1,IF(OR(LEFT(E17,4)="13CĐ",LEFT(E17,4)="14CĐ"),1.1,IF((I17+J17)>70,1.2,IF((I17+J17)>=60,1.1,1)))))) -> 1 | L17: =IF(H17=0,"",IF(AND(OR(LEFT(E17,4)="13CĐ",LEFT(E17,4)="14CĐ"),(I17+J17)>35),1.2*1.1,IF(AND(OR(LEFT(E17,4)="13CĐ",LEFT(E17,4)="14CĐ"),(I17+J17)>=30),1.1*1.1,IF(OR(LEFT(E17,4)="13CĐ",LEFT(E17,4)="14CĐ"),1.1,IF((I17+J17)>35,1.2,IF((I17+J17)>=30,1.1,1)))))) | M17: =ROUND(IF(G17>0,G17*K17,"0")+IF(H17>0,(H17/1.5)*L17,"0"),1) -> 2
D18: ĐLĐ & CB (Thay cô Lệ 1b 3t) | E18: 14TC.Đ,ĐT | F18: 2 | G18: 3 | I18: 78 | K18: =IF(G18=0,"",IF(AND(OR(LEFT(E18,4)="13CĐ",LEFT(E18,4)="14CĐ"),(I18+J18)>70),1.2*1.1,IF(AND(OR(LEFT(E18,4)="13CĐ",LEFT(E18,4)="14CĐ"),(I18+J18)>=60),1.1*1.1,IF(OR(LEFT(E18,4)="13CĐ",LEFT(E18,4)="14CĐ"),1.1,IF((I18+J18)>70,1.2,IF((I18+J18)>=60,1.1,1)))))) -> 1.2 | L18: =IF(H18=0,"",IF(AND(OR(LEFT(E18,4)="13CĐ",LEFT(E18,4)="14CĐ"),(I18+J18)>35),1.2*1.1,IF(AND(OR(LEFT(E18,4)="13CĐ",LEFT(E18,4)="14CĐ"),(I18+J18)>=30),1.1*1.1,IF(OR(LEFT(E18,4)="13CĐ",LEFT(E18,4)="14CĐ"),1.1,IF((I18+J18)>35,1.2,IF((I18+J18)>=30,1.1,1)))))) | M18: =ROUND(IF(G18>0,G18*K18,"0")+IF(H18>0,(H18/1.5)*L18,"0"),1) -> 3.6
K19: =IF(G19=0,"",IF(AND(OR(LEFT(E19,4)="13CĐ",LEFT(E19,4)="14CĐ"),(I19+J19)>70),1.2*1.1,IF(AND(OR(LEFT(E19,4)="13CĐ",LEFT(E19,4)="14CĐ"),(I19+J19)>=60),1.1*1.1,IF(OR(LEFT(E19,4)="13CĐ",LEFT(E19,4)="14CĐ"),1.1,IF((I19+J19)>70,1.2,IF((I19+J19)>=60,1.1,1)))))) | L19: =IF(H19=0,"",IF(AND(OR(LEFT(E19,4)="13CĐ",LEFT(E19,4)="14CĐ"),(I19+J19)>35),1.2*1.1,IF(AND(OR(LEFT(E19,4)="13CĐ",LEFT(E19,4)="14CĐ"),(I19+J19)>=30),1.1*1.1,IF(OR(LEFT(E19,4)="13CĐ",LEFT(E19,4)="14CĐ"),1.1,IF((I19+J19)>35,1.2,IF((I19+J19)>=30,1.1,1)))))) | M19: =ROUND(IF(G19>0,G19*K19,"0")+IF(H19>0,(H19/1.5)*L19,"0"),1) -> 0
K20: =IF(G20=0,"",IF(AND(OR(LEFT(E20,4)="13CĐ",LEFT(E20,4)="14CĐ"),(I20+J20)>70),1.2*1.1,IF(AND(OR(LEFT(E20,4)="13CĐ",LEFT(E20,4)="14CĐ"),(I20+J20)>=60),1.1*1.1,IF(OR(LEFT(E20,4)="13CĐ",LEFT(E20,4)="14CĐ"),1.1,IF((I20+J20)>70,1.2,IF((I20+J20)>=60,1.1,1)))))) | L20: =IF(H20=0,"",IF(AND(OR(LEFT(E20,4)="13CĐ",LEFT(E20,4)="14CĐ"),(I20+J20)>35),1.2*1.1,IF(AND(OR(LEFT(E20,4)="13CĐ",LEFT(E20,4)="14CĐ"),(I20+J20)>=30),1.1*1.1,IF(OR(LEFT(E20,4)="13CĐ",LEFT(E20,4)="14CĐ"),1.1,IF((I20+J20)>35,1.2,IF((I20+J20)>=30,1.1,1)))))) | M20: =ROUND(IF(G20>0,G20*K20,"0")+IF(H20>0,(H20/1.5)*L20,"0"),1) -> 0
K21: =IF(G21=0,"",IF(AND(OR(LEFT(E21,4)="13CĐ",LEFT(E21,4)="14CĐ"),(I21+J21)>70),1.2*1.1,IF(AND(OR(LEFT(E21,4)="13CĐ",LEFT(E21,4)="14CĐ"),(I21+J21)>=60),1.1*1.1,IF(OR(LEFT(E21,4)="13CĐ",LEFT(E21,4)="14CĐ"),1.1,IF((I21+J21)>70,1.2,IF((I21+J21)>=60,1.1,1)))))) | L21: =IF(H21=0,"",IF(AND(OR(LEFT(E21,4)="13CĐ",LEFT(E21,4)="14CĐ"),(I21+J21)>35),1.2*1.1,IF(AND(OR(LEFT(E21,4)="13CĐ",LEFT(E21,4)="14CĐ"),(I21+J21)>=30),1.1*1.1,IF(OR(LEFT(E21,4)="13CĐ",LEFT(E21,4)="14CĐ"),1.1,IF((I21+J21)>35,1.2,IF((I21+J21)>=30,1.1,1)))))) | M21: =ROUND(IF(G21>0,G21*K21,"0")+IF(H21>0,(H21/1.5)*L21,"0"),1) -> 0
K22: =IF(G22=0,"",IF(AND(OR(LEFT(E22,4)="13CĐ",LEFT(E22,4)="14CĐ"),(I22+J22)>70),1.2*1.1,IF(AND(OR(LEFT(E22,4)="13CĐ",LEFT(E22,4)="14CĐ"),(I22+J22)>=60),1.1*1.1,IF(OR(LEFT(E22,4)="13CĐ",LEFT(E22,4)="14CĐ"),1.1,IF((I22+J22)>70,1.2,IF((I22+J22)>=60,1.1,1)))))) | L22: =IF(H22=0,"",IF(AND(OR(LEFT(E22,4)="13CĐ",LEFT(E22,4)="14CĐ"),(I22+J22)>35),1.2*1.1,IF(AND(OR(LEFT(E22,4)="13CĐ",LEFT(E22,4)="14CĐ"),(I22+J22)>=30),1.1*1.1,IF(OR(LEFT(E22,4)="13CĐ",LEFT(E22,4)="14CĐ"),1.1,IF((I22+J22)>35,1.2,IF((I22+J22)>=30,1.1,1)))))) | M22: =ROUND(IF(G22>0,G22*K22,"0")+IF(H22>0,(H22/1.5)*L22,"0"),1) -> 0
K23: =IF(G23=0,"",IF(AND(OR(LEFT(E23,4)="13CĐ",LEFT(E23,4)="14CĐ"),(I23+J23)>70),1.2*1.1,IF(AND(OR(LEFT(E23,4)="13CĐ",LEFT(E23,4)="14CĐ"),(I23+J23)>=60),1.1*1.1,IF(OR(LEFT(E23,4)="13CĐ",LEFT(E23,4)="14CĐ"),1.1,IF((I23+J23)>70,1.2,IF((I23+J23)>=60,1.1,1)))))) | L23: =IF(H23=0,"",IF(AND(OR(LEFT(E23,4)="13CĐ",LEFT(E23,4)="14CĐ"),(I23+J23)>35),1.2*1.1,IF(AND(OR(LEFT(E23,4)="13CĐ",LEFT(E23,4)="14CĐ"),(I23+J23)>=30),1.1*1.1,IF(OR(LEFT(E23,4)="13CĐ",LEFT(E23,4)="14CĐ"),1.1,IF((I23+J23)>35,1.2,IF((I23+J23)>=30,1.1,1)))))) | M23: =ROUND(IF(G23>0,G23*K23,"0")+IF(H23>0,(H23/1.5)*L23,"0"),1) -> 0
K24: =IF(G24=0,"",IF(AND(OR(LEFT(E24,4)="13CĐ",LEFT(E24,4)="14CĐ"),(I24+J24)>70),1.2*1.1,IF(AND(OR(LEFT(E24,4)="13CĐ",LEFT(E24,4)="14CĐ"),(I24+J24)>=60),1.1*1.1,IF(OR(LEFT(E24,4)="13CĐ",LEFT(E24,4)="14CĐ"),1.1,IF((I24+J24)>70,1.2,IF((I24+J24)>=60,1.1,1)))))) | L24: =IF(H24=0,"",IF(AND(OR(LEFT(E24,4)="13CĐ",LEFT(E24,4)="14CĐ"),(I24+J24)>35),1.2*1.1,IF(AND(OR(LEFT(E24,4)="13CĐ",LEFT(E24,4)="14CĐ"),(I24+J24)>=30),1.1*1.1,IF(OR(LEFT(E24,4)="13CĐ",LEFT(E24,4)="14CĐ"),1.1,IF((I24+J24)>35,1.2,IF((I24+J24)>=30,1.1,1)))))) | M24: =ROUND(IF(G24>0,G24*K24,"0")+IF(H24>0,(H24/1.5)*L24,"0"),1) -> 0
K25: =IF(G25=0,"",IF(AND(OR(LEFT(E25,4)="13CĐ",LEFT(E25,4)="14CĐ"),(I25+J25)>70),1.2*1.1,IF(AND(OR(LEFT(E25,4)="13CĐ",LEFT(E25,4)="14CĐ"),(I25+J25)>=60),1.1*1.1,IF(OR(LEFT(E25,4)="13CĐ",LEFT(E25,4)="14CĐ"),1.1,IF((I25+J25)>70,1.2,IF((I25+J25)>=60,1.1,1)))))) | L25: =IF(H25=0,"",IF(AND(OR(LEFT(E25,4)="13CĐ",LEFT(E25,4)="14CĐ"),(I25+J25)>35),1.2*1.1,IF(AND(OR(LEFT(E25,4)="13CĐ",LEFT(E25,4)="14CĐ"),(I25+J25)>=30),1.1*1.1,IF(OR(LEFT(E25,4)="13CĐ",LEFT(E25,4)="14CĐ"),1.1,IF((I25+J25)>35,1.2,IF((I25+J25)>=30,1.1,1)))))) | M25: =ROUND(IF(G25>0,G25*K25,"0")+IF(H25>0,(H25/1.5)*L25,"0"),1) -> 0
K26: =IF(G26=0,"",IF(AND(OR(LEFT(E26,4)="13CĐ",LEFT(E26,4)="14CĐ"),(I26+J26)>70),1.2*1.1,IF(AND(OR(LEFT(E26,4)="13CĐ",LEFT(E26,4)="14CĐ"),(I26+J26)>=60),1.1*1.1,IF(OR(LEFT(E26,4)="13CĐ",LEFT(E26,4)="14CĐ"),1.1,IF((I26+J26)>70,1.2,IF((I26+J26)>=60,1.1,1)))))) | L26: =IF(H26=0,"",IF(AND(OR(LEFT(E26,4)="13CĐ",LEFT(E26,4)="14CĐ"),(I26+J26)>35),1.2*1.1,IF(AND(OR(LEFT(E26,4)="13CĐ",LEFT(E26,4)="14CĐ"),(I26+J26)>=30),1.1*1.1,IF(OR(LEFT(E26,4)="13CĐ",LEFT(E26,4)="14CĐ"),1.1,IF((I26+J26)>35,1.2,IF((I26+J26)>=30,1.1,1)))))) | M26: =ROUND(IF(G26>0,G26*K26,"0")+IF(H26>0,(H26/1.5)*L26,"0"),1) -> 0
K27: =IF(G27=0,"",IF(AND(OR(LEFT(E27,4)="13CĐ",LEFT(E27,4)="14CĐ"),(I27+J27)>70),1.2*1.1,IF(AND(OR(LEFT(E27,4)="13CĐ",LEFT(E27,4)="14CĐ"),(I27+J27)>=60),1.1*1.1,IF(OR(LEFT(E27,4)="13CĐ",LEFT(E27,4)="14CĐ"),1.1,IF((I27+J27)>70,1.2,IF((I27+J27)>=60,1.1,1)))))) | L27: =IF(H27=0,"",IF(AND(OR(LEFT(E27,4)="13CĐ",LEFT(E27,4)="14CĐ"),(I27+J27)>35),1.2*1.1,IF(AND(OR(LEFT(E27,4)="13CĐ",LEFT(E27,4)="14CĐ"),(I27+J27)>=30),1.1*1.1,IF(OR(LEFT(E27,4)="13CĐ",LEFT(E27,4)="14CĐ"),1.1,IF((I27+J27)>35,1.2,IF((I27+J27)>=30,1.1,1)))))) | M27: =ROUND(IF(G27>0,G27*K27,"0")+IF(H27>0,(H27/1.5)*L27,"0"),1) -> 0
K28: =IF(G28=0,"",IF(AND(OR(LEFT(E28,4)="13CĐ",LEFT(E28,4)="14CĐ"),(I28+J28)>70),1.2*1.1,IF(AND(OR(LEFT(E28,4)="13CĐ",LEFT(E28,4)="14CĐ"),(I28+J28)>=60),1.1*1.1,IF(OR(LEFT(E28,4)="13CĐ",LEFT(E28,4)="14CĐ"),1.1,IF((I28+J28)>70,1.2,IF((I28+J28)>=60,1.1,1)))))) | L28: =IF(H28=0,"",IF(AND(OR(LEFT(E28,4)="13CĐ",LEFT(E28,4)="14CĐ"),(I28+J28)>35),1.2*1.1,IF(AND(OR(LEFT(E28,4)="13CĐ",LEFT(E28,4)="14CĐ"),(I28+J28)>=30),1.1*1.1,IF(OR(LEFT(E28,4)="13CĐ",LEFT(E28,4)="14CĐ"),1.1,IF((I28+J28)>35,1.2,IF((I28+J28)>=30,1.1,1)))))) | M28: =ROUND(IF(G28>0,G28*K28,"0")+IF(H28>0,(H28/1.5)*L28,"0"),1) -> 0
K29: =IF(G29=0,"",IF(AND(OR(LEFT(E29,4)="13CĐ",LEFT(E29,4)="14CĐ"),(I29+J29)>70),1.2*1.1,IF(AND(OR(LEFT(E29,4)="13CĐ",LEFT(E29,4)="14CĐ"),(I29+J29)>=60),1.1*1.1,IF(OR(LEFT(E29,4)="13CĐ",LEFT(E29,4)="14CĐ"),1.1,IF((I29+J29)>70,1.2,IF((I29+J29)>=60,1.1,1)))))) | L29: =IF(H29=0,"",IF(AND(OR(LEFT(E29,4)="13CĐ",LEFT(E29,4)="14CĐ"),(I29+J29)>35),1.2*1.1,IF(AND(OR(LEFT(E29,4)="13CĐ",LEFT(E29,4)="14CĐ"),(I29+J29)>=30),1.1*1.1,IF(OR(LEFT(E29,4)="13CĐ",LEFT(E29,4)="14CĐ"),1.1,IF((I29+J29)>35,1.2,IF((I29+J29)>=30,1.1,1)))))) | M29: =ROUND(IF(G29>0,G29*K29,"0")+IF(H29>0,(H29/1.5)*L29,"0"),1) -> 0
B30: =SUM(M11:M30) -> 329.6 | K30: =IF(G30=0,"",IF(AND(OR(LEFT(E30,4)="13CĐ",LEFT(E30,4)="14CĐ"),(I30+J30)>70),1.2*1.1,IF(AND(OR(LEFT(E30,4)="13CĐ",LEFT(E30,4)="14CĐ"),(I30+J30)>=60),1.1*1.1,IF(OR(LEFT(E30,4)="13CĐ",LEFT(E30,4)="14CĐ"),1.1,IF((I30+J30)>70,1.2,IF((I30+J30)>=60,1.1,1)))))) | L30: =IF(H30=0,"",IF(AND(OR(LEFT(E30,4)="13CĐ",LEFT(E30,4)="14CĐ"),(I30+J30)>35),1.2*1.1,IF(AND(OR(LEFT(E30,4)="13CĐ",LEFT(E30,4)="14CĐ"),(I30+J30)>=30),1.1*1.1,IF(OR(LEFT(E30,4)="13CĐ",LEFT(E30,4)="14CĐ"),1.1,IF((I30+J30)>35,1.2,IF((I30+J30)>=30,1.1,1)))))) | M30: =ROUND(IF(G30>0,G30*K30,"0")+IF(H30>0,(H30/1.5)*L30,"0"),1) -> 0
A31: 2 | B31: ='[1]danh sach'!B12 -> Ngô Hoàng | C31: ='[1]danh sach'!C12 -> Anh | D31: TT ĐL&MĐ | E31: 13CĐ.Đ4 | F31: 1 | H31: 60 | I31: 40 | K31: =IF(G31=0,"",IF(AND(OR(LEFT(E31,4)="13CĐ",LEFT(E31,4)="14CĐ"),(I31+J31)>70),1.2*1.1,IF(AND(OR(LEFT(E31,4)="13CĐ",LEFT(E31,4)="14CĐ"),(I31+J31)>=60),1.1*1.1,IF(OR(LEFT(E31,4)="13CĐ",LEFT(E31,4)="14CĐ"),1.1,IF((I31+J31)>70,1.2,IF((I31+J31)>=60,1.1,1)))))) | L31: =IF(H31=0,"",IF(AND(OR(LEFT(E31,4)="13CĐ",LEFT(E31,4)="14CĐ"),(I31+J31)>35),1.2*1.1,IF(AND(OR(LEFT(E31,4)="13CĐ",LEFT(E31,4)="14CĐ"),(I31+J31)>=30),1.1*1.1,IF(OR(LEFT(E31,4)="13CĐ",LEFT(E31,4)="14CĐ"),1.1,IF((I31+J31)>35,1.2,IF((I31+J31)>=30,1.1,1)))))) -> 1.32 | M31: =ROUND(IF(G31>0,G31*K31,"0")+IF(H31>0,(H31/1.5)*L31,"0"),1) -> 52.8 | N31: ='[2]danh sach'!O12 -> 58 | P31: =SUM(M31:M50)+N31+O31 -> 498.1 | Q31: 255 | R31: ='Mau B2'!L12 -> 258.4 | S31: ='[2]danh sach'!J12 -> 290 | T31: ='[3]danh sach'!R11 -> 232 | U31: 500 | V31: =U31 -> 500 | W31: 360 | X31: =W31 -> 360 | Y31: =ROUND((P31-T31),1) -> 266.1 | Z31: =IF(OR(SUM(V31:V50)="",SUM(Q31:Q50)=""),0,ROUND(IF(SUM(U31:U50)=500,(SUM(Q31:Q50)-SUM(V31:V50))/3.2,IF(SUM(U31:U50)=600,(SUM(Q31:Q50)-SUM(V31:V50))/2.8,0)),1)) -> -76.6 | AA31: =IF(OR(SUM(X31:X50)="",SUM(R31:R50)=""),0,ROUND(IF(SUM(W31:W50)=360,(SUM(R31:R50)-SUM(X31:X50))/3.2,IF(SUM(W31:W50)=260,(SUM(R31:R50)-SUM(X31:X50))/2.8,0)),1)) -> -31.8 | AB31: 41.8 | AC31: =SUM(Y31:AA50) -> 157.7 | AD31: ĐCN
D32: KCĐ&MĐ | E32: 13CĐ.ĐT1 | F32: 1 | G32: 45 | I32: 33 | K32: =IF(G32=0,"",IF(AND(OR(LEFT(E32,4)="13CĐ",LEFT(E32,4)="14CĐ"),(I32+J32)>70),1.2*1.1,IF(AND(OR(LEFT(E32,4)="13CĐ",LEFT(E32,4)="14CĐ"),(I32+J32)>=60),1.1*1.1,IF(OR(LEFT(E32,4)="13CĐ",LEFT(E32,4)="14CĐ"),1.1,IF((I32+J32)>70,1.2,IF((I32+J32)>=60,1.1,1)))))) -> 1.1 | L32: =IF(H32=0,"",IF(AND(OR(LEFT(E32,4)="13CĐ",LEFT(E32,4)="14CĐ"),(I32+J32)>35),1.2*1.1,IF(AND(OR(LEFT(E32,4)="13CĐ",LEFT(E32,4)="14CĐ"),(I32+J32)>=30),1.1*1.1,IF(OR(LEFT(E32,4)="13CĐ",LEFT(E32,4)="14CĐ"),1.1,IF((I32+J32)>35,1.2,IF((I32+J32)>=30,1.1,1)))))) | M32: =ROUND(IF(G32>0,G32*K32,"0")+IF(H32>0,(H32/1.5)*L32,"0"),1) -> 49.5
D33: KCĐ&MĐ | E33: 13CĐ.ĐT2 | F33: 1 | G33: 45 | I33: 35 | K33: =IF(G33=0,"",IF(AND(OR(LEFT(E33,4)="13CĐ",LEFT(E33,4)="14CĐ"),(I33+J33)>70),1.2*1.1,IF(AND(OR(LEFT(E33,4)="13CĐ",LEFT(E33,4)="14CĐ"),(I33+J33)>=60),1.1*1.1,IF(OR(LEFT(E33,4)="13CĐ",LEFT(E33,4)="14CĐ"),1.1,IF((I33+J33)>70,1.2,IF((I33+J33)>=60,1.1,1)))))) -> 1.1 | L33: =IF(H33=0,"",IF(AND(OR(LEFT(E33,4)="13CĐ",LEFT(E33,4)="14CĐ"),(I33+J33)>35),1.2*1.1,IF(AND(OR(LEFT(E33,4)="13CĐ",LEFT(E33,4)="14CĐ"),(I33+J33)>=30),1.1*1.1,IF(OR(LEFT(E33,4)="13CĐ",LEFT(E33,4)="14CĐ"),1.1,IF((I33+J33)>35,1.2,IF((I33+J33)>=30,1.1,1)))))) | M33: =ROUND(IF(G33>0,G33*K33,"0")+IF(H33>0,(H33/1.5)*L33,"0"),1) -> 49.5
D34: KCĐ&MĐ | E34: 13CĐ.ĐT3 | F34: 1 | G34: 45 | I34: 33 | K34: =IF(G34=0,"",IF(AND(OR(LEFT(E34,4)="13CĐ",LEFT(E34,4)="14CĐ"),(I34+J34)>70),1.2*1.1,IF(AND(OR(LEFT(E34,4)="13CĐ",LEFT(E34,4)="14CĐ"),(I34+J34)>=60),1.1*1.1,IF(OR(LEFT(E34,4)="13CĐ",LEFT(E34,4)="14CĐ"),1.1,IF((I34+J34)>70,1.2,IF((I34+J34)>=60,1.1,1)))))) -> 1.1 | L34: =IF(H34=0,"",IF(AND(OR(LEFT(E34,4)="13CĐ",LEFT(E34,4)="14CĐ"),(I34+J34)>35),1.2*1.1,IF(AND(OR(LEFT(E34,4)="13CĐ",LEFT(E34,4)="14CĐ"),(I34+J34)>=30),1.1*1.1,IF(OR(LEFT(E34,4)="13CĐ",LEFT(E34,4)="14CĐ"),1.1,IF((I34+J34)>35,1.2,IF((I34+J34)>=30,1.1,1)))))) | M34: =ROUND(IF(G34>0,G34*K34,"0")+IF(H34>0,(H34/1.5)*L34,"0"),1) -> 49.5
D35: KCĐ&MĐ | E35: 13CĐ.ĐT4 | F35: 1 | G35: 45 | I35: 27 | K35: =IF(G35=0,"",IF(AND(OR(LEFT(E35,4)="13CĐ",LEFT(E35,4)="14CĐ"),(I35+J35)>70),1.2*1.1,IF(AND(OR(LEFT(E35,4)="13CĐ",LEFT(E35,4)="14CĐ"),(I35+J35)>=60),1.1*1.1,IF(OR(LEFT(E35,4)="13CĐ",LEFT(E35,4)="14CĐ"),1.1,IF((I35+J35)>70,1.2,IF((I35+J35)>=60,1.1,1)))))) -> 1.1 | L35: =IF(H35=0,"",IF(AND(OR(LEFT(E35,4)="13CĐ",LEFT(E35,4)="14CĐ"),(I35+J35)>35),1.2*1.1,IF(AND(OR(LEFT(E35,4)="13CĐ",LEFT(E35,4)="14CĐ"),(I35+J35)>=30),1.1*1.1,IF(OR(LEFT(E35,4)="13CĐ",LEFT(E35,4)="14CĐ"),1.1,IF((I35+J35)>35,1.2,IF((I35+J35)>=30,1.1,1)))))) | M35: =ROUND(IF(G35>0,G35*K35,"0")+IF(H35>0,(H35/1.5)*L35,"0"),1) -> 49.5
D36: KCĐ&MĐ(Thay cô Lệ 1b 2t) | E36: 13CĐ.Đ3 | F36: 1 | G36: 2 | I36: 40 | K36: =IF(G36=0,"",IF(AND(OR(LEFT(E36,4)="13CĐ",LEFT(E36,4)="14CĐ"),(I36+J36)>70),1.2*1.1,IF(AND(OR(LEFT(E36,4)="13CĐ",LEFT(E36,4)="14CĐ"),(I36+J36)>=60),1.1*1.1,IF(OR(LEFT(E36,4)="13CĐ",LEFT(E36,4)="14CĐ"),1.1,IF((I36+J36)>70,1.2,IF((I36+J36)>=60,1.1,1)))))) -> 1.1 | L36: =IF(H36=0,"",IF(AND(OR(LEFT(E36,4)="13CĐ",LEFT(E36,4)="14CĐ"),(I36+J36)>35),1.2*1.1,IF(AND(OR(LEFT(E36,4)="13CĐ",LEFT(E36,4)="14CĐ"),(I36+J36)>=30),1.1*1.1,IF(OR(LEFT(E36,4)="13CĐ",LEFT(E36,4)="14CĐ"),1.1,IF((I36+J36)>35,1.2,IF((I36+J36)>=30,1.1,1)))))) | M36: =ROUND(IF(G36>0,G36*K36,"0")+IF(H36>0,(H36/1.5)*L36,"0"),1) -> 2.2
D37: Khí cụ điện (Thay cô Lệ 1b 2t) | E37: 14TC.ĐT | F37: 1 | G37: 2 | I37: 18 | K37: =IF(G37=0,"",IF(AND(OR(LEFT(E37,4)="13CĐ",LEFT(E37,4)="14CĐ"),(I37+J37)>70),1.2*1.1,IF(AND(OR(LEFT(E37,4)="13CĐ",LEFT(E37,4)="14CĐ"),(I37+J37)>=60),1.1*1.1,IF(OR(LEFT(E37,4)="13CĐ",LEFT(E37,4)="14CĐ"),1.1,IF((I37+J37)>70,1.2,IF((I37+J37)>=60,1.1,1)))))) -> 1 | L37: =IF(H37=0,"",IF(AND(OR(LEFT(E37,4)="13CĐ",LEFT(E37,4)="14CĐ"),(I37+J37)>35),1.2*1.1,IF(AND(OR(LEFT(E37,4)="13CĐ",LEFT(E37,4)="14CĐ"),(I37+J37)>=30),1.1*1.1,IF(OR(LEFT(E37,4)="13CĐ",LEFT(E37,4)="14CĐ"),1.1,IF((I37+J37)>35,1.2,IF((I37+J37)>=30,1.1,1)))))) | M37: =ROUND(IF(G37>0,G37*K37,"0")+IF(H37>0,(H37/1.5)*L37,"0"),1) -> 2
D38: Điện tử cơ bản | E38: 14CĐ.Đ1 | F38: 2 | G38: 30 | I38: 51 | J38: 21 | K38: =IF(G38=0,"",IF(AND(OR(LEFT(E38,4)="13CĐ",LEFT(E38,4)="14CĐ"),(I38+J38)>70),1.2*1.1,IF(AND(OR(LEFT(E38,4)="13CĐ",LEFT(E38,4)="14CĐ"),(I38+J38)>=60),1.1*1.1,IF(OR(LEFT(E38,4)="13CĐ",LEFT(E38,4)="14CĐ"),1.1,IF((I38+J38)>70,1.2,IF((I38+J38)>=60,1.1,1)))))) -> 1.32 | L38: =IF(H38=0,"",IF(AND(OR(LEFT(E38,4)="13CĐ",LEFT(E38,4)="14CĐ"),(I38+J38)>35),1.2*1.1,IF(AND(OR(LEFT(E38,4)="13CĐ",LEFT(E38,4)="14CĐ"),(I38+J38)>=30),1.1*1.1,IF(OR(LEFT(E38,4)="13CĐ",LEFT(E38,4)="14CĐ"),1.1,IF((I38+J38)>35,1.2,IF((I38+J38)>=30,1.1,1)))))) | M38: =ROUND(IF(G38>0,G38*K38,"0")+IF(H38>0,(H38/1.5)*L38,"0"),1) -> 39.6
D39: TT ĐL&MĐ(nghỉ 1b 4t cô Huê thay) | E39: 14CĐ.Đ1(N2) | F39: 2 | H39: =60-4 -> 56 | I39: 21 | K39: =IF(G39=0,"",IF(AND(OR(LEFT(E39,4)="13CĐ",LEFT(E39,4)="14CĐ"),(I39+J39)>70),1.2*1.1,IF(AND(OR(LEFT(E39,4)="13CĐ",LEFT(E39,4)="14CĐ"),(I39+J39)>=60),1.1*1.1,IF(OR(LEFT(E39,4)="13CĐ",LEFT(E39,4)="14CĐ"),1.1,IF((I39+J39)>70,1.2,IF((I39+J39)>=60,1.1,1)))))) | L39: =IF(H39=0,"",IF(AND(OR(LEFT(E39,4)="13CĐ",LEFT(E39,4)="14CĐ"),(I39+J39)>35),1.2*1.1,IF(AND(OR(LEFT(E39,4)="13CĐ",LEFT(E39,4)="14CĐ"),(I39+J39)>=30),1.1*1.1,IF(OR(LEFT(E39,4)="13CĐ",LEFT(E39,4)="14CĐ"),1.1,IF((I39+J39)>35,1.2,IF((I39+J39)>=30,1.1,1)))))) -> 1.1 | M39: =ROUND(IF(G39>0,G39*K39,"0")+IF(H39>0,(H39/1.5)*L39,"0"),1) -> 41.1
D40: ĐLĐ & CB (Thay cô Lệ 5b 16t) | E40: 14TC.Đ1, ĐT1 | F40: 2 | G40: 16 | I40: 78 | K40: =IF(G40=0,"",IF(AND(OR(LEFT(E40,4)="13CĐ",LEFT(E40,4)="14CĐ"),(I40+J40)>70),1.2*1.1,IF(AND(OR(LEFT(E40,4)="13CĐ",LEFT(E40,4)="14CĐ"),(I40+J40)>=60),1.1*1.1,IF(OR(LEFT(E40,4)="13CĐ",LEFT(E40,4)="14CĐ"),1.1,IF((I40+J40)>70,1.2,IF((I40+J40)>=60,1.1,1)))))) -> 1.2 | L40: =IF(H40=0,"",IF(AND(OR(LEFT(E40,4)="13CĐ",LEFT(E40,4)="14CĐ"),(I40+J40)>35),1.2*1.1,IF(AND(OR(LEFT(E40,4)="13CĐ",LEFT(E40,4)="14CĐ"),(I40+J40)>=30),1.1*1.1,IF(OR(LEFT(E40,4)="13CĐ",LEFT(E40,4)="14CĐ"),1.1,IF((I40+J40)>35,1.2,IF((I40+J40)>=30,1.1,1)))))) | M40: =ROUND(IF(G40>0,G40*K40,"0")+IF(H40>0,(H40/1.5)*L40,"0"),1) -> 19.2
D41: Điện tử cơ bản (ôn thi TN) | E41: 12CĐ.ĐT1 | F41: 2 | G41: 6 | I41: 53 | K41: =IF(G41=0,"",IF(AND(OR(LEFT(E41,4)="13CĐ",LEFT(E41,4)="14CĐ"),(I41+J41)>70),1.2*1.1,IF(AND(OR(LEFT(E41,4)="13CĐ",LEFT(E41,4)="14CĐ"),(I41+J41)>=60),1.1*1.1,IF(OR(LEFT(E41,4)="13CĐ",LEFT(E41,4)="14CĐ"),1.1,IF((I41+J41)>70,1.2,IF((I41+J41)>=60,1.1,1)))))) -> 1 | L41: =IF(H41=0,"",IF(AND(OR(LEFT(E41,4)="13CĐ",LEFT(E41,4)="14CĐ"),(I41+J41)>35),1.2*1.1,IF(AND(OR(LEFT(E41,4)="13CĐ",LEFT(E41,4)="14CĐ"),(I41+J41)>=30),1.1*1.1,IF(OR(LEFT(E41,4)="13CĐ",LEFT(E41,4)="14CĐ"),1.1,IF((I41+J41)>35,1.2,IF((I41+J41)>=30,1.1,1)))))) | M41: =ROUND(IF(G41>0,G41*K41,"0")+IF(H41>0,(H41/1.5)*L41,"0"),1) -> 6
...

Sheet Mau A2
Q1: Mẫu A2
A2: UBND THÀNH PHỐ HỒ CHÍ MINH | K2: CỘNG HÒA XÃ HỘI CHỦ NGHĨA VIỆT NAM
A3: TRƯỜNG CAO ĐẲNG KỸ THUẬT LÝ TỰ TRỌNG TP. HỒ CHÍ MINH | K3: Độc lập - Tự do - Hạnh phúc
A4: BẢNG TỔNG KẾT KHỐI LƯỢNG CÔNG VIỆC CỦA GIẢNG VIÊN TRONG NĂM HỌC 2014 - 2015
A5: KHOA : CÔNG NGHỆ ĐIỆN - ĐIỆN TỬ
A7: TT | B7: Họ và Tên | D7: Thực hiện trong năm học | J7: Số tiết chuẩn giảng dạy cả năm | K7: Số giờ chuẩn NCKH | L7: Số giờ chuẩn "Hoạt động chuyên môn và khối lượng khác" | M7: Số tiết thừa, thiếu giảng dạy | N7: Số tiết thừa, thiếu NCKH | O7: Số tiết thừa, thiếu "Hoạt động chuyên môn và khối lượng khác" | P7: Tổng số tiết thừa, thiếu năm học 2014-2015 | Q7: Số tiết thừa năm học 2013-2014 | R7: Tổng số tiết thừa, thiếu (sau khi cộng số tiết thừa năm học 2013-2014)
D8: Số tiết quy đổi và đã nhân hệ số | E8: Kiêm nhiệm | F8: Khối lượng công tác cộng thêm | G8: Tổng tiết thực hiện | H8: Số giờ NCKH | I8: Số giờ "Hoạt động chuyên môn và khối lượng khác"
A10: (1) | B10: (2) | D10: (3) | E10: (4) | F10: (5) | G10: (6) | H10: (7) | I10: (8) | J10: (9) | K10: (10) | L10: (11) | M10: (12) | N10: (13) | O10: (14) | P10: (15) | Q10: (16) | R10: (17)
A11: 1 | B11: =IF('Mau A1'!B11="","",'Mau A1'!B11) -> Hồ Thị | C11: =IF('Mau A1'!C11="","",'Mau A1'!C11) -> Anh | D11: =SUM('Mau A1'!M11:M30) -> 329.6 | E11: =SUM('Mau A1'!N11:N30) -> 46.5 | F11: =SUM('Mau A1'!O11:O30) -> 0 | G11: =SUM('Mau A1'!P11:P30) -> 376.1 | H11: =SUM('Mau A1'!Q11:Q30) -> 680 | I11: =SUM('Mau A1'!R11:R30) -> 248 | J11: =SUM('Mau A1'!T11:T30) -> 263.5 | K11: =SUM('Mau A1'!V11:V30) -> 500 | L11: =SUM('Mau A1'!X11:X30) -> 360 | M11: =SUM('Mau A1'!Y11:Y30) -> 112.6 | N11: =SUM('Mau A1'!Z11:Z30) -> 56.3 | O11: =SUM('Mau A1'!AA11:AA30) -> -35 | P11: =SUM('Mau A1'!AC11:AC30) -> 133.9 | Q11: =SUM('Mau A1'!AB11:AB30) -> 36.4 | R11: =P11+Q11 -> 170.3
A12: 2 | B12: =IF('Mau A1'!B31="","",'Mau A1'!B31) -> Ngô Hoàng | C12: =IF('Mau A1'!C31="","",'Mau A1'!C31) -> Anh | D12: =SUM('Mau A1'!M31:M50) -> 440.1 | E12: =SUM('Mau A1'!N31:N50) -> 58 | F12: =SUM('Mau A1'!O31:O50) -> 0 | G12: =SUM('Mau A1'!P31:P50) -> 498.1 | H12: =SUM('Mau A1'!Q31:Q50) -> 255 | I12: =SUM('Mau A1'!R31:R50) -> 258.4 | J12: =SUM('Mau A1'!T31:T50) -> 232 | K12: =SUM('Mau A1'!V31:V50) -> 500 | L12: =SUM('Mau A1'!X31:X50) -> 360 | M12: =SUM('Mau A1'!Y31:Y50) -> 266.1 | N12: =SUM('Mau A1'!Z31:Z50) -> -76.6 | O12: =SUM('Mau A1'!AA31:AA50) -> -31.8 | P12: =SUM('Mau A1'!AC31:AC50) -> 157.7 | Q12: =SUM('Mau A1'!AB31:AB50) -> 41.8 | R12: =P12+Q12 -> 199.5
A13: 3 | B13: =IF('Mau A1'!B51="","",'Mau A1'!B51) -> Châu Văn | C13: =IF('Mau A1'!C51="","",'Mau A1'!C51) -> Bảo | D13: =SUM('Mau A1'!M51:M70) -> 244 | E13: =SUM('Mau A1'!N51:N70) -> 75.8 | F13: =SUM('Mau A1'!O51:O70) -> 0 | G13: =SUM('Mau A1'!P51:P70) -> 319.8 | H13: =SUM('Mau A1'!Q51:Q70) -> 847 | I13: =SUM('Mau A1'!R51:R70) -> 100 | J13: =SUM('Mau A1'!T51:T70) -> 214.2 | K13: =SUM('Mau A1'!V51:V70) -> 306.8 | L13: =SUM('Mau A1'!X51:X70) -> 360 | M13: =SUM('Mau A1'!Y51:Y70) -> 105.6 | N13: =SUM('Mau A1'!Z51:Z70) -> 168.8 | O13: =SUM('Mau A1'!AA51:AA70) -> -81.3 | P13: =SUM('Mau A1'!AC51:AC70) -> 193.1 | Q13: =SUM('Mau A1'!AB51:AB70) -> 0 | R13: =P13+Q13 -> 193.1
A14: 4 | B14: =IF('Mau A1'!B71="","",'Mau A1'!B71) -> Vũ Hạnh | C14: =IF('Mau A1'!C71="","",'Mau A1'!C71) -> Chiêu | D14: =SUM('Mau A1'!M71:M90) -> 414.6 | E14: =SUM('Mau A1'!N71:N90) -> 39 | F14: =SUM('Mau A1'!O71:O90) -> 0 | G14: =SUM('Mau A1'!P71:P90) -> 453.6 | H14: =SUM('Mau A1'!Q71:Q90) -> 36 | I14: =SUM('Mau A1'!R71:R90) -> 186.2 | J14: =SUM('Mau A1'!T71:T90) -> 221 | K14: =SUM('Mau A1'!V71:V90) -> 500 | L14: =SUM('Mau A1'!X71:X90) -> 360 | M14: =SUM('Mau A1'!Y71:Y90) -> 232.6 | N14: =SUM('Mau A1'!Z71:Z90) -> -145 | O14: =SUM('Mau A1'!AA71:AA90) -> -54.3 | P14: =SUM('Mau A1'!AC71:AC90) -> 33.3 | Q14: =SUM('Mau A1'!AB71:AB90) -> 0 | R14: =P14+Q14 -> 33.3
A15: 5 | B15: =IF('Mau A1'!B91="","",'Mau A1'!B91) -> Ngô Phong | C15: =IF('Mau A1'!C91="","",'Mau A1'!C91) -> Cường | D15: =SUM('Mau A1'!M91:M110) -> 286.2 | E15: =SUM('Mau A1'!N91:N110) -> 19.5 | F15: =SUM('Mau A1'!O91:O110) -> 0 | G15: =SUM('Mau A1'!P91:P110) -> 305.7 | H15: =SUM('Mau A1'!Q91:Q110) -> 198 | I15: =SUM('Mau A1'!R91:R110) -> 271.8 | J15: =SUM('Mau A1'!T91:T110) -> 240.5 | K15: =SUM('Mau A1'!V91:V110) -> 500 | L15: =SUM('Mau A1'!X91:X110) -> 360 | M15: =SUM('Mau A1'!Y91:Y110) -> 65.2 | N15: =SUM('Mau A1'!Z91:Z110) -> -94.4 | O15: =SUM('Mau A1'!AA91:AA110) -> -27.6 | P15: =SUM('Mau A1'!AC91:AC110) -> -56.8 | Q15: =SUM('Mau A1'!AB91:AB110) -> 186.7 | R15: =P15+Q15 -> 129.9
A16: 6 | B16: =IF('Mau A1'!B111="","",'Mau A1'!B111) -> Nguyễn Minh Đức | C16: =IF('Mau A1'!C111="","",'Mau A1'!C111) -> Cường | D16: =SUM('Mau A1'!M111:M130) -> 371 | E16: =SUM('Mau A1'!N111:N130) -> 39 | F16: =SUM('Mau A1'!O111:O130) -> 0 | G16: =SUM('Mau A1'!P111:P130) -> 410 | H16: =SUM('Mau A1'!Q111:Q130) -> 254 | I16: =SUM('Mau A1'!R111:R130) -> 268.3 | J16: =SUM('Mau A1'!T111:T130) -> 221 | K16: =SUM('Mau A1'!V111:V130) -> 500 | L16: =SUM('Mau A1'!X111:X130) -> 360 | M16: =SUM('Mau A1'!Y111:Y130) -> 189 | N16: =SUM('Mau A1'!Z111:Z130) -> -76.9 | O16: =SUM('Mau A1'!AA111:AA130) -> -28.7 | P16: =SUM('Mau A1'!AC111:AC130) -> 83.4 | Q16: =SUM('Mau A1'!AB111:AB130) -> 70.4 | R16: =P16+Q16 -> 153.8
A17: 7 | B17: =IF('Mau A1'!B131="","",'Mau A1'!B131) -> Tạ Minh | C17: =IF('Mau A1'!C131="","",'Mau A1'!C131) -> Cường | D17: =SUM('Mau A1'!M131:M150) -> 358.6 | E17: =SUM('Mau A1'!N131:N150) -> 72.5 | F17: =SUM('Mau A1'!O131:O150) -> 0 | G17: =SUM('Mau A1'!P131:P150) -> 431.1 | H17: =SUM('Mau A1'!Q131:Q150) -> 411 | I17: =SUM('Mau A1'!R131:R150) -> 209.1 | J17: =SUM('Mau A1'!T131:T150) -> 217.5 | K17: =SUM('Mau A1'!V131:V150) -> 500 | L17: =SUM('Mau A1'!X131:X150) -> 360 | M17: =SUM('Mau A1'!Y131:Y150) -> 213.6 | N17: =SUM('Mau A1'!Z131:Z150) -> -27.8 | O17: =SUM('Mau A1'!AA131:AA150) -> -47.2 | P17: =SUM('Mau A1'!AC131:AC150) -> 138.6 | Q17: =SUM('Mau A1'!AB131:AB150) -> 0 | R17: =P17+Q17 -> 138.6
A18: 8 | B18: =IF('Mau A1'!B151="","",'Mau A1'!B151) -> Võ | C18: =IF('Mau A1'!C151="","",'Mau A1'!C151) -> Cường | D18: =SUM('Mau A1'!M151:M170) -> 310.1 | E18: =SUM('Mau A1'!N151:N170) -> 58 | F18: =SUM('Mau A1'!O151:O170) -> 0 | G18: =SUM('Mau A1'!P151:P170) -> 368.1 | H18: =SUM('Mau A1'!Q151:Q170) -> 278 | I18: =SUM('Mau A1'!R151:R170) -> 323.4 | J18: =SUM('Mau A1'!T151:T170) -> 232 | K18: =SUM('Mau A1'!V151:V170) -> 500 | L18: =SUM('Mau A1'!X151:X170) -> 360 | M18: =SUM('Mau A1'!Y151:Y170) -> 136.1 | N18: =SUM('Mau A1'!Z151:Z170) -> -69.4 | O18: =SUM('Mau A1'!AA151:AA170) -> -11.4 | P18: =SUM('Mau A1'!AC151:AC170) -> 55.3 | Q18: =SUM('Mau A1'!AB151:AB170) -> 231.5 | R18: =P18+Q18 -> 286.8
A19: 9 | B19: =IF('Mau A1'!B171="","",'Mau A1'!B171) -> Nguyễn Thùy | C19: =IF('Mau A1'!C171="","",'Mau A1'!C171) -> Dương | D19: =SUM('Mau A1'!M171:M190) -> 298.4 | E19: =SUM('Mau A1'!N171:N190) -> 17.8 | F19: =SUM('Mau A1'!O171:O190) -> 0 | G19: =SUM('Mau A1'!P171:P190) -> 316.2 | H19: =SUM('Mau A1'!Q171:Q190) -> 33 | I19: =SUM('Mau A1'!R171:R190) -> 250.9 | J19: =SUM('Mau A1'!T171:T190) -> 256.4 | K19: =SUM('Mau A1'!V171:V190) -> 409.1 | L19: =SUM('Mau A1'!X171:X190) -> 295 | M19: =SUM('Mau A1'!Y171:Y190) -> 59.8 | N19: =SUM('Mau A1'!Z171:Z190) -> -117.5 | O19: =SUM('Mau A1'!AA171:AA190) -> -13.8 | P19: =SUM('Mau A1'!AC171:AC190) -> -71.5 | Q19: =SUM('Mau A1'!AB171:AB190) -> 0 | R19: =P19+Q19 -> -71.5
A20: 10 | B20: =IF('Mau A1'!B191="","",'Mau A1'!B191) -> Lê Tiến | C20: =IF('Mau A1'!C191="","",'Mau A1'!C191) -> Đạt | D20: =SUM('Mau A1'!M191:M210) -> 406.3 | E20: =SUM('Mau A1'!N191:N210) -> 21.75 | F20: =SUM('Mau A1'!O191:O210) -> 0 | G20: =SUM('Mau A1'!P191:P210) -> 428.05 | H20: =SUM('Mau A1'!Q191:Q210) -> 161 | I20: =SUM('Mau A1'!R191:R210) -> 225.9 | J20: =SUM('Mau A1'!T191:T210) -> 268.2 | K20: =SUM('Mau A1'!V191:V210) -> 500 | L20: =SUM('Mau A1'!X191:X210) -> 360 | M20: =SUM('Mau A1'!Y191:Y210) -> 159.9 | N20: =SUM('Mau A1'!Z191:Z210) -> -105.9 | O20: =SUM('Mau A1'!AA191:AA210) -> -41.9 | P20: =SUM('Mau A1'!AC191:AC210) -> 12.1 | Q20: =SUM('Mau A1'!AB191:AB210) -> 0 | R20: =P20+Q20 -> 12.1
A21: 11 | B21: =IF('Mau A1'!B211="","",'Mau A1'!B211) -> Nguyễn Hồng | C21: =IF('Mau A1'!C211="","",'Mau A1'!C211) -> Đức | D21: =SUM('Mau A1'!M211:M230) -> 442.1 | E21: =SUM('Mau A1'!N211:N230) -> 0 | F21: =SUM('Mau A1'!O211:O230) -> 0 | G21: =SUM('Mau A1'!P211:P230) -> 442.1 | H21: =SUM('Mau A1'!Q211:Q230) -> 39 | I21: =SUM('Mau A1'!R211:R230) -> 188.5 | J21: =SUM('Mau A1'!T211:T230) -> 310 | K21: =SUM('Mau A1'!V211:V230) -> 500 | L21: =SUM('Mau A1'!X211:X230) -> 360 | M21: =SUM('Mau A1'!Y211:Y230) -> 132.1 | N21: =SUM('Mau A1'!Z211:Z230) -> -144.1 | O21: =SUM('Mau A1'!AA211:AA230) -> -53.6 | P21: =SUM('Mau A1'!AC211:AC230) -> -65.6 | Q21: =SUM('Mau A1'!AB211:AB230) -> 0 | R21: =P21+Q21 -> -65.6
A22: 12 | B22: =IF('Mau A1'!B231="","",'Mau A1'!B231) -> Nguyễn Minh | C22: =IF('Mau A1'!C231="","",'Mau A1'!C231) -> Đức (A) | D22: =SUM('Mau A1'!M231:M250) -> 399.6 | E22: =SUM('Mau A1'!N231:N250) -> 62 | F22: =SUM('Mau A1'!O231:O250) -> 28.2 | G22: =SUM('Mau A1'!P231:P250) -> 489.8 | H22: =SUM('Mau A1'!Q231:Q250) -> 745 | I22: =SUM('Mau A1'!R231:R250) -> 260.3 | J22: =SUM('Mau A1'!T231:T250) -> 214.6 | K22: =SUM('Mau A1'!V231:V250) -> 483 | L22: =SUM('Mau A1'!X231:X250) -> 348 | M22: =SUM('Mau A1'!Y231:Y250) -> 275.2 | N22: =SUM('Mau A1'!Z231:Z250) -> 81.9 | O22: =SUM('Mau A1'!AA231:AA250) -> -27.4 | P22: =SUM('Mau A1'!AC231:AC250) -> 329.7 | Q22: =SUM('Mau A1'!AB231:AB250) -> 0 | R22: =P22+Q22 -> 329.7
A23: 13 | B23: =IF('Mau A1'!B251="","",'Mau A1'!B251) -> Nguyễn Minh | C23: =IF('Mau A1'!C251="","",'Mau A1'!C251) -> Đức (B) | D23: =SUM('Mau A1'!M251:M270) -> 406.6 | E23: =SUM('Mau A1'!N251:N270) -> 21.75 | F23: =SUM('Mau A1'!O251:O270) -> 0 | G23: =SUM('Mau A1'!P251:P270) -> 428.35 | H23: =SUM('Mau A1'!Q251:Q270) -> 30 | I23: =SUM('Mau A1'!R251:R270) -> 218.1 | J23: =SUM('Mau A1'!T251:T270) -> 268.2 | K23: =SUM('Mau A1'!V251:V270) -> 500 | L23: =SUM('Mau A1'!X251:X270) -> 360 | M23: =SUM('Mau A1'!Y251:Y270) -> 160.2 | N23: =SUM('Mau A1'!Z251:Z270) -> -146.9 | O23: =SUM('Mau A1'!AA251:AA270) -> -44.3 | P23: =SUM('Mau A1'!AC251:AC270) -> -31 | Q23: =SUM('Mau A1'!AB251:AB270) -> 0 | R23: =P23+Q23 -> -31
A24: 14 | B24: =IF('Mau A1'!B271="","",'Mau A1'!B271) -> Nguyễn Thị Ngọc | C24: =IF('Mau A1'!C271="","",'Mau A1'!C271) -> Hiền | D24: =SUM('Mau A1'!M271:M290) -> 364.8 | E24: =SUM('Mau A1'!N271:N290) -> 43.5 | F24: =SUM('Mau A1'!O271:O290) -> 0 | G24: =SUM('Mau A1'!P271:P290) -> 408.3 | H24: =SUM('Mau A1'!Q271:Q290) -> 152 | I24: =SUM('Mau A1'!R271:R290) -> 152.2 | J24: =SUM('Mau A1'!T271:T290) -> 246.5 | K24: =SUM('Mau A1'!V271:V290) -> 500 | L24: =SUM('Mau A1'!X271:X290) -> 360 | M24: =SUM('Mau A1'!Y271:Y290) -> 161.8 | N24: =SUM('Mau A1'!Z271:Z290) -> -108.8 | O24: =SUM('Mau A1'!AA271:AA290) -> -64.9 | P24: =SUM('Mau A1'!AC271:AC290) -> -11.9 | Q24: =SUM('Mau A1'!AB271:AB290) -> 0 | R24: =P24+Q24 -> -11.9
A25: 15 | B25: =IF('Mau A1'!B291="","",'Mau A1'!B291) -> Trần Trung | C25: =IF('Mau A1'!C291="","",'Mau A1'!C291) -> Hiếu | D25: =SUM('Mau A1'!M291:M310) -> 488.4 | E25: =SUM('Mau A1'!N291:N310) -> 43.5 | F25: =SUM('Mau A1'!O291:O310) -> 0 | G25: =SUM('Mau A1'!P291:P310) -> 531.9 | H25: =SUM('Mau A1'!Q291:Q310) -> 33 | I25: =SUM('Mau A1'!R291:R310) -> 213.9 | J25: =SUM('Mau A1'!T291:T310) -> 246.5 | K25: =SUM('Mau A1'!V291:V310) -> 500 | L25: =SUM('Mau A1'!X291:X310) -> 360 | M25: =SUM('Mau A1'!Y291:Y310) -> 285.4 | N25: =SUM('Mau A1'!Z291:Z310) -> -145.9 | O25: =SUM('Mau A1'!AA291:AA310) -> -45.7 | P25: =SUM('Mau A1'!AC291:AC310) -> 93.8 | Q25: =SUM('Mau A1'!AB291:AB310) -> 0 | R25: =P25+Q25 -> 93.8
A26: 16 | B26: =IF('Mau A1'!B311="","",'Mau A1'!B311) -> Mạnh Lê | C26: =IF('Mau A1'!C311="","",'Mau A1'!C311) -> Hoàn | D26: =SUM('Mau A1'!M311:M330) -> 379 | E26: =SUM('Mau A1'!N311:N330) -> 43.5 | F26: =SUM('Mau A1'!O311:O330) -> 0 | G26: =SUM('Mau A1'!P311:P330) -> 422.5 | H26: =SUM('Mau A1'!Q311:Q330) -> 90 | I26: =SUM('Mau A1'!R311:R330) -> 203.2 | J26: =SUM('Mau A1'!T311:T330) -> 246.5 | K26: =SUM('Mau A1'!V311:V330) -> 500 | L26: =SUM('Mau A1'!X311:X330) -> 360 | M26: =SUM('Mau A1'!Y311:Y330) -> 176 | N26: =SUM('Mau A1'!Z311:Z330) -> -128.1 | O26: =SUM('Mau A1'!AA311:AA330) -> -49 | P26: =SUM('Mau A1'!AC311:AC330) -> -1.1 | Q26: =SUM('Mau A1'!AB311:AB330) -> 0 | R26: =P26+Q26 -> -1.1
A27: 17 | B27: =IF('Mau A1'!B331="","",'Mau A1'!B331) -> Lê Thế | C27: =IF('Mau A1'!C331="","",'Mau A1'!C331) -> Huân | D27: =SUM('Mau A1'!M331:M350) -> 499.4 | E27: =SUM('Mau A1'!N331:N350) -> 21.75 | F27: =SUM('Mau A1'!O331:O350) -> 0 | G27: =SUM('Mau A1'!P331:P350) -> 521.15 | H27: =SUM('Mau A1'!Q331:Q350) -> 36 | I27: =SUM('Mau A1'!R331:R350) -> 261.8 | J27: =SUM('Mau A1'!T331:T350) -> 268.2 | K27: =SUM('Mau A1'!V331:V350) -> 500 | L27: =SUM('Mau A1'!X331:X350) -> 360 | M27: =SUM('Mau A1'!Y331:Y350) -> 253 | N27: =SUM('Mau A1'!Z331:Z350) -> -145 | O27: =SUM('Mau A1'!AA331:AA350) -> -30.7 | P27: =SUM('Mau A1'!AC331:AC350) -> 77.3 | Q27: =SUM('Mau A1'!AB331:AB350) -> 0 | R27: =P27+Q27 -> 77.3
A28: 18 | B28: =IF('Mau A1'!B351="","",'Mau A1'!B351) -> Nguyễn Trọng | C28: =IF('Mau A1'!C351="","",'Mau A1'!C351) -> Huân | D28: =SUM('Mau A1'!M351:M370) -> 359.3 | E28: =SUM('Mau A1'!N351:N370) -> 39 | F28: =SUM('Mau A1'!O351:O370) -> 0 | G28: =SUM('Mau A1'!P351:P370) -> 398.3 | H28: =SUM('Mau A1'!Q351:Q370) -> 30 | I28: =SUM('Mau A1'!R351:R370) -> 251.7 | J28: =SUM('Mau A1'!T351:T370) -> 221 | K28: =SUM('Mau A1'!V351:V370) -> 500 | L28: =SUM('Mau A1'!X351:X370) -> 360 | M28: =SUM('Mau A1'!Y351:Y370) -> 177.3 | N28: =SUM('Mau A1'!Z351:Z370) -> -146.9 | O28: =SUM('Mau A1'!AA351:AA370) -> -33.8 | P28: =SUM('Mau A1'!AC351:AC370) -> -3.4 | Q28: =SUM('Mau A1'!AB351:AB370) -> 0 | R28: =P28+Q28 -> -3.4
A29: 19 | B29: =IF('Mau A1'!B371="","",'Mau A1'!B371) -> Tăng Cẩm | C29: =IF('Mau A1'!C371="","",'Mau A1'!C371) -> Huê | D29: =SUM('Mau A1'!M371:M390) -> 382.4 | E29: =SUM('Mau A1'!N371:N390) -> 43.5 | F29: =SUM('Mau A1'!O371:O390) -> 0 | G29: =SUM('Mau A1'!P371:P390) -> 425.9 | H29: =SUM('Mau A1'!Q371:Q390) -> 391 | I29: =SUM('Mau A1'!R371:R390) -> 232 | J29: =SUM('Mau A1'!T371:T390) -> 246.5 | K29: =SUM('Mau A1'!V371:V390) -> 500 | L29: =SUM('Mau A1'!X371:X390) -> 360 | M29: =SUM('Mau A1'!Y371:Y390) -> 179.4 | N29: =SUM('Mau A1'!Z371:Z390) -> -34.1 | O29: =SUM('Mau A1'!AA371:AA390) -> -40 | P29: =SUM('Mau A1'!AC371:AC390) -> 105.3 | Q29: =SUM('Mau A1'!AB371:AB390) -> 73.4 | R29: =P29+Q29 -> 178.7
A30: 20 | B30: =IF('Mau A1'!B391="","",'Mau A1'!B391) -> Trần Thị | C30: =IF('Mau A1'!C391="","",'Mau A1'!C391) -> Lệ | D30: =SUM('Mau A1'!M391:M410) -> 331.8 | E30: =SUM('Mau A1'!N391:N410) -> 0 | F30: =SUM('Mau A1'!O391:O410) -> 9 | G30: =SUM('Mau A1'!P391:P410) -> 340.8 | H30: =SUM('Mau A1'!Q391:Q410) -> 351 | I30: =SUM('Mau A1'!R391:R410) -> 196.8 | J30: =SUM('Mau A1'!T391:T410) -> 218.9 | K30: =SUM('Mau A1'!V391:V410) -> 403.4 | L30: =SUM('Mau A1'!X391:X410) -> 291 | M30: =SUM('Mau A1'!Y391:Y410) -> 121.9 | N30: =SUM('Mau A1'!Z391:Z410) -> -16.4 | O30: =SUM('Mau A1'!AA391:AA410) -> -29.4 | P30: =SUM('Mau A1'!AC391:AC410) -> 76.1 | Q30: =SUM('Mau A1'!AB391:AB410) -> 60.5 | R30: =P30+Q30 -> 136.6
A31: 21 | B31: =IF('Mau A1'!B411="","",'Mau A1'!B411) -> Nguyễn Huỳnh | C31: =IF('Mau A1'!C411="","",'Mau A1'!C411) -> Liên | D31: =SUM('Mau A1'!M411:M430) -> 289.8 | E31: =SUM('Mau A1'!N411:N430) -> 83.84 | F31: =SUM('Mau A1'!O411:O430) -> 0 | G31: =SUM('Mau A1'!P411:P430) -> 373.64 | H31: =SUM('Mau A1'!Q411:Q430) -> 611 | I31: =SUM('Mau A1'!R411:R430) -> 349.3 | J31: =SUM('Mau A1'!T411:T430) -> 226.2 | K31: =SUM('Mau A1'!V411:V430) -> 500 | L31: =SUM('Mau A1'!X411:X430) -> 360 | M31: =SUM('Mau A1'!Y411:Y430) -> 147.4 | N31: =SUM('Mau A1'!Z411:Z430) -> 34.7 | O31: =SUM('Mau A1'!AA411:AA430) -> -3.3 | P31: =SUM('Mau A1'!AC411:AC430) -> 178.8 | Q31: =SUM('Mau A1'!AB411:AB430) -> 173.6 | R31: =P31+Q31 -> 352.4
A32: 22 | B32: =IF('Mau A1'!B431="","",'Mau A1'!B431) -> Nguyễn Thùy | C32: =IF('Mau A1'!C431="","",'Mau A1'!C431) -> Linh | D32: =SUM('Mau A1'!M431:M450) -> 454.1 | E32: =SUM('Mau A1'!N431:N450) -> 0 | F32: =SUM('Mau A1'!O431:O450) -> 0 | G32: =SUM('Mau A1'!P431:P450) -> 454.1 | H32: =SUM('Mau A1'!Q431:Q450) -> 196 | I32: =SUM('Mau A1'!R431:R450) -> 283 | J32: =SUM('Mau A1'!T431:T450) -> 260 | K32: =SUM('Mau A1'!V431:V450) -> 500 | L32: =SUM('Mau A1'!X431:X450) -> 360 | M32: =SUM('Mau A1'!Y431:Y450) -> 194.1 | N32: =SUM('Mau A1'!Z431:Z450) -> -95 | O32: =SUM('Mau A1'!AA431:AA450) -> -24.1 | P32: =SUM('Mau A1'!AC431:AC450) -> 75 | Q32: =SUM('Mau A1'!AB431:AB450) -> 0 | R32: =P32+Q32 -> 75
A33: 23 | B33: =IF('Mau A1'!B451="","",'Mau A1'!B451) -> Huỳnh Ngọc | C33: =IF('Mau A1'!C451="","",'Mau A1'!C451) -> Mai | D33: =SUM('Mau A1'!M451:M470) -> 372 | E33: =SUM('Mau A1'!N451:N470) -> 124 | F33: =SUM('Mau A1'!O451:O470) -> 0 | G33: =SUM('Mau A1'!P451:P470) -> 496 | H33: =SUM('Mau A1'!Q451:Q470) -> 260 | I33: =SUM('Mau A1'!R451:R470) -> 251 | J33: =SUM('Mau A1'!T451:T470) -> 186 | K33: =SUM('Mau A1'!V451:V470) -> 500 | L33: =SUM('Mau A1'!X451:X470) -> 360 | M33: =SUM('Mau A1'!Y451:Y470) -> 310 | N33: =SUM('Mau A1'!Z451:Z470) -> -75 | O33: =SUM('Mau A1'!AA451:AA470) -> -34.1 | P33: =SUM('Mau A1'!AC451:AC470) -> 200.9 | Q33: =SUM('Mau A1'!AB451:AB470) -> 79.7 | R33: =P33+Q33 -> 280.6
A34: 24 | B34: =IF('Mau A1'!B471="","",'Mau A1'!B471) -> Đặng Đức | C34: =IF('Mau A1'!C471="","",'Mau A1'!C471) -> Minh | D34: =SUM('Mau A1'!M471:M490) -> 370 | E34: =SUM('Mau A1'!N471:N490) -> 43.5 | F34: =SUM('Mau A1'!O471:O490) -> 0 | G34: =SUM('Mau A1'!P471:P490) -> 413.5 | H34: =SUM('Mau A1'!Q471:Q490) -> 458 | I34: =SUM('Mau A1'!R471:R490) -> 287.5 | J34: =SUM('Mau A1'!T471:T490) -> 246.5 | K34: =SUM('Mau A1'!V471:V490) -> 500 | L34: =SUM('Mau A1'!X471:X490) -> 360 | M34: =SUM('Mau A1'!Y471:Y490) -> 167 | N34: =SUM('Mau A1'!Z471:Z490) -> -13.1 | O34: =SUM('Mau A1'!AA471:AA490) -> -22.7 | P34: =SUM('Mau A1'!AC471:AC490) -> 131.2 | Q34: =SUM('Mau A1'!AB471:AB490) -> 15.2 | R34: =P34+Q34 -> 146.4
A35: 25 | B35: =IF('Mau A1'!B491="","",'Mau A1'!B491) -> Nguyễn Thị Tố | C35: =IF('Mau A1'!C491="","",'Mau A1'!C491) -> Nga | D35: =SUM('Mau A1'!M491:M510) -> 371.7 | E35: =SUM('Mau A1'!N491:N510) -> 21.75 | F35: =SUM('Mau A1'!O491:O510) -> 0 | G35: =SUM('Mau A1'!P491:P510) -> 393.45 | H35: =SUM('Mau A1'!Q491:Q510) -> 341 | I35: =SUM('Mau A1'!R491:R510) -> 275 | J35: =SUM('Mau A1'!T491:T510) -> 268.2 | K35: =SUM('Mau A1'!V491:V510) -> 500 | L35: =SUM('Mau A1'!X491:X510) -> 360 | M35: =SUM('Mau A1'!Y491:Y510) -> 125.3 | N35: =SUM('Mau A1'!Z491:Z510) -> -49.7 | O35: =SUM('Mau A1'!AA491:AA510) -> -26.6 | P35: =SUM('Mau A1'!AC491:AC510) -> 49 | Q35: =SUM('Mau A1'!AB491:AB510) -> 6.3 | R35: =P35+Q35 -> 55.3
A36: 26 | B36: =IF('Mau A1'!B511="","",'Mau A1'!B511) -> Nguyễn Trần Thanh | C36: =IF('Mau A1'!C511="","",'Mau A1'!C511) -> Nhàn | D36: =SUM('Mau A1'!M511:M530) -> 432.2 | E36: =SUM('Mau A1'!N511:N530) -> 0 | F36: =SUM('Mau A1'!O511:O530) -> 0 | G36: =SUM('Mau A1'!P511:P530) -> 432.2 | H36: =SUM('Mau A1'!Q511:Q530) -> 99 | I36: =SUM('Mau A1'!R511:R530) -> 310.1 | J36: =SUM('Mau A1'!T511:T530) -> 290 | K36: =SUM('Mau A1'!V511:V530) -> 500 | L36: =SUM('Mau A1'!X511:X530) -> 360 | M36: =SUM('Mau A1'!Y511:Y530) -> 142.2 | N36: =SUM('Mau A1'!Z511:Z530) -> -125.3 | O36: =SUM('Mau A1'!AA511:AA530) -> -15.6 | P36: =SUM('Mau A1'!AC511:AC530) -> 1.3 | Q36: =SUM('Mau A1'!AB511:AB530) -> 0 | R36: =P36+Q36 -> 1.3
A37: 27 | B37: =IF('Mau A1'!B531="","",'Mau A1'!B531) -> Đỗ Huỳnh Thanh | C37: =IF('Mau A1'!C531="","",'Mau A1'!C531) -> Phong | D37: =SUM('Mau A1'!M531:M550) -> 470.3 | E37: =SUM('Mau A1'!N531:N550) -> 39 | F37: =SUM('Mau A1'!O531:O550) -> 0 | G37: =SUM('Mau A1'!P531:P550) -> 509.3 | H37: =SUM('Mau A1'!Q531:Q550) -> 150 | I37: =SUM('Mau A1'!R531:R550) -> 267.5 | J37: =SUM('Mau A1'!T531:T550) -> 0 | K37: =SUM('Mau A1'!V531:V550) -> 500 | L37: =SUM('Mau A1'!X531:X550) -> 360 | M37: =SUM('Mau A1'!Y531:Y550) -> 509.3 | N37: =SUM('Mau A1'!Z531:Z550) -> -109.4 | O37: =SUM('Mau A1'!AA531:AA550) -> -28.9 | P37: =SUM('Mau A1'!AC531:AC550) -> 371 | Q37: =SUM('Mau A1'!AB531:AB550) -> 0 | R37: =P37+Q37 -> 371
A38: 28 | B38: =IF('Mau A1'!B551="","",'Mau A1'!B551) -> Nguyễn Anh | C38: =IF('Mau A1'!C551="","",'Mau A1'!C551) -> Tăng | D38: =SUM('Mau A1'!M551:M570) -> 483.7 | E38: =SUM('Mau A1'!N551:N570) -> 58 | F38: =SUM('Mau A1'!O551:O570) -> 0 | G38: =SUM('Mau A1'!P551:P570) -> 541.7 | H38: =SUM('Mau A1'!Q551:Q570) -> 238 | I38: =SUM('Mau A1'!R551:R570) -> 340.5 | J38: =SUM('Mau A1'!T551:T570) -> 232 | K38: =SUM('Mau A1'!V551:V570) -> 500 | L38: =SUM('Mau A1'!X551:X570) -> 360 | M38: =SUM('Mau A1'!Y551:Y570) -> 309.7 | N38: =SUM('Mau A1'!Z551:Z570) -> -81.9 | O38: =SUM('Mau A1'!AA551:AA570) -> -6.1 | P38: =SUM('Mau A1'!AC551:AC570) -> 221.7 | Q38: =SUM('Mau A1'!AB551:AB570) -> 19.8 | R38: =P38+Q38 -> 241.5
A39: 29 | B39: =IF('Mau A1'!B571="","",'Mau A1'!B571) -> Quách Minh | C39: =IF('Mau A1'!C571="","",'Mau A1'!C571) -> Thử | D39: =SUM('Mau A1'!M571:M590) -> 449.1 | E39: =SUM('Mau A1'!N571:N590) -> 52 | F39: =SUM('Mau A1'!O571:O590) -> 0 | G39: =SUM('Mau A1'!P571:P590) -> 501.1 | H39: =SUM('Mau A1'!Q571:Q590) -> 73 | I39: =SUM('Mau A1'!R571:R590) -> 372 | J39: =SUM('Mau A1'!T571:T590) -> 208 | K39: =SUM('Mau A1'!V571:V590) -> 500 | L39: =SUM('Mau A1'!X571:X590) -> 360 | M39: =SUM('Mau A1'!Y571:Y590) -> 293.1 | N39: =SUM('Mau A1'!Z571:Z590) -> -133.4 | O39: =SUM('Mau A1'!AA571:AA590) -> 3.8 | P39: =SUM('Mau A1'!AC571:AC590) -> 163.5 | Q39: =SUM('Mau A1'!AB571:AB590) -> 44.8 | R39: =P39+Q39 -> 208.3
A40: 30 | B40: =IF('Mau A1'!B591="","",'Mau A1'!B591) -> Trần Công | C40: =IF('Mau A1'!C591="","",'Mau A1'!C591) -> Tiến | D40: =SUM('Mau A1'!M591:M610) -> 417.6 | E40: =SUM('Mau A1'!N591:N610) -> 46.5 | F40: =SUM('Mau A1'!O591:O610) -> 0 | G40: =SUM('Mau A1'!P591:P610) -> 464.1 | H40: =SUM('Mau A1'!Q591:Q610) -> 354 | I40: =SUM('Mau A1'!R591:R610) -> 338.7 | J40: =SUM('Mau A1'!T591:T610) -> 263.5 | K40: =SUM('Mau A1'!V591:V610) -> 500 | L40: =SUM('Mau A1'!X591:X610) -> 360 | M40: =SUM('Mau A1'!Y591:Y610) -> 200.6 | N40: =SUM('Mau A1'!Z591:Z610) -> -45.6 | O40: =SUM('Mau A1'!AA591:AA610) -> -6.7 | P40: =SUM('Mau A1'!AC591:AC610) -> 148.3 | Q40: =SUM('Mau A1'!AB591:AB610) -> 39.8 | R40: =P40+Q40 -> 188.1
A41: 31 | B41: =IF('Mau A1'!B611="","",'Mau A1'!B611) -> Bốc Minh | C41: =IF('Mau A1'!C611="","",'Mau A1'!C611) -> Trí | D41: =SUM('Mau A1'!M611:M630) -> 370 | E41: =SUM('Mau A1'!N611:N630) -> 39 | F41: =SUM('Mau A1'!O611:O630) -> 0 | G41: =SUM('Mau A1'!P611:P630) -> 409 | H41: =SUM('Mau A1'!Q611:Q630) -> 52 | I41: =SUM('Mau A1'!R611:R630) -> 312.8 | J41: =SUM('Mau A1'!T611:T630) -> 221 | K41: =SUM('Mau A1'!V611:V630) -> 500 | L41: =SUM('Mau A1'!X611:X630) -> 360 | M41: =SUM('Mau A1'!Y611:Y630) -> 188 | N41: =SUM('Mau A1'!Z611:Z630) -> -140 | O41: =SUM('Mau A1'!AA611:AA630) -> -14.8 | P41: =SUM('Mau A1'!AC611:AC630) -> 33.2 | Q41: =SUM('Mau A1'!AB611:AB630) -> 100.2 | R41: =P41+Q41 -> 133.4
A42: 32 | B42: =IF('Mau A1'!B631="","",'Mau A1'!B631) -> Nguyễn Trọng | C42: =IF('Mau A1'!C631="","",'Mau A1'!C631) -> Trí | D42: =SUM('Mau A1'!M631:M650) -> 423.2 | E42: =SUM('Mau A1'!N631:N650) -> 43.5 | F42: =SUM('Mau A1'!O631:O650) -> 0 | G42: =SUM('Mau A1'!P631:P650) -> 466.7 | H42: =SUM('Mau A1'!Q631:Q650) -> 36 | I42: =SUM('Mau A1'!R631:R650) -> 357.9 | J42: =SUM('Mau A1'!T631:T650) -> 246.5 | K42: =SUM('Mau A1'!V631:V650) -> 500 | L42: =SUM('Mau A1'!X631:X650) -> 360 | M42: =SUM('Mau A1'!Y631:Y650) -> 220.2 | N42: =SUM('Mau A1'!Z631:Z650) -> -145 | O42: =SUM('Mau A1'!AA631:AA650) -> -0.7 | P42: =SUM('Mau A1'!AC631:AC650) -> 74.5 | Q42: =SUM('Mau A1'!AB631:AB650) -> 44.8 | R42: =P42+Q42 -> 119.3
...

Sheet Mau B1.1
J1: Mẫu B1. 1
A2: UBND THÀNH PHỐ HỒ CHÍ MINH | E2: CỘNG HÒA XÃ HỘI CHỦ NGHĨA VIỆT NAM
A3: TRƯỜNG CAO ĐẲNG KỸ THUẬT LÝ TỰ TRỌNG TP. HỒ CHÍ MINH | E3: Độc lập - Tự do - Hạnh phúc
A5: BẢNG TỔNG HỢP NGHE THỜI SỰ HỌC TẬP CHÍNH TRỊ VÀ AN NINH QUỐC PHÒNG
A6: NĂM HỌC 2014 - 2015
A7: KHOA: CÔNG NGHỆ ĐIỆN - ĐIỆN TỬ
A9: TT | B9: HỌ VÀ TÊN GIẢNG VIÊN | D9: THỜI GIAN THAM DỰ | I9: TỔNG SỐ GIỜ ĐƯỢC TÍNH | J9: GHI CHÚ
D10: 30/10/2014 | E10: 42106 | F10: 20/1/2015 | G10: 15/6/2015 | H10: 26/6/2015
A11: 1 | B11: =IF('Mau A1'!B11="","",'Mau A1'!B11) -> Hồ Thị | C11: =IF('Mau A1'!C11="","",'Mau A1'!C11) -> Anh | D11: X | F11: X | G11: X | H11: X | I11: =COUNTIF(D11:H11,"X")*4 -> 16
A12: 2 | B12: =IF('Mau A1'!B31="","",'Mau A1'!B31) -> Ngô Hoàng | C12: =IF('Mau A1'!C31="","",'Mau A1'!C31) -> Anh | D12: X | E12: X | F12: X | H12: X | I12: =COUNTIF(D12:H12,"X")*4 -> 16
A13: 3 | B13: =IF('Mau A1'!B51="","",'Mau A1'!B51) -> Châu Văn | C13: =IF('Mau A1'!C51="","",'Mau A1'!C51) -> Bảo | D13: X | E13: X | F13: X | H13: X | I13: =COUNTIF(D13:H13,"X")*4 -> 16
A14: 4 | B14: =IF('Mau A1'!B71="","",'Mau A1'!B71) -> Vũ Hạnh | C14: =IF('Mau A1'!C71="","",'Mau A1'!C71) -> Chiêu | D14: X | F14: X | G14: X | H14: X | I14: =COUNTIF(D14:H14,"X")*4 -> 16
A15: 5 | B15: =IF('Mau A1'!B91="","",'Mau A1'!B91) -> Ngô Phong | C15: =IF('Mau A1'!C91="","",'Mau A1'!C91) -> Cường | D15: X | E15: X | F15: X | G15: X | H15: X | I15: =COUNTIF(D15:H15,"X")*4 -> 20
A16: 6 | B16: =IF('Mau A1'!B111="","",'Mau A1'!B111) -> Nguyễn Minh Đức | C16: =IF('Mau A1'!C111="","",'Mau A1'!C111) -> Cường | D16: X | E16: X | F16: X | H16: X | I16: =COUNTIF(D16:H16,"X")*4 -> 16
A17: 7 | B17: =IF('Mau A1'!B131="","",'Mau A1'!B131) -> Tạ Minh | C17: =IF('Mau A1'!C131="","",'Mau A1'!C131) -> Cường | D17: X | E17: X | F17: X | H17: X | I17: =COUNTIF(D17:H17,"X")*4 -> 16
A18: 8 | B18: =IF('Mau A1'!B151="","",'Mau A1'!B151) -> Võ | C18: =IF('Mau A1'!C151="","",'Mau A1'!C151) -> Cường | D18: X | E18: X | F18: X | H18: X | I18: =COUNTIF(D18:H18,"X")*4 -> 16
A19: 9 | B19: =IF('Mau A1'!B171="","",'Mau A1'!B171) -> Nguyễn Thùy | C19: =IF('Mau A1'!C171="","",'Mau A1'!C171) -> Dương | D19: X | E19: X | F19: X | G19: X | H19: X | I19: =COUNTIF(D19:H19,"X")*4 -> 20
A20: 10 | B20: =IF('Mau A1'!B191="","",'Mau A1'!B191) -> Lê Tiến | C20: =IF('Mau A1'!C191="","",'Mau A1'!C191) -> Đạt | D20: X | E20: X | F20: X | G20: X | I20: =COUNTIF(D20:H20,"X")*4 -> 16
A21: 11 | B21: =IF('Mau A1'!B211="","",'Mau A1'!B211) -> Nguyễn Hồng | C21: =IF('Mau A1'!C211="","",'Mau A1'!C211) -> Đức | D21: X | E21: X | F21: X | G21: X | H21: X | I21: =COUNTIF(D21:H21,"X")*4 -> 20
A22: 12 | B22: =IF('Mau A1'!B231="","",'Mau A1'!B231) -> Nguyễn Minh | C22: =IF('Mau A1'!C231="","",'Mau A1'!C231) -> Đức (A) | D22: X | E22: X | F22: X | G22: X | I22: =COUNTIF(D22:H22,"X")*4 -> 16
A23: 13 | B23: =IF('Mau A1'!B251="","",'Mau A1'!B251) -> Nguyễn Minh | C23: =IF('Mau A1'!C251="","",'Mau A1'!C251) -> Đức (B) | D23: X | E23: X | F23: X | I23: =COUNTIF(D23:H23,"X")*4 -> 12
A24: 14 | B24: =IF('Mau A1'!B271="","",'Mau A1'!B271) -> Nguyễn Thị Ngọc | C24: =IF('Mau A1'!C271="","",'Mau A1'!C271) -> Hiền | F24: X | G24: X | H24: X | I24: =COUNTIF(D24:H24,"X")*4 -> 12
A25: 15 | B25: =IF('Mau A1'!B291="","",'Mau A1'!B291) -> Trần Trung | C25: =IF('Mau A1'!C291="","",'Mau A1'!C291) -> Hiếu | D25: X | E25: X | G25: X | H25: X | I25: =COUNTIF(D25:H25,"X")*4 -> 16
A26: 16 | B26: =IF('Mau A1'!B311="","",'Mau A1'!B311) -> Mạnh Lê | C26: =IF('Mau A1'!C311="","",'Mau A1'!C311) -> Hoàn | D26: X | F26: X | G26: X | I26: =COUNTIF(D26:H26,"X")*4 -> 12
A27: 17 | B27: =IF('Mau A1'!B331="","",'Mau A1'!B331) -> Lê Thế | C27: =IF('Mau A1'!C331="","",'Mau A1'!C331) -> Huân | D27: X | E27: X | F27: X | G27: X | H27: X | I27: =COUNTIF(D27:H27,"X")*4 -> 20
A28: 18 | B28: =IF('Mau A1'!B351="","",'Mau A1'!B351) -> Nguyễn Trọng | C28: =IF('Mau A1'!C351="","",'Mau A1'!C351) -> Huân | D28: X | F28: X | G28: X | I28: =COUNTIF(D28:H28,"X")*4 -> 12
A29: 19 | B29: =IF('Mau A1'!B371="","",'Mau A1'!B371) -> Tăng Cẩm | C29: =IF('Mau A1'!C371="","",'Mau A1'!C371) -> Huê | D29: X | E29: X | F29: X | G29: X | H29: X | I29: =COUNTIF(D29:H29,"X")*4 -> 20
A30: 20 | B30: =IF('Mau A1'!B391="","",'Mau A1'!B391) -> Trần Thị | C30: =IF('Mau A1'!C391="","",'Mau A1'!C391) -> Lệ | E30: X | G30: X | H30: X | I30: =COUNTIF(D30:H30,"X")*4 -> 12
A31: 21 | B31: =IF('Mau A1'!B411="","",'Mau A1'!B411) -> Nguyễn Huỳnh | C31: =IF('Mau A1'!C411="","",'Mau A1'!C411) -> Liên | F31: X | H31: X | I31: =COUNTIF(D31:H31,"X")*4 -> 8
A32: 22 | B32: =IF('Mau A1'!B431="","",'Mau A1'!B431) -> Nguyễn Thùy | C32: =IF('Mau A1'!C431="","",'Mau A1'!C431) -> Linh | D32: X | E32: X | F32: X | G32: X | H32: X | I32: =COUNTIF(D32:H32,"X")*4 -> 20
A33: 23 | B33: =IF('Mau A1'!B451="","",'Mau A1'!B451) -> Huỳnh Ngọc | C33: =IF('Mau A1'!C451="","",'Mau A1'!C451) -> Mai | D33: X | E33: X | F33: X | H33: X | I33: =COUNTIF(D33:H33,"X")*4 -> 16
A34: 24 | B34: =IF('Mau A1'!B471="","",'Mau A1'!B471) -> Đặng Đức | C34: =IF('Mau A1'!C471="","",'Mau A1'!C471) -> Minh | D34: X | F34: X | G34: X | H34: X | I34: =COUNTIF(D34:H34,"X")*4 -> 16
A35: 25 | B35: =IF('Mau A1'!B491="","",'Mau A1'!B491) -> Nguyễn Thị Tố | C35: =IF('Mau A1'!C491="","",'Mau A1'!C491) -> Nga | F35: X | G35: X | H35: X | I35: =COUNTIF(D35:H35,"X")*4 -> 12
A36: 26 | B36: =IF('Mau A1'!B511="","",'Mau A1'!B511) -> Nguyễn Trần Thanh | C36: =IF('Mau A1'!C511="","",'Mau A1'!C511) -> Nhàn | D36: X | E36: X | F36: X | G36: X | H36: X | I36: =COUNTIF(D36:H36,"X")*4 -> 20
A37: 27 | B37: =IF('Mau A1'!B531="","",'Mau A1'!B531) -> Đỗ Huỳnh Thanh | C37: =IF('Mau A1'!C531="","",'Mau A1'!C531) -> Phong | D37: X | E37: X | F37: X | G37: X | H37: X | I37: =COUNTIF(D37:H37,"X")*4 -> 20
A38: 28 | B38: =IF('Mau A1'!B551="","",'Mau A1'!B551) -> Nguyễn Anh | C38: =IF('Mau A1'!C551="","",'Mau A1'!C551) -> Tăng | D38: X | F38: X | H38: X | I38: =COUNTIF(D38:H38,"X")*4 -> 12
A39: 29 | B39: =IF('Mau A1'!B571="","",'Mau A1'!B571) -> Quách Minh | C39: =IF('Mau A1'!C571="","",'Mau A1'!C571) -> Thử | D39: X | E39: X | F39: X | H39: X | I39: =COUNTIF(D39:H39,"X")*4 -> 16
A40: 30 | B40: =IF('Mau A1'!B591="","",'Mau A1'!B591) -> Trần Công | C40: =IF('Mau A1'!C591="","",'Mau A1'!C591) -> Tiến | D40: X | E40: X | F40: X | G40: X | H40: X | I40: =COUNTIF(D40:H40,"X")*4 -> 20
A41: 31 | B41: =IF('Mau A1'!B611="","",'Mau A1'!B611) -> Bốc Minh | C41: =IF('Mau A1'!C611="","",'Mau A1'!C611) -> Trí | D41: X | E41: X | H41: X | I41: =COUNTIF(D41:H41,"X")*4 -> 12
A42: 32 | B42: =IF('Mau A1'!B631="","",'Mau A1'!B631) -> Nguyễn Trọng | C42: =IF('Mau A1'!C631="","",'Mau A1'!C631) -> Trí | D42: X | F42: X | G42: X | H42: X | I42: =COUNTIF(D42:H42,"X")*4 -> 16
...

Sheet Mau B1.2
J1: Mẫu B1. 2
A2: UBND THÀNH PHỐ HỒ CHÍ MINH | E2: CỘNG HÒA XÃ HỘI CHỦ NGHĨA VIỆT NAM
A3: TRƯỜNG CAO ĐẲNG KỸ THUẬT LÝ TỰ TRỌNG TP. HỒ CHÍ MINH | E3: Độc lập - Tự do - Hạnh phúc
A5: BẢNG TỔNG HỢP THAM QUAN THỰC TẾ
A6: NĂM HỌC 2014 - 2015
A7: KHOA: CÔNG NGHỆ ĐIỆN - ĐIỆN TỬ
A9: TT | B9: HỌ VÀ TÊN GIẢNG VIÊN | D9: THỜI GIAN THAM DỰ | I9: TỔNG SỐ GIỜ ĐƯỢC TÍNH | J9: GHI CHÚ
A11: 1 | B11: =IF('Mau A1'!B11="","",'Mau A1'!B11) -> Hồ Thị | C11: =IF('Mau A1'!C11="","",'Mau A1'!C11) -> Anh | I11: =COUNTIF(D11:H11,"X")*4 -> 0
A12: 2 | B12: =IF('Mau A1'!B31="","",'Mau A1'!B31) -> Ngô Hoàng | C12: =IF('Mau A1'!C31="","",'Mau A1'!C31) -> Anh | I12: =COUNTIF(D12:H12,"X")*4 -> 0
A13: 3 | B13: =IF('Mau A1'!B51="","",'Mau A1'!B51) -> Châu Văn | C13: =IF('Mau A1'!C51="","",'Mau A1'!C51) -> Bảo | I13: =COUNTIF(D13:H13,"X")*4 -> 0
A14: 4 | B14: =IF('Mau A1'!B71="","",'Mau A1'!B71) -> Vũ Hạnh | C14: =IF('Mau A1'!C71="","",'Mau A1'!C71) -> Chiêu | I14: =COUNTIF(D14:H14,"X")*4 -> 0
A15: 5 | B15: =IF('Mau A1'!B91="","",'Mau A1'!B91) -> Ngô Phong | C15: =IF('Mau A1'!C91="","",'Mau A1'!C91) -> Cường | I15: =COUNTIF(D15:H15,"X")*4 -> 0
A16: 6 | B16: =IF('Mau A1'!B111="","",'Mau A1'!B111) -> Nguyễn Minh Đức | C16: =IF('Mau A1'!C111="","",'Mau A1'!C111) -> Cường | I16: =COUNTIF(D16:H16,"X")*4 -> 0
A17: 7 | B17: =IF('Mau A1'!B131="","",'Mau A1'!B131) -> Tạ Minh | C17: =IF('Mau A1'!C131="","",'Mau A1'!C131) -> Cường | I17: =COUNTIF(D17:H17,"X")*4 -> 0
A18: 8 | B18: =IF('Mau A1'!B151="","",'Mau A1'!B151) -> Võ | C18: =IF('Mau A1'!C151="","",'Mau A1'!C151) -> Cường | I18: =COUNTIF(D18:H18,"X")*4 -> 0
A19: 9 | B19: =IF('Mau A1'!B171="","",'Mau A1'!B171) -> Nguyễn Thùy | C19: =IF('Mau A1'!C171="","",'Mau A1'!C171) -> Dương | I19: =COUNTIF(D19:H19,"X")*4 -> 0
A20: 10 | B20: =IF('Mau A1'!B191="","",'Mau A1'!B191) -> Lê Tiến | C20: =IF('Mau A1'!C191="","",'Mau A1'!C191) -> Đạt | I20: =COUNTIF(D20:H20,"X")*4 -> 0
A21: 11 | B21: =IF('Mau A1'!B211="","",'Mau A1'!B211) -> Nguyễn Hồng | C21: =IF('Mau A1'!C211="","",'Mau A1'!C211) -> Đức | I21: =COUNTIF(D21:H21,"X")*4 -> 0
A22: 12 | B22: =IF('Mau A1'!B231="","",'Mau A1'!B231) -> Nguyễn Minh | C22: =IF('Mau A1'!C231="","",'Mau A1'!C231) -> Đức (A) | I22: =COUNTIF(D22:H22,"X")*4 -> 0
A23: 13 | B23: =IF('Mau A1'!B251="","",'Mau A1'!B251) -> Nguyễn Minh | C23: =IF('Mau A1'!C251="","",'Mau A1'!C251) -> Đức (B) | I23: =COUNTIF(D23:H23,"X")*4 -> 0
A24: 14 | B24: =IF('Mau A1'!B271="","",'Mau A1'!B271) -> Nguyễn Thị Ngọc | C24: =IF('Mau A1'!C271="","",'Mau A1'!C271) -> Hiền | I24: =COUNTIF(D24:H24,"X")*4 -> 0
A25: 15 | B25: =IF('Mau A1'!B291="","",'Mau A1'!B291) -> Trần Trung | C25: =IF('Mau A1'!C291="","",'Mau A1'!C291) -> Hiếu | I25: =COUNTIF(D25:H25,"X")*4 -> 0
A26: 16 | B26: =IF('Mau A1'!B311="","",'Mau A1'!B311) -> Mạnh Lê | C26: =IF('Mau A1'!C311="","",'Mau A1'!C311) -> Hoàn | I26: =COUNTIF(D26:H26,"X")*4 -> 0
A27: 17 | B27: =IF('Mau A1'!B331="","",'Mau A1'!B331) -> Lê Thế | C27: =IF('Mau A1'!C331="","",'Mau A1'!C331) -> Huân | I27: =COUNTIF(D27:H27,"X")*4 -> 0
A28: 18 | B28: =IF('Mau A1'!B351="","",'Mau A1'!B351) -> Nguyễn Trọng | C28: =IF('Mau A1'!C351="","",'Mau A1'!C351) -> Huân | I28: =COUNTIF(D28:H28,"X")*4 -> 0
A29: 19 | B29: =IF('Mau A1'!B371="","",'Mau A1'!B371) -> Tăng Cẩm | C29: =IF('Mau A1'!C371="","",'Mau A1'!C371) -> Huê | I29: =COUNTIF(D29:H29,"X")*4 -> 0
A30: 20 | B30: =IF('Mau A1'!B391="","",'Mau A1'!B391) -> Trần Thị | C30: =IF('Mau A1'!C391="","",'Mau A1'!C391) -> Lệ | I30: =COUNTIF(D30:H30,"X")*4 -> 0
A31: 21 | B31: =IF('Mau A1'!B411="","",'Mau A1'!B411) -> Nguyễn Huỳnh | C31: =IF('Mau A1'!C411="","",'Mau A1'!C411) -> Liên | I31: =COUNTIF(D31:H31,"X")*4 -> 0
A32: 22 | B32: =IF('Mau A1'!B431="","",'Mau A1'!B431) -> Nguyễn Thùy | C32: =IF('Mau A1'!C431="","",'Mau A1'!C431) -> Linh | I32: =COUNTIF(D32:H32,"X")*4 -> 0
A33: 23 | B33: =IF('Mau A1'!B451="","",'Mau A1'!B451) -> Huỳnh Ngọc | C33: =IF('Mau A1'!C451="","",'Mau A1'!C451) -> Mai | I33: =COUNTIF(D33:H33,"X")*4 -> 0
A34: 24 | B34: =IF('Mau A1'!B471="","",'Mau A1'!B471) -> Đặng Đức | C34: =IF('Mau A1'!C471="","",'Mau A1'!C471) -> Minh | I34: =COUNTIF(D34:H34,"X")*4 -> 0
A35: 25 | B35: =IF('Mau A1'!B491="","",'Mau A1'!B491) -> Nguyễn Thị Tố | C35: =IF('Mau A1'!C491="","",'Mau A1'!C491) -> Nga | I35: =COUNTIF(D35:H35,"X")*4 -> 0
A36: 26 | B36: =IF('Mau A1'!B511="","",'Mau A1'!B511) -> Nguyễn Trần Thanh | C36: =IF('Mau A1'!C511="","",'Mau A1'!C511) -> Nhàn | I36: =COUNTIF(D36:H36,"X")*4 -> 0
A37: 27 | B37: =IF('Mau A1'!B531="","",'Mau A1'!B531) -> Đỗ Huỳnh Thanh | C37: =IF('Mau A1'!C531="","",'Mau A1'!C531) -> Phong | I37: =COUNTIF(D37:H37,"X")*4 -> 0
A38: 28 | B38: =IF('Mau A1'!B551="","",'Mau A1'!B551) -> Nguyễn Anh | C38: =IF('Mau A1'!C551="","",'Mau A1'!C551) -> Tăng | I38: =COUNTIF(D38:H38,"X")*4 -> 0
A39: 29 | B39: =IF('Mau A1'!B571="","",'Mau A1'!B571) -> Quách Minh | C39: =IF('Mau A1'!C571="","",'Mau A1'!C571) -> Thử | I39: =COUNTIF(D39:H39,"X")*4 -> 0
A40: 30 | B40: =IF('Mau A1'!B591="","",'Mau A1'!B591) -> Trần Công | C40: =IF('Mau A1'!C591="","",'Mau A1'!C591) -> Tiến | I40: =COUNTIF(D40:H40,"X")*4 -> 0
A41: 31 | B41: =IF('Mau A1'!B611="","",'Mau A1'!B611) -> Bốc Minh | C41: =IF('Mau A1'!C611="","",'Mau A1'!C611) -> Trí | I41: =COUNTIF(D41:H41,"X")*4 -> 0
A42: 32 | B42: =IF('Mau A1'!B631="","",'Mau A1'!B631) -> Nguyễn Trọng | C42: =IF('Mau A1'!C631="","",'Mau A1'!C631) -> Trí | I42: =COUNTIF(D42:H42,"X")*4 -> 0
